Workbook

Sheet 01 Instrucciones
A2: RCCP | PLANEACIÓN APROXIMADA DE CAPACIDAD | B2: RCCP | PLANEACIÓN APROXIMADA DE CAPACIDAD | C2: RCCP | PLANEACIÓN APROXIMADA DE CAPACIDAD | D2: RCCP | PLANEACIÓN APROXIMADA DE CAPACIDAD | E2: RCCP | PLANEACIÓN APROXIMADA DE CAPACIDAD | F2: RCCP | PLANEACIÓN APROXIMADA DE CAPACIDAD | G2: RCCP | PLANEACIÓN APROXIMADA DE CAPACIDAD | H2: RCCP | PLANEACIÓN APROXIMADA DE CAPACIDAD | I2: RCCP | PLANEACIÓN APROXIMADA DE CAPACIDAD | J2: RCCP | PLANEACIÓN APROXIMADA DE CAPACIDAD
A3: RCCP | PLANEACIÓN APROXIMADA DE CAPACIDAD | B3: RCCP | PLANEACIÓN APROXIMADA DE CAPACIDAD | C3: RCCP | PLANEACIÓN APROXIMADA DE CAPACIDAD | D3: RCCP | PLANEACIÓN APROXIMADA DE CAPACIDAD | E3: RCCP | PLANEACIÓN APROXIMADA DE CAPACIDAD | F3: RCCP | PLANEACIÓN APROXIMADA DE CAPACIDAD | G3: RCCP | PLANEACIÓN APROXIMADA DE CAPACIDAD | H3: RCCP | PLANEACIÓN APROXIMADA DE CAPACIDAD | I3: RCCP | PLANEACIÓN APROXIMADA DE CAPACIDAD | J3: RCCP | PLANEACIÓN APROXIMADA DE CAPACIDAD
A4: PLANTILLA GRATUITA · InfoExperiencia · nivel básico-intermedio · 8 productos × 4 recursos × 8 semanas | B4: PLANTILLA GRATUITA · InfoExperiencia · nivel básico-intermedio · 8 productos × 4 recursos × 8 semanas | C4: PLANTILLA GRATUITA · InfoExperiencia · nivel básico-intermedio · 8 productos × 4 recursos × 8 semanas | D4: PLANTILLA GRATUITA · InfoExperiencia · nivel básico-intermedio · 8 productos × 4 recursos × 8 semanas | E4: PLANTILLA GRATUITA · InfoExperiencia · nivel básico-intermedio · 8 productos × 4 recursos × 8 semanas | F4: PLANTILLA GRATUITA · InfoExperiencia · nivel básico-intermedio · 8 productos × 4 recursos × 8 semanas | G4: PLANTILLA GRATUITA · InfoExperiencia · nivel básico-intermedio · 8 productos × 4 recursos × 8 semanas | H4: PLANTILLA GRATUITA · InfoExperiencia · nivel básico-intermedio · 8 productos × 4 recursos × 8 semanas | I4: PLANTILLA GRATUITA · InfoExperiencia · nivel básico-intermedio · 8 productos × 4 recursos × 8 semanas | J4: PLANTILLA GRATUITA · InfoExperiencia · nivel básico-intermedio · 8 productos × 4 recursos × 8 semanas
L5: ¿Quieres llevar este análisis un paso más allá? Conoce los Sistemas Premium de InfoExperiencia: recursos prácticos diseñados para ayudarte a profundizar tus análisis, organizar mejor tu negocio y tomar decisiones con mayor claridad.
A6: EMPIEZA AQUÍ · QUÉ RESUELVE ESTA PLANTILLA | B6: EMPIEZA AQUÍ · QUÉ RESUELVE ESTA PLANTILLA | C6: EMPIEZA AQUÍ · QUÉ RESUELVE ESTA PLANTILLA | D6: EMPIEZA AQUÍ · QUÉ RESUELVE ESTA PLANTILLA | E6: EMPIEZA AQUÍ · QUÉ RESUELVE ESTA PLANTILLA | F6: EMPIEZA AQUÍ · QUÉ RESUELVE ESTA PLANTILLA | G6: EMPIEZA AQUÍ · QUÉ RESUELVE ESTA PLANTILLA | H6: EMPIEZA AQUÍ · QUÉ RESUELVE ESTA PLANTILLA | I6: EMPIEZA AQUÍ · QUÉ RESUELVE ESTA PLANTILLA | J6: EMPIEZA AQUÍ · QUÉ RESUELVE ESTA PLANTILLA
A7: Comprueba si las horas requeridas por tu plan maestro de producción (MPS) superan las horas disponibles de los recursos críticos. Identifica la semana, el recurso y la sobrecarga. Luego prueba un ajuste del MPS sin cambiar el plan original. | B7: Comprueba si las horas requeridas por tu plan maestro de producción (MPS) superan las horas disponibles de los recursos críticos. Identifica la semana, el recurso y la sobrecarga. Luego prueba un ajuste del MPS sin cambiar el plan original. | C7: Comprueba si las horas requeridas por tu plan maestro de producción (MPS) superan las horas disponibles de los recursos críticos. Identifica la semana, el recurso y la sobrecarga. Luego prueba un ajuste del MPS sin cambiar el plan original. | D7: Comprueba si las horas requeridas por tu plan maestro de producción (MPS) superan las horas disponibles de los recursos críticos. Identifica la semana, el recurso y la sobrecarga. Luego prueba un ajuste del MPS sin cambiar el plan original. | E7: Comprueba si las horas requeridas por tu plan maestro de producción (MPS) superan las horas disponibles de los recursos críticos. Identifica la semana, el recurso y la sobrecarga. Luego prueba un ajuste del MPS sin cambiar el plan original. | F7: Comprueba si las horas requeridas por tu plan maestro de producción (MPS) superan las horas disponibles de los recursos críticos. Identifica la semana, el recurso y la sobrecarga. Luego prueba un ajuste del MPS sin cambiar el plan original. | G7: Comprueba si las horas requeridas por tu plan maestro de producción (MPS) superan las horas disponibles de los recursos críticos. Identifica la semana, el recurso y la sobrecarga. Luego prueba un ajuste del MPS sin cambiar el plan original. | H7: Comprueba si las horas requeridas por tu plan maestro de producción (MPS) superan las horas disponibles de los recursos críticos. Identifica la semana, el recurso y la sobrecarga. Luego prueba un ajuste del MPS sin cambiar el plan original. | I7: Comprueba si las horas requeridas por tu plan maestro de producción (MPS) superan las horas disponibles de los recursos críticos. Identifica la semana, el recurso y la sobrecarga. Luego prueba un ajuste del MPS sin cambiar el plan original. | J7: Comprueba si las horas requeridas por tu plan maestro de producción (MPS) superan las horas disponibles de los recursos críticos. Identifica la semana, el recurso y la sobrecarga. Luego prueba un ajuste del MPS sin cambiar el plan original.
A8: Comprueba si las horas requeridas por tu plan maestro de producción (MPS) superan las horas disponibles de los recursos críticos. Identifica la semana, el recurso y la sobrecarga. Luego prueba un ajuste del MPS sin cambiar el plan original. | B8: Comprueba si las horas requeridas por tu plan maestro de producción (MPS) superan las horas disponibles de los recursos críticos. Identifica la semana, el recurso y la sobrecarga. Luego prueba un ajuste del MPS sin cambiar el plan original. | C8: Comprueba si las horas requeridas por tu plan maestro de producción (MPS) superan las horas disponibles de los recursos críticos. Identifica la semana, el recurso y la sobrecarga. Luego prueba un ajuste del MPS sin cambiar el plan original. | D8: Comprueba si las horas requeridas por tu plan maestro de producción (MPS) superan las horas disponibles de los recursos críticos. Identifica la semana, el recurso y la sobrecarga. Luego prueba un ajuste del MPS sin cambiar el plan original. | E8: Comprueba si las horas requeridas por tu plan maestro de producción (MPS) superan las horas disponibles de los recursos críticos. Identifica la semana, el recurso y la sobrecarga. Luego prueba un ajuste del MPS sin cambiar el plan original. | F8: Comprueba si las horas requeridas por tu plan maestro de producción (MPS) superan las horas disponibles de los recursos críticos. Identifica la semana, el recurso y la sobrecarga. Luego prueba un ajuste del MPS sin cambiar el plan original. | G8: Comprueba si las horas requeridas por tu plan maestro de producción (MPS) superan las horas disponibles de los recursos críticos. Identifica la semana, el recurso y la sobrecarga. Luego prueba un ajuste del MPS sin cambiar el plan original. | H8: Comprueba si las horas requeridas por tu plan maestro de producción (MPS) superan las horas disponibles de los recursos críticos. Identifica la semana, el recurso y la sobrecarga. Luego prueba un ajuste del MPS sin cambiar el plan original. | I8: Comprueba si las horas requeridas por tu plan maestro de producción (MPS) superan las horas disponibles de los recursos críticos. Identifica la semana, el recurso y la sobrecarga. Luego prueba un ajuste del MPS sin cambiar el plan original. | J8: Comprueba si las horas requeridas por tu plan maestro de producción (MPS) superan las horas disponibles de los recursos críticos. Identifica la semana, el recurso y la sobrecarga. Luego prueba un ajuste del MPS sin cambiar el plan original. | L8: https://infoexperiencia.com/sistemas-premium/
A10: ORDEN DE TRABAJO · COMPLETA SOLO LAS CELDAS AMARILLAS | B10: ORDEN DE TRABAJO · COMPLETA SOLO LAS CELDAS AMARILLAS | C10: ORDEN DE TRABAJO · COMPLETA SOLO LAS CELDAS AMARILLAS | D10: ORDEN DE TRABAJO · COMPLETA SOLO LAS CELDAS AMARILLAS | E10: ORDEN DE TRABAJO · COMPLETA SOLO LAS CELDAS AMARILLAS | F10: ORDEN DE TRABAJO · COMPLETA SOLO LAS CELDAS AMARILLAS | G10: ORDEN DE TRABAJO · COMPLETA SOLO LAS CELDAS AMARILLAS | H10: ORDEN DE TRABAJO · COMPLETA SOLO LAS CELDAS AMARILLAS | I10: ORDEN DE TRABAJO · COMPLETA SOLO LAS CELDAS AMARILLAS | J10: ORDEN DE TRABAJO · COMPLETA SOLO LAS CELDAS AMARILLAS
A12: 01 | B12: 03 MPS | C12: 03 MPS | D12: Escribe los nombres de productos y las cantidades previstas para cada una de las 8 semanas. | E12: Escribe los nombres de productos y las cantidades previstas para cada una de las 8 semanas. | F12: Escribe los nombres de productos y las cantidades previstas para cada una de las 8 semanas. | G12: Escribe los nombres de productos y las cantidades previstas para cada una de las 8 semanas. | H12: Escribe los nombres de productos y las cantidades previstas para cada una de las 8 semanas. | I12: Escribe los nombres de productos y las cantidades previstas para cada una de las 8 semanas. | J12: Escribe los nombres de productos y las cantidades previstas para cada una de las 8 semanas.
A13: 01 | B13: 03 MPS | C13: 03 MPS | D13: Escribe los nombres de productos y las cantidades previstas para cada una de las 8 semanas. | E13: Escribe los nombres de productos y las cantidades previstas para cada una de las 8 semanas. | F13: Escribe los nombres de productos y las cantidades previstas para cada una de las 8 semanas. | G13: Escribe los nombres de productos y las cantidades previstas para cada una de las 8 semanas. | H13: Escribe los nombres de productos y las cantidades previstas para cada una de las 8 semanas. | I13: Escribe los nombres de productos y las cantidades previstas para cada una de las 8 semanas. | J13: Escribe los nombres de productos y las cantidades previstas para cada una de las 8 semanas.
A15: 02 | B15: 05 Capacidad | C15: 05 Capacidad | D15: Define hasta 4 recursos críticos e introduce sus horas disponibles en cada semana. | E15: Define hasta 4 recursos críticos e introduce sus horas disponibles en cada semana. | F15: Define hasta 4 recursos críticos e introduce sus horas disponibles en cada semana. | G15: Define hasta 4 recursos críticos e introduce sus horas disponibles en cada semana. | H15: Define hasta 4 recursos críticos e introduce sus horas disponibles en cada semana. | I15: Define hasta 4 recursos críticos e introduce sus horas disponibles en cada semana. | J15: Define hasta 4 recursos críticos e introduce sus horas disponibles en cada semana.
A16: 02 | B16: 05 Capacidad | C16: 05 Capacidad | D16: Define hasta 4 recursos críticos e introduce sus horas disponibles en cada semana. | E16: Define hasta 4 recursos críticos e introduce sus horas disponibles en cada semana. | F16: Define hasta 4 recursos críticos e introduce sus horas disponibles en cada semana. | G16: Define hasta 4 recursos críticos e introduce sus horas disponibles en cada semana. | H16: Define hasta 4 recursos críticos e introduce sus horas disponibles en cada semana. | I16: Define hasta 4 recursos críticos e introduce sus horas disponibles en cada semana. | J16: Define hasta 4 recursos críticos e introduce sus horas disponibles en cada semana.
A18: 03 | B18: 04 Tiempos | C18: 04 Tiempos | D18: Escribe las horas que requiere una unidad de cada producto en cada recurso activo. Usa 0 si no lo utiliza. | E18: Escribe las horas que requiere una unidad de cada producto en cada recurso activo. Usa 0 si no lo utiliza. | F18: Escribe las horas que requiere una unidad de cada producto en cada recurso activo. Usa 0 si no lo utiliza. | G18: Escribe las horas que requiere una unidad de cada producto en cada recurso activo. Usa 0 si no lo utiliza. | H18: Escribe las horas que requiere una unidad de cada producto en cada recurso activo. Usa 0 si no lo utiliza. | I18: Escribe las horas que requiere una unidad de cada producto en cada recurso activo. Usa 0 si no lo utiliza. | J18: Escribe las horas que requiere una unidad de cada producto en cada recurso activo. Usa 0 si no lo utiliza.
A19: 03 | B19: 04 Tiempos | C19: 04 Tiempos | D19: Escribe las horas que requiere una unidad de cada producto en cada recurso activo. Usa 0 si no lo utiliza. | E19: Escribe las horas que requiere una unidad de cada producto en cada recurso activo. Usa 0 si no lo utiliza. | F19: Escribe las horas que requiere una unidad de cada producto en cada recurso activo. Usa 0 si no lo utiliza. | G19: Escribe las horas que requiere una unidad de cada producto en cada recurso activo. Usa 0 si no lo utiliza. | H19: Escribe las horas que requiere una unidad de cada producto en cada recurso activo. Usa 0 si no lo utiliza. | I19: Escribe las horas que requiere una unidad de cada producto en cada recurso activo. Usa 0 si no lo utiliza. | J19: Escribe las horas que requiere una unidad de cada producto en cada recurso activo. Usa 0 si no lo utiliza.
A21: 04 | B21: 06 Evaluacion | C21: 06 Evaluacion | D21: Revisa el diagnóstico: SOBRECARGA, SIN HOLGURA, CON HOLGURA o SIN ACTIVIDAD. | E21: Revisa el diagnóstico: SOBRECARGA, SIN HOLGURA, CON HOLGURA o SIN ACTIVIDAD. | F21: Revisa el diagnóstico: SOBRECARGA, SIN HOLGURA, CON HOLGURA o SIN ACTIVIDAD. | G21: Revisa el diagnóstico: SOBRECARGA, SIN HOLGURA, CON HOLGURA o SIN ACTIVIDAD. | H21: Revisa el diagnóstico: SOBRECARGA, SIN HOLGURA, CON HOLGURA o SIN ACTIVIDAD. | I21: Revisa el diagnóstico: SOBRECARGA, SIN HOLGURA, CON HOLGURA o SIN ACTIVIDAD. | J21: Revisa el diagnóstico: SOBRECARGA, SIN HOLGURA, CON HOLGURA o SIN ACTIVIDAD.
A22: 04 | B22: 06 Evaluacion | C22: 06 Evaluacion | D22: Revisa el diagnóstico: SOBRECARGA, SIN HOLGURA, CON HOLGURA o SIN ACTIVIDAD. | E22: Revisa el diagnóstico: SOBRECARGA, SIN HOLGURA, CON HOLGURA o SIN ACTIVIDAD. | F22: Revisa el diagnóstico: SOBRECARGA, SIN HOLGURA, CON HOLGURA o SIN ACTIVIDAD. | G22: Revisa el diagnóstico: SOBRECARGA, SIN HOLGURA, CON HOLGURA o SIN ACTIVIDAD. | H22: Revisa el diagnóstico: SOBRECARGA, SIN HOLGURA, CON HOLGURA o SIN ACTIVIDAD. | I22: Revisa el diagnóstico: SOBRECARGA, SIN HOLGURA, CON HOLGURA o SIN ACTIVIDAD. | J22: Revisa el diagnóstico: SOBRECARGA, SIN HOLGURA, CON HOLGURA o SIN ACTIVIDAD.
A24: 05 | B24: 07 Escenario | C24: 07 Escenario | D24: Registra solo la variación del MPS: cantidades negativas para restar y positivas para sumar. Analiza el resultado. | E24: Registra solo la variación del MPS: cantidades negativas para restar y positivas para sumar. Analiza el resultado. | F24: Registra solo la variación del MPS: cantidades negativas para restar y positivas para sumar. Analiza el resultado. | G24: Registra solo la variación del MPS: cantidades negativas para restar y positivas para sumar. Analiza el resultado. | H24: Registra solo la variación del MPS: cantidades negativas para restar y positivas para sumar. Analiza el resultado. | I24: Registra solo la variación del MPS: cantidades negativas para restar y positivas para sumar. Analiza el resultado. | J24: Registra solo la variación del MPS: cantidades negativas para restar y positivas para sumar. Analiza el resultado.
A25: 05 | B25: 07 Escenario | C25: 07 Escenario | D25: Registra solo la variación del MPS: cantidades negativas para restar y positivas para sumar. Analiza el resultado. | E25: Registra solo la variación del MPS: cantidades negativas para restar y positivas para sumar. Analiza el resultado. | F25: Registra solo la variación del MPS: cantidades negativas para restar y positivas para sumar. Analiza el resultado. | G25: Registra solo la variación del MPS: cantidades negativas para restar y positivas para sumar. Analiza el resultado. | H25: Registra solo la variación del MPS: cantidades negativas para restar y positivas para sumar. Analiza el resultado. | I25: Registra solo la variación del MPS: cantidades negativas para restar y positivas para sumar. Analiza el resultado. | J25: Registra solo la variación del MPS: cantidades negativas para restar y positivas para sumar. Analiza el resultado.
A28: CÓMO USAR EL EJEMPLO · FÁBRICA DE MESAS Y SILLAS | B28: CÓMO USAR EL EJEMPLO · FÁBRICA DE MESAS Y SILLAS | C28: CÓMO USAR EL EJEMPLO · FÁBRICA DE MESAS Y SILLAS | D28: CÓMO USAR EL EJEMPLO · FÁBRICA DE MESAS Y SILLAS | E28: CÓMO USAR EL EJEMPLO · FÁBRICA DE MESAS Y SILLAS | F28: CÓMO USAR EL EJEMPLO · FÁBRICA DE MESAS Y SILLAS | G28: CÓMO USAR EL EJEMPLO · FÁBRICA DE MESAS Y SILLAS | H28: CÓMO USAR EL EJEMPLO · FÁBRICA DE MESAS Y SILLAS | I28: CÓMO USAR EL EJEMPLO · FÁBRICA DE MESAS Y SILLAS | J28: CÓMO USAR EL EJEMPLO · FÁBRICA DE MESAS Y SILLAS
... A60: ETH Zurich RCCP: https://opess.ethz.ch/course/section-5-2/5-2-3c-rough-cut-capacity-planning-rccp/ | B60: ETH Zurich RCCP: https://opess.ethz.ch/course/section-5-2/5-2-3c-rough-cut-capacity-planning-rccp/ | C60: ETH Zurich RCCP: https://opess.ethz.ch/course/section-5-2/5-2-3c-rough-cut-capacity-planning-rccp/ | D60: ETH Zurich RCCP: https://opess.ethz.ch/course/section-5-2/5-2-3c-rough-cut-capacity-planning-rccp/ | E60: ETH Zurich RCCP: https://opess.ethz.ch/course/section-5-2/5-2-3c-rough-cut-capacity-planning-rccp/ | F60: ETH Zurich RCCP: https://opess.ethz.ch/course/section-5-2/5-2-3c-rough-cut-capacity-planning-rccp/ | G60: ETH Zurich RCCP: https://opess.ethz.ch/course/section-5-2/5-2-3c-rough-cut-capacity-planning-rccp/ | H60: ETH Zurich RCCP: https://opess.ethz.ch/course/section-5-2/5-2-3c-rough-cut-capacity-planning-rccp/ | I60: ETH Zurich RCCP: https://opess.ethz.ch/course/section-5-2/5-2-3c-rough-cut-capacity-planning-rccp/ | J60: ETH Zurich RCCP: https://opess.ethz.ch/course/section-5-2/5-2-3c-rough-cut-capacity-planning-rccp/

Sheet 02 Glosario
B2: GLOSARIO | RCCP | C2: GLOSARIO | RCCP | D2: GLOSARIO | RCCP
B3: GLOSARIO | RCCP | C3: GLOSARIO | RCCP | D3: GLOSARIO | RCCP
B4: Términos empleados en las siete hojas y en sus diagnósticos | C4: Términos empleados en las siete hojas y en sus diagnósticos | D4: Términos empleados en las siete hojas y en sus diagnósticos
F5: ¿Quieres llevar este análisis un paso más allá? Conoce los Sistemas Premium de InfoExperiencia: recursos prácticos diseñados para ayudarte a profundizar tus análisis, organizar mejor tu negocio y tomar decisiones con mayor claridad.
B7: Término | C7: Definición sencilla | D7: Dónde se usa
B8: RCCP | C8: Planeación aproximada de la capacidad: coteja la carga derivada del MPS con las horas disponibles de recursos críticos. | D8: Evaluación | F8: https://infoexperiencia.com/sistemas-premium/
B9: MPS / PMP | C9: Plan maestro o programa maestro de producción: unidades previstas de cada producto por semana. | D9: 03 MPS
B10: Producto | C10: Referencia que se desea fabricar; en el ejemplo, mesas y sillas. | D10: MPS / Tiempos
B11: Período / Semana (S1–S8) | C11: Intervalo para agrupar cantidades y horas de fabricación. S1 es la primera semana del horizonte. | D11: Todas las hojas operativas
B12: Recurso crítico | C12: Máquina, línea, centro de trabajo o equipo cuya capacidad se revisa para validar el MPS. | D12: Capacidad / Evaluación
B13: Horas por unidad (h/u) | C13: Horas de un recurso que requiere producir una unidad específica. | D13: 04 Tiempos
B14: Tiempo estándar | C14: Tiempo representativo utilizado para estimar la carga, bajo condiciones y supuestos definidos. | D14: 04 Tiempos
B15: Carga requerida (h) | C15: Suma de unidades MPS multiplicadas por horas por unidad, por recurso y semana. | D15: 06 Evaluacion / 07 Escenario
B16: Capacidad disponible (h) | C16: Horas que el recurso puede dedicar a producción en una semana, según los datos ingresados. | D16: 05 Capacidad
B17: Utilización (%) | C17: Carga requerida dividida entre capacidad disponible; indica cuánto se compromete el recurso. | D17: Evaluación / Escenario
B18: Holgura (h) | C18: Capacidad disponible menos carga requerida; un valor negativo indica horas faltantes. | D18: Evaluación / Escenario
B19: Sobrecarga | C19: La carga requerida es superior a la capacidad disponible; utilización mayor que 100 %. | D19: Diagnóstico
B20: SIN HOLGURA | C20: Carga requerida y capacidad disponible son iguales: no queda margen. | D20: Diagnóstico
... B35: CRP | C35: Planificación detallada de necesidades de capacidad; no está incluida en este archivo. | D35: Alcance

Sheet 03 MPS
A2: 03 | PLAN MAESTRO DE PRODUCCIÓN | B2: 03 | PLAN MAESTRO DE PRODUCCIÓN | C2: 03 | PLAN MAESTRO DE PRODUCCIÓN | D2: 03 | PLAN MAESTRO DE PRODUCCIÓN | E2: 03 | PLAN MAESTRO DE PRODUCCIÓN | F2: 03 | PLAN MAESTRO DE PRODUCCIÓN | G2: 03 | PLAN MAESTRO DE PRODUCCIÓN | H2: 03 | PLAN MAESTRO DE PRODUCCIÓN | I2: 03 | PLAN MAESTRO DE PRODUCCIÓN | J2: 03 | PLAN MAESTRO DE PRODUCCIÓN | K2: 03 | PLAN MAESTRO DE PRODUCCIÓN | L2: 03 | PLAN MAESTRO DE PRODUCCIÓN
A3: 03 | PLAN MAESTRO DE PRODUCCIÓN | B3: 03 | PLAN MAESTRO DE PRODUCCIÓN | C3: 03 | PLAN MAESTRO DE PRODUCCIÓN | D3: 03 | PLAN MAESTRO DE PRODUCCIÓN | E3: 03 | PLAN MAESTRO DE PRODUCCIÓN | F3: 03 | PLAN MAESTRO DE PRODUCCIÓN | G3: 03 | PLAN MAESTRO DE PRODUCCIÓN | H3: 03 | PLAN MAESTRO DE PRODUCCIÓN | I3: 03 | PLAN MAESTRO DE PRODUCCIÓN | J3: 03 | PLAN MAESTRO DE PRODUCCIÓN | K3: 03 | PLAN MAESTRO DE PRODUCCIÓN | L3: 03 | PLAN MAESTRO DE PRODUCCIÓN
A4: ENTRADA · Escribe productos y cantidades por semana. Usa 0 si no fabricarás ese producto en la semana. | B4: ENTRADA · Escribe productos y cantidades por semana. Usa 0 si no fabricarás ese producto en la semana. | C4: ENTRADA · Escribe productos y cantidades por semana. Usa 0 si no fabricarás ese producto en la semana. | D4: ENTRADA · Escribe productos y cantidades por semana. Usa 0 si no fabricarás ese producto en la semana. | E4: ENTRADA · Escribe productos y cantidades por semana. Usa 0 si no fabricarás ese producto en la semana. | F4: ENTRADA · Escribe productos y cantidades por semana. Usa 0 si no fabricarás ese producto en la semana. | G4: ENTRADA · Escribe productos y cantidades por semana. Usa 0 si no fabricarás ese producto en la semana. | H4: ENTRADA · Escribe productos y cantidades por semana. Usa 0 si no fabricarás ese producto en la semana. | I4: ENTRADA · Escribe productos y cantidades por semana. Usa 0 si no fabricarás ese producto en la semana. | J4: ENTRADA · Escribe productos y cantidades por semana. Usa 0 si no fabricarás ese producto en la semana. | K4: ENTRADA · Escribe productos y cantidades por semana. Usa 0 si no fabricarás ese producto en la semana. | L4: ENTRADA · Escribe productos y cantidades por semana. Usa 0 si no fabricarás ese producto en la semana.
A7: PASO 1 · EDITA LAS CELDAS AMARILLAS · MÁXIMO 8 PRODUCTOS | B7: PASO 1 · EDITA LAS CELDAS AMARILLAS · MÁXIMO 8 PRODUCTOS | C7: PASO 1 · EDITA LAS CELDAS AMARILLAS · MÁXIMO 8 PRODUCTOS | D7: PASO 1 · EDITA LAS CELDAS AMARILLAS · MÁXIMO 8 PRODUCTOS | E7: PASO 1 · EDITA LAS CELDAS AMARILLAS · MÁXIMO 8 PRODUCTOS | F7: PASO 1 · EDITA LAS CELDAS AMARILLAS · MÁXIMO 8 PRODUCTOS | G7: PASO 1 · EDITA LAS CELDAS AMARILLAS · MÁXIMO 8 PRODUCTOS | H7: PASO 1 · EDITA LAS CELDAS AMARILLAS · MÁXIMO 8 PRODUCTOS | I7: PASO 1 · EDITA LAS CELDAS AMARILLAS · MÁXIMO 8 PRODUCTOS | J7: PASO 1 · EDITA LAS CELDAS AMARILLAS · MÁXIMO 8 PRODUCTOS | K7: PASO 1 · EDITA LAS CELDAS AMARILLAS · MÁXIMO 8 PRODUCTOS | L7: PASO 1 · EDITA LAS CELDAS AMARILLAS · MÁXIMO 8 PRODUCTOS | N7: ¿Quieres llevar este análisis un paso más allá? Conoce los Sistemas Premium de InfoExperiencia: recursos prácticos diseñados para ayudarte a profundizar tus análisis, organizar mejor tu negocio y tomar decisiones con mayor claridad.
A8: Mantén productos con nombres únicos. Completa S1 a S8 para cada producto activo, incluso si la cantidad es 0. La plantilla evalúa esas mismas semanas en Capacidad y Escenario. | B8: Mantén productos con nombres únicos. Completa S1 a S8 para cada producto activo, incluso si la cantidad es 0. La plantilla evalúa esas mismas semanas en Capacidad y Escenario. | C8: Mantén productos con nombres únicos. Completa S1 a S8 para cada producto activo, incluso si la cantidad es 0. La plantilla evalúa esas mismas semanas en Capacidad y Escenario. | D8: Mantén productos con nombres únicos. Completa S1 a S8 para cada producto activo, incluso si la cantidad es 0. La plantilla evalúa esas mismas semanas en Capacidad y Escenario. | E8: Mantén productos con nombres únicos. Completa S1 a S8 para cada producto activo, incluso si la cantidad es 0. La plantilla evalúa esas mismas semanas en Capacidad y Escenario. | F8: Mantén productos con nombres únicos. Completa S1 a S8 para cada producto activo, incluso si la cantidad es 0. La plantilla evalúa esas mismas semanas en Capacidad y Escenario. | G8: Mantén productos con nombres únicos. Completa S1 a S8 para cada producto activo, incluso si la cantidad es 0. La plantilla evalúa esas mismas semanas en Capacidad y Escenario. | H8: Mantén productos con nombres únicos. Completa S1 a S8 para cada producto activo, incluso si la cantidad es 0. La plantilla evalúa esas mismas semanas en Capacidad y Escenario. | I8: Mantén productos con nombres únicos. Completa S1 a S8 para cada producto activo, incluso si la cantidad es 0. La plantilla evalúa esas mismas semanas en Capacidad y Escenario. | J8: Mantén productos con nombres únicos. Completa S1 a S8 para cada producto activo, incluso si la cantidad es 0. La plantilla evalúa esas mismas semanas en Capacidad y Escenario. | K8: Mantén productos con nombres únicos. Completa S1 a S8 para cada producto activo, incluso si la cantidad es 0. La plantilla evalúa esas mismas semanas en Capacidad y Escenario. | L8: Mantén productos con nombres únicos. Completa S1 a S8 para cada producto activo, incluso si la cantidad es 0. La plantilla evalúa esas mismas semanas en Capacidad y Escenario.
A9: Mantén productos con nombres únicos. Completa S1 a S8 para cada producto activo, incluso si la cantidad es 0. La plantilla evalúa esas mismas semanas en Capacidad y Escenario. | B9: Mantén productos con nombres únicos. Completa S1 a S8 para cada producto activo, incluso si la cantidad es 0. La plantilla evalúa esas mismas semanas en Capacidad y Escenario. | C9: Mantén productos con nombres únicos. Completa S1 a S8 para cada producto activo, incluso si la cantidad es 0. La plantilla evalúa esas mismas semanas en Capacidad y Escenario. | D9: Mantén productos con nombres únicos. Completa S1 a S8 para cada producto activo, incluso si la cantidad es 0. La plantilla evalúa esas mismas semanas en Capacidad y Escenario. | E9: Mantén productos con nombres únicos. Completa S1 a S8 para cada producto activo, incluso si la cantidad es 0. La plantilla evalúa esas mismas semanas en Capacidad y Escenario. | F9: Mantén productos con nombres únicos. Completa S1 a S8 para cada producto activo, incluso si la cantidad es 0. La plantilla evalúa esas mismas semanas en Capacidad y Escenario. | G9: Mantén productos con nombres únicos. Completa S1 a S8 para cada producto activo, incluso si la cantidad es 0. La plantilla evalúa esas mismas semanas en Capacidad y Escenario. | H9: Mantén productos con nombres únicos. Completa S1 a S8 para cada producto activo, incluso si la cantidad es 0. La plantilla evalúa esas mismas semanas en Capacidad y Escenario. | I9: Mantén productos con nombres únicos. Completa S1 a S8 para cada producto activo, incluso si la cantidad es 0. La plantilla evalúa esas mismas semanas en Capacidad y Escenario. | J9: Mantén productos con nombres únicos. Completa S1 a S8 para cada producto activo, incluso si la cantidad es 0. La plantilla evalúa esas mismas semanas en Capacidad y Escenario. | K9: Mantén productos con nombres únicos. Completa S1 a S8 para cada producto activo, incluso si la cantidad es 0. La plantilla evalúa esas mismas semanas en Capacidad y Escenario. | L9: Mantén productos con nombres únicos. Completa S1 a S8 para cada producto activo, incluso si la cantidad es 0. La plantilla evalúa esas mismas semanas en Capacidad y Escenario.
N10: https://infoexperiencia.com/sistemas-premium/
A11: CÓDIGO | B11: PRODUCTO | C11: S1 | D11: S2 | E11: S3 | F11: S4 | G11: S5 | H11: S6 | I11: S7 | J11: S8 | K11: TOTAL U. | L11: CONTROL
A12: P01 | B12: Mesa | C12: 80 | D12: 60 | E12: 0 | F12: 0 | G12: 0 | H12: 0 | I12: 0 | J12: 0 | K12: =IF(B12="","",SUM(C12:J12)) -> 140 | L12: =IF(B12="",IF(COUNT(C12:J12)>0,"REVISAR PRODUCTO",""),IF(COUNTIF($B$12:$B$19,B12)>1,"REVISAR DUPLICADO",IF(COUNT(C12:J12)<>8,"FALTAN SEMANAS",IF(MIN(C12:J12)<0,"REVISAR CANTIDAD","OK")))) -> OK
A13: P02 | B13: Silla | C13: 120 | D13: 100 | E13: 0 | F13: 0 | G13: 0 | H13: 0 | I13: 0 | J13: 0 | K13: =IF(B13="","",SUM(C13:J13)) -> 220 | L13: =IF(B13="",IF(COUNT(C13:J13)>0,"REVISAR PRODUCTO",""),IF(COUNTIF($B$12:$B$19,B13)>1,"REVISAR DUPLICADO",IF(COUNT(C13:J13)<>8,"FALTAN SEMANAS",IF(MIN(C13:J13)<0,"REVISAR CANTIDAD","OK")))) -> OK
A14: P03 | K14: =IF(B14="","",SUM(C14:J14)) | L14: =IF(B14="",IF(COUNT(C14:J14)>0,"REVISAR PRODUCTO",""),IF(COUNTIF($B$12:$B$19,B14)>1,"REVISAR DUPLICADO",IF(COUNT(C14:J14)<>8,"FALTAN SEMANAS",IF(MIN(C14:J14)<0,"REVISAR CANTIDAD","OK"))))
A15: P04 | K15: =IF(B15="","",SUM(C15:J15)) | L15: =IF(B15="",IF(COUNT(C15:J15)>0,"REVISAR PRODUCTO",""),IF(COUNTIF($B$12:$B$19,B15)>1,"REVISAR DUPLICADO",IF(COUNT(C15:J15)<>8,"FALTAN SEMANAS",IF(MIN(C15:J15)<0,"REVISAR CANTIDAD","OK"))))
A16: P05 | K16: =IF(B16="","",SUM(C16:J16)) | L16: =IF(B16="",IF(COUNT(C16:J16)>0,"REVISAR PRODUCTO",""),IF(COUNTIF($B$12:$B$19,B16)>1,"REVISAR DUPLICADO",IF(COUNT(C16:J16)<>8,"FALTAN SEMANAS",IF(MIN(C16:J16)<0,"REVISAR CANTIDAD","OK"))))
A17: P06 | K17: =IF(B17="","",SUM(C17:J17)) | L17: =IF(B17="",IF(COUNT(C17:J17)>0,"REVISAR PRODUCTO",""),IF(COUNTIF($B$12:$B$19,B17)>1,"REVISAR DUPLICADO",IF(COUNT(C17:J17)<>8,"FALTAN SEMANAS",IF(MIN(C17:J17)<0,"REVISAR CANTIDAD","OK"))))
A18: P07 | K18: =IF(B18="","",SUM(C18:J18)) | L18: =IF(B18="",IF(COUNT(C18:J18)>0,"REVISAR PRODUCTO",""),IF(COUNTIF($B$12:$B$19,B18)>1,"REVISAR DUPLICADO",IF(COUNT(C18:J18)<>8,"FALTAN SEMANAS",IF(MIN(C18:J18)<0,"REVISAR CANTIDAD","OK"))))
A19: P08 | K19: =IF(B19="","",SUM(C19:J19)) | L19: =IF(B19="",IF(COUNT(C19:J19)>0,"REVISAR PRODUCTO",""),IF(COUNTIF($B$12:$B$19,B19)>1,"REVISAR DUPLICADO",IF(COUNT(C19:J19)<>8,"FALTAN SEMANAS",IF(MIN(C19:J19)<0,"REVISAR CANTIDAD","OK"))))
A22: CONTROL DE CAPTURA | B22: CONTROL DE CAPTURA | C22: CONTROL DE CAPTURA | D22: CONTROL DE CAPTURA | E22: CONTROL DE CAPTURA | F22: CONTROL DE CAPTURA | G22: CONTROL DE CAPTURA | H22: CONTROL DE CAPTURA | I22: CONTROL DE CAPTURA | J22: CONTROL DE CAPTURA | K22: CONTROL DE CAPTURA | L22: CONTROL DE CAPTURA
A23: AMARILLO = entrada. AZUL CLARO = cálculo. Si borras los datos del ejemplo, elimina el nombre de los productos no usados y sus ocho cantidades. El total y el control no se modifican. | B23: AMARILLO = entrada. AZUL CLARO = cálculo. Si borras los datos del ejemplo, elimina el nombre de los productos no usados y sus ocho cantidades. El total y el control no se modifican. | C23: AMARILLO = entrada. AZUL CLARO = cálculo. Si borras los datos del ejemplo, elimina el nombre de los productos no usados y sus ocho cantidades. El total y el control no se modifican. | D23: AMARILLO = entrada. AZUL CLARO = cálculo. Si borras los datos del ejemplo, elimina el nombre de los productos no usados y sus ocho cantidades. El total y el control no se modifican. | E23: AMARILLO = entrada. AZUL CLARO = cálculo. Si borras los datos del ejemplo, elimina el nombre de los productos no usados y sus ocho cantidades. El total y el control no se modifican. | F23: AMARILLO = entrada. AZUL CLARO = cálculo. Si borras los datos del ejemplo, elimina el nombre de los productos no usados y sus ocho cantidades. El total y el control no se modifican. | G23: AMARILLO = entrada. AZUL CLARO = cálculo. Si borras los datos del ejemplo, elimina el nombre de los productos no usados y sus ocho cantidades. El total y el control no se modifican. | H23: AMARILLO = entrada. AZUL CLARO = cálculo. Si borras los datos del ejemplo, elimina el nombre de los productos no usados y sus ocho cantidades. El total y el control no se modifican. | I23: AMARILLO = entrada. AZUL CLARO = cálculo. Si borras los datos del ejemplo, elimina el nombre de los productos no usados y sus ocho cantidades. El total y el control no se modifican. | J23: AMARILLO = entrada. AZUL CLARO = cálculo. Si borras los datos del ejemplo, elimina el nombre de los productos no usados y sus ocho cantidades. El total y el control no se modifican. | K23: AMARILLO = entrada. AZUL CLARO = cálculo. Si borras los datos del ejemplo, elimina el nombre de los productos no usados y sus ocho cantidades. El total y el control no se modifican. | L23: AMARILLO = entrada. AZUL CLARO = cálculo. Si borras los datos del ejemplo, elimina el nombre de los productos no usados y sus ocho cantidades. El total y el control no se modifican.
A24: AMARILLO = entrada. AZUL CLARO = cálculo. Si borras los datos del ejemplo, elimina el nombre de los productos no usados y sus ocho cantidades. El total y el control no se modifican. | B24: AMARILLO = entrada. AZUL CLARO = cálculo. Si borras los datos del ejemplo, elimina el nombre de los productos no usados y sus ocho cantidades. El total y el control no se modifican. | C24: AMARILLO = entrada. AZUL CLARO = cálculo. Si borras los datos del ejemplo, elimina el nombre de los productos no usados y sus ocho cantidades. El total y el control no se modifican. | D24: AMARILLO = entrada. AZUL CLARO = cálculo. Si borras los datos del ejemplo, elimina el nombre de los productos no usados y sus ocho cantidades. El total y el control no se modifican. | E24: AMARILLO = entrada. AZUL CLARO = cálculo. Si borras los datos del ejemplo, elimina el nombre de los productos no usados y sus ocho cantidades. El total y el control no se modifican. | F24: AMARILLO = entrada. AZUL CLARO = cálculo. Si borras los datos del ejemplo, elimina el nombre de los productos no usados y sus ocho cantidades. El total y el control no se modifican. | G24: AMARILLO = entrada. AZUL CLARO = cálculo. Si borras los datos del ejemplo, elimina el nombre de los productos no usados y sus ocho cantidades. El total y el control no se modifican. | H24: AMARILLO = entrada. AZUL CLARO = cálculo. Si borras los datos del ejemplo, elimina el nombre de los productos no usados y sus ocho cantidades. El total y el control no se modifican. | I24: AMARILLO = entrada. AZUL CLARO = cálculo. Si borras los datos del ejemplo, elimina el nombre de los productos no usados y sus ocho cantidades. El total y el control no se modifican. | J24: AMARILLO = entrada. AZUL CLARO = cálculo. Si borras los datos del ejemplo, elimina el nombre de los productos no usados y sus ocho cantidades. El total y el control no se modifican. | K24: AMARILLO = entrada. AZUL CLARO = cálculo. Si borras los datos del ejemplo, elimina el nombre de los productos no usados y sus ocho cantidades. El total y el control no se modifican. | L24: AMARILLO = entrada. AZUL CLARO = cálculo. Si borras los datos del ejemplo, elimina el nombre de los productos no usados y sus ocho cantidades. El total y el control no se modifican.

Sheet 04 Tiempos
B2: 04 | HORAS POR PRODUCTO Y RECURSO | C2: 04 | HORAS POR PRODUCTO Y RECURSO | D2: 04 | HORAS POR PRODUCTO Y RECURSO | E2: 04 | HORAS POR PRODUCTO Y RECURSO | F2: 04 | HORAS POR PRODUCTO Y RECURSO | G2: 04 | HORAS POR PRODUCTO Y RECURSO | H2: 04 | HORAS POR PRODUCTO Y RECURSO
B3: 04 | HORAS POR PRODUCTO Y RECURSO | C3: 04 | HORAS POR PRODUCTO Y RECURSO | D3: 04 | HORAS POR PRODUCTO Y RECURSO | E3: 04 | HORAS POR PRODUCTO Y RECURSO | F3: 04 | HORAS POR PRODUCTO Y RECURSO | G3: 04 | HORAS POR PRODUCTO Y RECURSO | H3: 04 | HORAS POR PRODUCTO Y RECURSO
B4: ENTRADA · Escribe horas por unidad (h/u); los nombres de producto y recurso se toman automáticamente. | C4: ENTRADA · Escribe horas por unidad (h/u); los nombres de producto y recurso se toman automáticamente. | D4: ENTRADA · Escribe horas por unidad (h/u); los nombres de producto y recurso se toman automáticamente. | E4: ENTRADA · Escribe horas por unidad (h/u); los nombres de producto y recurso se toman automáticamente. | F4: ENTRADA · Escribe horas por unidad (h/u); los nombres de producto y recurso se toman automáticamente. | G4: ENTRADA · Escribe horas por unidad (h/u); los nombres de producto y recurso se toman automáticamente. | H4: ENTRADA · Escribe horas por unidad (h/u); los nombres de producto y recurso se toman automáticamente.
I5: ¿Quieres llevar este análisis un paso más allá? Conoce los Sistemas Premium de InfoExperiencia: recursos prácticos diseñados para ayudarte a profundizar tus análisis, organizar mejor tu negocio y tomar decisiones con mayor claridad.
B7: PASO 3 · CARGA UNITARIA DE LOS RECURSOS | C7: PASO 3 · CARGA UNITARIA DE LOS RECURSOS | D7: PASO 3 · CARGA UNITARIA DE LOS RECURSOS | E7: PASO 3 · CARGA UNITARIA DE LOS RECURSOS | F7: PASO 3 · CARGA UNITARIA DE LOS RECURSOS | G7: PASO 3 · CARGA UNITARIA DE LOS RECURSOS | H7: PASO 3 · CARGA UNITARIA DE LOS RECURSOS
B8: Escribe un tiempo numérico para cada cruce de producto y recurso activos. Si el producto no necesita un recurso, escribe 0. Las celdas vacías en cruces activos aparecen como FALTAN TIEMPOS. | C8: Escribe un tiempo numérico para cada cruce de producto y recurso activos. Si el producto no necesita un recurso, escribe 0. Las celdas vacías en cruces activos aparecen como FALTAN TIEMPOS. | D8: Escribe un tiempo numérico para cada cruce de producto y recurso activos. Si el producto no necesita un recurso, escribe 0. Las celdas vacías en cruces activos aparecen como FALTAN TIEMPOS. | E8: Escribe un tiempo numérico para cada cruce de producto y recurso activos. Si el producto no necesita un recurso, escribe 0. Las celdas vacías en cruces activos aparecen como FALTAN TIEMPOS. | F8: Escribe un tiempo numérico para cada cruce de producto y recurso activos. Si el producto no necesita un recurso, escribe 0. Las celdas vacías en cruces activos aparecen como FALTAN TIEMPOS. | G8: Escribe un tiempo numérico para cada cruce de producto y recurso activos. Si el producto no necesita un recurso, escribe 0. Las celdas vacías en cruces activos aparecen como FALTAN TIEMPOS. | H8: Escribe un tiempo numérico para cada cruce de producto y recurso activos. Si el producto no necesita un recurso, escribe 0. Las celdas vacías en cruces activos aparecen como FALTAN TIEMPOS. | I8: https://infoexperiencia.com/sistemas-premium/
B9: Escribe un tiempo numérico para cada cruce de producto y recurso activos. Si el producto no necesita un recurso, escribe 0. Las celdas vacías en cruces activos aparecen como FALTAN TIEMPOS. | C9: Escribe un tiempo numérico para cada cruce de producto y recurso activos. Si el producto no necesita un recurso, escribe 0. Las celdas vacías en cruces activos aparecen como FALTAN TIEMPOS. | D9: Escribe un tiempo numérico para cada cruce de producto y recurso activos. Si el producto no necesita un recurso, escribe 0. Las celdas vacías en cruces activos aparecen como FALTAN TIEMPOS. | E9: Escribe un tiempo numérico para cada cruce de producto y recurso activos. Si el producto no necesita un recurso, escribe 0. Las celdas vacías en cruces activos aparecen como FALTAN TIEMPOS. | F9: Escribe un tiempo numérico para cada cruce de producto y recurso activos. Si el producto no necesita un recurso, escribe 0. Las celdas vacías en cruces activos aparecen como FALTAN TIEMPOS. | G9: Escribe un tiempo numérico para cada cruce de producto y recurso activos. Si el producto no necesita un recurso, escribe 0. Las celdas vacías en cruces activos aparecen como FALTAN TIEMPOS. | H9: Escribe un tiempo numérico para cada cruce de producto y recurso activos. Si el producto no necesita un recurso, escribe 0. Las celdas vacías en cruces activos aparecen como FALTAN TIEMPOS.
B11: CÓDIGO | C11: PRODUCTO | D11: =IF('05 Capacidad'!A12="","RECURSO LIBRE",'05 Capacidad'!A12) -> Corte | E11: =IF('05 Capacidad'!A13="","RECURSO LIBRE",'05 Capacidad'!A13) -> Ensamblaje | F11: =IF('05 Capacidad'!A14="","RECURSO LIBRE",'05 Capacidad'!A14) -> RECURSO LIBRE | G11: =IF('05 Capacidad'!A15="","RECURSO LIBRE",'05 Capacidad'!A15) -> RECURSO LIBRE | H11: CONTROL
B12: ='03 MPS'!A12 -> P01 | C12: =IF('03 MPS'!B12="","",'03 MPS'!B12) -> Mesa | D12: 0.5 | E12: 0.6 | H12: =IF(C12="",IF(COUNT(D12:G12)>0,"REVISAR PRODUCTO",""),IF(OR(AND('05 Capacidad'!$A$12="",D12<>""),AND('05 Capacidad'!$A$13="",E12<>""),AND('05 Capacidad'!$A$14="",F12<>""),AND('05 Capacidad'!$A$15="",G12<>"")),"REVISAR RECURSO",IF(OR(AND('05 Capacidad'!$A$12<>"",NOT(ISNUMBER(D12))),AND('05 Capacidad'!$A$13<>"",NOT(ISNUMBER(E12))),AND('05 Capacidad'!$A$14<>"",NOT(ISNUMBER(F12))),AND('05 Capacidad'!$A$15<>"",NOT(ISNUMBER(G12)))),"FALTAN TIEMPOS",IF(MIN(D12:G12)<0,"REVISAR TIEMPOS","OK")))) -> OK
B13: ='03 MPS'!A13 -> P02 | C13: =IF('03 MPS'!B13="","",'03 MPS'!B13) -> Silla | D13: 0.25 | E13: 0.15 | H13: =IF(C13="",IF(COUNT(D13:G13)>0,"REVISAR PRODUCTO",""),IF(OR(AND('05 Capacidad'!$A$12="",D13<>""),AND('05 Capacidad'!$A$13="",E13<>""),AND('05 Capacidad'!$A$14="",F13<>""),AND('05 Capacidad'!$A$15="",G13<>"")),"REVISAR RECURSO",IF(OR(AND('05 Capacidad'!$A$12<>"",NOT(ISNUMBER(D13))),AND('05 Capacidad'!$A$13<>"",NOT(ISNUMBER(E13))),AND('05 Capacidad'!$A$14<>"",NOT(ISNUMBER(F13))),AND('05 Capacidad'!$A$15<>"",NOT(ISNUMBER(G13)))),"FALTAN TIEMPOS",IF(MIN(D13:G13)<0,"REVISAR TIEMPOS","OK")))) -> OK
B14: ='03 MPS'!A14 -> P03 | C14: =IF('03 MPS'!B14="","",'03 MPS'!B14) | H14: =IF(C14="",IF(COUNT(D14:G14)>0,"REVISAR PRODUCTO",""),IF(OR(AND('05 Capacidad'!$A$12="",D14<>""),AND('05 Capacidad'!$A$13="",E14<>""),AND('05 Capacidad'!$A$14="",F14<>""),AND('05 Capacidad'!$A$15="",G14<>"")),"REVISAR RECURSO",IF(OR(AND('05 Capacidad'!$A$12<>"",NOT(ISNUMBER(D14))),AND('05 Capacidad'!$A$13<>"",NOT(ISNUMBER(E14))),AND('05 Capacidad'!$A$14<>"",NOT(ISNUMBER(F14))),AND('05 Capacidad'!$A$15<>"",NOT(ISNUMBER(G14)))),"FALTAN TIEMPOS",IF(MIN(D14:G14)<0,"REVISAR TIEMPOS","OK"))))
B15: ='03 MPS'!A15 -> P04 | C15: =IF('03 MPS'!B15="","",'03 MPS'!B15) | H15: =IF(C15="",IF(COUNT(D15:G15)>0,"REVISAR PRODUCTO",""),IF(OR(AND('05 Capacidad'!$A$12="",D15<>""),AND('05 Capacidad'!$A$13="",E15<>""),AND('05 Capacidad'!$A$14="",F15<>""),AND('05 Capacidad'!$A$15="",G15<>"")),"REVISAR RECURSO",IF(OR(AND('05 Capacidad'!$A$12<>"",NOT(ISNUMBER(D15))),AND('05 Capacidad'!$A$13<>"",NOT(ISNUMBER(E15))),AND('05 Capacidad'!$A$14<>"",NOT(ISNUMBER(F15))),AND('05 Capacidad'!$A$15<>"",NOT(ISNUMBER(G15)))),"FALTAN TIEMPOS",IF(MIN(D15:G15)<0,"REVISAR TIEMPOS","OK"))))
B16: ='03 MPS'!A16 -> P05 | C16: =IF('03 MPS'!B16="","",'03 MPS'!B16) | H16: =IF(C16="",IF(COUNT(D16:G16)>0,"REVISAR PRODUCTO",""),IF(OR(AND('05 Capacidad'!$A$12="",D16<>""),AND('05 Capacidad'!$A$13="",E16<>""),AND('05 Capacidad'!$A$14="",F16<>""),AND('05 Capacidad'!$A$15="",G16<>"")),"REVISAR RECURSO",IF(OR(AND('05 Capacidad'!$A$12<>"",NOT(ISNUMBER(D16))),AND('05 Capacidad'!$A$13<>"",NOT(ISNUMBER(E16))),AND('05 Capacidad'!$A$14<>"",NOT(ISNUMBER(F16))),AND('05 Capacidad'!$A$15<>"",NOT(ISNUMBER(G16)))),"FALTAN TIEMPOS",IF(MIN(D16:G16)<0,"REVISAR TIEMPOS","OK"))))
B17: ='03 MPS'!A17 -> P06 | C17: =IF('03 MPS'!B17="","",'03 MPS'!B17) | H17: =IF(C17="",IF(COUNT(D17:G17)>0,"REVISAR PRODUCTO",""),IF(OR(AND('05 Capacidad'!$A$12="",D17<>""),AND('05 Capacidad'!$A$13="",E17<>""),AND('05 Capacidad'!$A$14="",F17<>""),AND('05 Capacidad'!$A$15="",G17<>"")),"REVISAR RECURSO",IF(OR(AND('05 Capacidad'!$A$12<>"",NOT(ISNUMBER(D17))),AND('05 Capacidad'!$A$13<>"",NOT(ISNUMBER(E17))),AND('05 Capacidad'!$A$14<>"",NOT(ISNUMBER(F17))),AND('05 Capacidad'!$A$15<>"",NOT(ISNUMBER(G17)))),"FALTAN TIEMPOS",IF(MIN(D17:G17)<0,"REVISAR TIEMPOS","OK"))))
B18: ='03 MPS'!A18 -> P07 | C18: =IF('03 MPS'!B18="","",'03 MPS'!B18) | H18: =IF(C18="",IF(COUNT(D18:G18)>0,"REVISAR PRODUCTO",""),IF(OR(AND('05 Capacidad'!$A$12="",D18<>""),AND('05 Capacidad'!$A$13="",E18<>""),AND('05 Capacidad'!$A$14="",F18<>""),AND('05 Capacidad'!$A$15="",G18<>"")),"REVISAR RECURSO",IF(OR(AND('05 Capacidad'!$A$12<>"",NOT(ISNUMBER(D18))),AND('05 Capacidad'!$A$13<>"",NOT(ISNUMBER(E18))),AND('05 Capacidad'!$A$14<>"",NOT(ISNUMBER(F18))),AND('05 Capacidad'!$A$15<>"",NOT(ISNUMBER(G18)))),"FALTAN TIEMPOS",IF(MIN(D18:G18)<0,"REVISAR TIEMPOS","OK"))))
B19: ='03 MPS'!A19 -> P08 | C19: =IF('03 MPS'!B19="","",'03 MPS'!B19) | H19: =IF(C19="",IF(COUNT(D19:G19)>0,"REVISAR PRODUCTO",""),IF(OR(AND('05 Capacidad'!$A$12="",D19<>""),AND('05 Capacidad'!$A$13="",E19<>""),AND('05 Capacidad'!$A$14="",F19<>""),AND('05 Capacidad'!$A$15="",G19<>"")),"REVISAR RECURSO",IF(OR(AND('05 Capacidad'!$A$12<>"",NOT(ISNUMBER(D19))),AND('05 Capacidad'!$A$13<>"",NOT(ISNUMBER(E19))),AND('05 Capacidad'!$A$14<>"",NOT(ISNUMBER(F19))),AND('05 Capacidad'!$A$15<>"",NOT(ISNUMBER(G19)))),"FALTAN TIEMPOS",IF(MIN(D19:G19)<0,"REVISAR TIEMPOS","OK"))))
B22: EJEMPLO · DATOS DE LA ENTRADA | C22: EJEMPLO · DATOS DE LA ENTRADA | D22: EJEMPLO · DATOS DE LA ENTRADA | E22: EJEMPLO · DATOS DE LA ENTRADA | F22: EJEMPLO · DATOS DE LA ENTRADA | G22: EJEMPLO · DATOS DE LA ENTRADA | H22: EJEMPLO · DATOS DE LA ENTRADA
B23: Mesa: 0,50 h en Corte y 0,60 h en Ensamblaje. Silla: 0,25 h en Corte y 0,15 h en Ensamblaje. No escribas tiempos de recursos que no tienen nombre en Capacidad. | C23: Mesa: 0,50 h en Corte y 0,60 h en Ensamblaje. Silla: 0,25 h en Corte y 0,15 h en Ensamblaje. No escribas tiempos de recursos que no tienen nombre en Capacidad. | D23: Mesa: 0,50 h en Corte y 0,60 h en Ensamblaje. Silla: 0,25 h en Corte y 0,15 h en Ensamblaje. No escribas tiempos de recursos que no tienen nombre en Capacidad. | E23: Mesa: 0,50 h en Corte y 0,60 h en Ensamblaje. Silla: 0,25 h en Corte y 0,15 h en Ensamblaje. No escribas tiempos de recursos que no tienen nombre en Capacidad. | F23: Mesa: 0,50 h en Corte y 0,60 h en Ensamblaje. Silla: 0,25 h en Corte y 0,15 h en Ensamblaje. No escribas tiempos de recursos que no tienen nombre en Capacidad. | G23: Mesa: 0,50 h en Corte y 0,60 h en Ensamblaje. Silla: 0,25 h en Corte y 0,15 h en Ensamblaje. No escribas tiempos de recursos que no tienen nombre en Capacidad. | H23: Mesa: 0,50 h en Corte y 0,60 h en Ensamblaje. Silla: 0,25 h en Corte y 0,15 h en Ensamblaje. No escribas tiempos de recursos que no tienen nombre en Capacidad.
B24: Mesa: 0,50 h en Corte y 0,60 h en Ensamblaje. Silla: 0,25 h en Corte y 0,15 h en Ensamblaje. No escribas tiempos de recursos que no tienen nombre en Capacidad. | C24: Mesa: 0,50 h en Corte y 0,60 h en Ensamblaje. Silla: 0,25 h en Corte y 0,15 h en Ensamblaje. No escribas tiempos de recursos que no tienen nombre en Capacidad. | D24: Mesa: 0,50 h en Corte y 0,60 h en Ensamblaje. Silla: 0,25 h en Corte y 0,15 h en Ensamblaje. No escribas tiempos de recursos que no tienen nombre en Capacidad. | E24: Mesa: 0,50 h en Corte y 0,60 h en Ensamblaje. Silla: 0,25 h en Corte y 0,15 h en Ensamblaje. No escribas tiempos de recursos que no tienen nombre en Capacidad. | F24: Mesa: 0,50 h en Corte y 0,60 h en Ensamblaje. Silla: 0,25 h en Corte y 0,15 h en Ensamblaje. No escribas tiempos de recursos que no tienen nombre en Capacidad. | G24: Mesa: 0,50 h en Corte y 0,60 h en Ensamblaje. Silla: 0,25 h en Corte y 0,15 h en Ensamblaje. No escribas tiempos de recursos que no tienen nombre en Capacidad. | H24: Mesa: 0,50 h en Corte y 0,60 h en Ensamblaje. Silla: 0,25 h en Corte y 0,15 h en Ensamblaje. No escribas tiempos de recursos que no tienen nombre en Capacidad.
B25: Mesa: 0,50 h en Corte y 0,60 h en Ensamblaje. Silla: 0,25 h en Corte y 0,15 h en Ensamblaje. No escribas tiempos de recursos que no tienen nombre en Capacidad. | C25: Mesa: 0,50 h en Corte y 0,60 h en Ensamblaje. Silla: 0,25 h en Corte y 0,15 h en Ensamblaje. No escribas tiempos de recursos que no tienen nombre en Capacidad. | D25: Mesa: 0,50 h en Corte y 0,60 h en Ensamblaje. Silla: 0,25 h en Corte y 0,15 h en Ensamblaje. No escribas tiempos de recursos que no tienen nombre en Capacidad. | E25: Mesa: 0,50 h en Corte y 0,60 h en Ensamblaje. Silla: 0,25 h en Corte y 0,15 h en Ensamblaje. No escribas tiempos de recursos que no tienen nombre en Capacidad. | F25: Mesa: 0,50 h en Corte y 0,60 h en Ensamblaje. Silla: 0,25 h en Corte y 0,15 h en Ensamblaje. No escribas tiempos de recursos que no tienen nombre en Capacidad. | G25: Mesa: 0,50 h en Corte y 0,60 h en Ensamblaje. Silla: 0,25 h en Corte y 0,15 h en Ensamblaje. No escribas tiempos de recursos que no tienen nombre en Capacidad. | H25: Mesa: 0,50 h en Corte y 0,60 h en Ensamblaje. Silla: 0,25 h en Corte y 0,15 h en Ensamblaje. No escribas tiempos de recursos que no tienen nombre en Capacidad.

Sheet 05 Capacidad
A2: 05 | CAPACIDAD DISPONIBLE | B2: 05 | CAPACIDAD DISPONIBLE | C2: 05 | CAPACIDAD DISPONIBLE | D2: 05 | CAPACIDAD DISPONIBLE | E2: 05 | CAPACIDAD DISPONIBLE | F2: 05 | CAPACIDAD DISPONIBLE | G2: 05 | CAPACIDAD DISPONIBLE | H2: 05 | CAPACIDAD DISPONIBLE | I2: 05 | CAPACIDAD DISPONIBLE | J2: 05 | CAPACIDAD DISPONIBLE | K2: 05 | CAPACIDAD DISPONIBLE
A3: 05 | CAPACIDAD DISPONIBLE | B3: 05 | CAPACIDAD DISPONIBLE | C3: 05 | CAPACIDAD DISPONIBLE | D3: 05 | CAPACIDAD DISPONIBLE | E3: 05 | CAPACIDAD DISPONIBLE | F3: 05 | CAPACIDAD DISPONIBLE | G3: 05 | CAPACIDAD DISPONIBLE | H3: 05 | CAPACIDAD DISPONIBLE | I3: 05 | CAPACIDAD DISPONIBLE | J3: 05 | CAPACIDAD DISPONIBLE | K3: 05 | CAPACIDAD DISPONIBLE
A4: ENTRADA · Nombra hasta 4 recursos críticos y registra las horas reales disponibles por semana. | B4: ENTRADA · Nombra hasta 4 recursos críticos y registra las horas reales disponibles por semana. | C4: ENTRADA · Nombra hasta 4 recursos críticos y registra las horas reales disponibles por semana. | D4: ENTRADA · Nombra hasta 4 recursos críticos y registra las horas reales disponibles por semana. | E4: ENTRADA · Nombra hasta 4 recursos críticos y registra las horas reales disponibles por semana. | F4: ENTRADA · Nombra hasta 4 recursos críticos y registra las horas reales disponibles por semana. | G4: ENTRADA · Nombra hasta 4 recursos críticos y registra las horas reales disponibles por semana. | H4: ENTRADA · Nombra hasta 4 recursos críticos y registra las horas reales disponibles por semana. | I4: ENTRADA · Nombra hasta 4 recursos críticos y registra las horas reales disponibles por semana. | J4: ENTRADA · Nombra hasta 4 recursos críticos y registra las horas reales disponibles por semana. | K4: ENTRADA · Nombra hasta 4 recursos críticos y registra las horas reales disponibles por semana.
M5: ¿Quieres llevar este análisis un paso más allá? Conoce los Sistemas Premium de InfoExperiencia: recursos prácticos diseñados para ayudarte a profundizar tus análisis, organizar mejor tu negocio y tomar decisiones con mayor claridad.
A7: PASO 2 · CAPACIDAD POR CENTRO DE TRABAJO | B7: PASO 2 · CAPACIDAD POR CENTRO DE TRABAJO | C7: PASO 2 · CAPACIDAD POR CENTRO DE TRABAJO | D7: PASO 2 · CAPACIDAD POR CENTRO DE TRABAJO | E7: PASO 2 · CAPACIDAD POR CENTRO DE TRABAJO | F7: PASO 2 · CAPACIDAD POR CENTRO DE TRABAJO | G7: PASO 2 · CAPACIDAD POR CENTRO DE TRABAJO | H7: PASO 2 · CAPACIDAD POR CENTRO DE TRABAJO | I7: PASO 2 · CAPACIDAD POR CENTRO DE TRABAJO | J7: PASO 2 · CAPACIDAD POR CENTRO DE TRABAJO | K7: PASO 2 · CAPACIDAD POR CENTRO DE TRABAJO
A8: Las horas de cada recurso deben representar su disponibilidad real. Completa las ocho semanas para cada recurso activo; escribe 0 si no estará disponible. Evita descontar dos veces pérdidas ya incluidas en tus tiempos estándar. | B8: Las horas de cada recurso deben representar su disponibilidad real. Completa las ocho semanas para cada recurso activo; escribe 0 si no estará disponible. Evita descontar dos veces pérdidas ya incluidas en tus tiempos estándar. | C8: Las horas de cada recurso deben representar su disponibilidad real. Completa las ocho semanas para cada recurso activo; escribe 0 si no estará disponible. Evita descontar dos veces pérdidas ya incluidas en tus tiempos estándar. | D8: Las horas de cada recurso deben representar su disponibilidad real. Completa las ocho semanas para cada recurso activo; escribe 0 si no estará disponible. Evita descontar dos veces pérdidas ya incluidas en tus tiempos estándar. | E8: Las horas de cada recurso deben representar su disponibilidad real. Completa las ocho semanas para cada recurso activo; escribe 0 si no estará disponible. Evita descontar dos veces pérdidas ya incluidas en tus tiempos estándar. | F8: Las horas de cada recurso deben representar su disponibilidad real. Completa las ocho semanas para cada recurso activo; escribe 0 si no estará disponible. Evita descontar dos veces pérdidas ya incluidas en tus tiempos estándar. | G8: Las horas de cada recurso deben representar su disponibilidad real. Completa las ocho semanas para cada recurso activo; escribe 0 si no estará disponible. Evita descontar dos veces pérdidas ya incluidas en tus tiempos estándar. | H8: Las horas de cada recurso deben representar su disponibilidad real. Completa las ocho semanas para cada recurso activo; escribe 0 si no estará disponible. Evita descontar dos veces pérdidas ya incluidas en tus tiempos estándar. | I8: Las horas de cada recurso deben representar su disponibilidad real. Completa las ocho semanas para cada recurso activo; escribe 0 si no estará disponible. Evita descontar dos veces pérdidas ya incluidas en tus tiempos estándar. | J8: Las horas de cada recurso deben representar su disponibilidad real. Completa las ocho semanas para cada recurso activo; escribe 0 si no estará disponible. Evita descontar dos veces pérdidas ya incluidas en tus tiempos estándar. | K8: Las horas de cada recurso deben representar su disponibilidad real. Completa las ocho semanas para cada recurso activo; escribe 0 si no estará disponible. Evita descontar dos veces pérdidas ya incluidas en tus tiempos estándar. | M8: https://infoexperiencia.com/sistemas-premium/
A9: Las horas de cada recurso deben representar su disponibilidad real. Completa las ocho semanas para cada recurso activo; escribe 0 si no estará disponible. Evita descontar dos veces pérdidas ya incluidas en tus tiempos estándar. | B9: Las horas de cada recurso deben representar su disponibilidad real. Completa las ocho semanas para cada recurso activo; escribe 0 si no estará disponible. Evita descontar dos veces pérdidas ya incluidas en tus tiempos estándar. | C9: Las horas de cada recurso deben representar su disponibilidad real. Completa las ocho semanas para cada recurso activo; escribe 0 si no estará disponible. Evita descontar dos veces pérdidas ya incluidas en tus tiempos estándar. | D9: Las horas de cada recurso deben representar su disponibilidad real. Completa las ocho semanas para cada recurso activo; escribe 0 si no estará disponible. Evita descontar dos veces pérdidas ya incluidas en tus tiempos estándar. | E9: Las horas de cada recurso deben representar su disponibilidad real. Completa las ocho semanas para cada recurso activo; escribe 0 si no estará disponible. Evita descontar dos veces pérdidas ya incluidas en tus tiempos estándar. | F9: Las horas de cada recurso deben representar su disponibilidad real. Completa las ocho semanas para cada recurso activo; escribe 0 si no estará disponible. Evita descontar dos veces pérdidas ya incluidas en tus tiempos estándar. | G9: Las horas de cada recurso deben representar su disponibilidad real. Completa las ocho semanas para cada recurso activo; escribe 0 si no estará disponible. Evita descontar dos veces pérdidas ya incluidas en tus tiempos estándar. | H9: Las horas de cada recurso deben representar su disponibilidad real. Completa las ocho semanas para cada recurso activo; escribe 0 si no estará disponible. Evita descontar dos veces pérdidas ya incluidas en tus tiempos estándar. | I9: Las horas de cada recurso deben representar su disponibilidad real. Completa las ocho semanas para cada recurso activo; escribe 0 si no estará disponible. Evita descontar dos veces pérdidas ya incluidas en tus tiempos estándar. | J9: Las horas de cada recurso deben representar su disponibilidad real. Completa las ocho semanas para cada recurso activo; escribe 0 si no estará disponible. Evita descontar dos veces pérdidas ya incluidas en tus tiempos estándar. | K9: Las horas de cada recurso deben representar su disponibilidad real. Completa las ocho semanas para cada recurso activo; escribe 0 si no estará disponible. Evita descontar dos veces pérdidas ya incluidas en tus tiempos estándar.
A11: RECURSO | B11: S1 | C11: S2 | D11: S3 | E11: S4 | F11: S5 | G11: S6 | H11: S7 | I11: S8 | J11: TOTAL H. | K11: CONTROL
A12: Corte | B12: 64 | C12: 64 | D12: 0 | E12: 0 | F12: 0 | G12: 0 | H12: 0 | I12: 0 | J12: =IF(A12="","",SUM(B12:I12)) -> 128 | K12: =IF(A12="",IF(COUNT(B12:I12)>0,"REVISAR RECURSO",""),IF(COUNTIF($A$12:$A$15,A12)>1,"REVISAR DUPLICADO",IF(COUNT(B12:I12)<>8,"FALTA CAPACIDAD",IF(MIN(B12:I12)<0,"REVISAR HORAS","OK")))) -> OK
A13: Ensamblaje | B13: 72 | C13: 72 | D13: 0 | E13: 0 | F13: 0 | G13: 0 | H13: 0 | I13: 0 | J13: =IF(A13="","",SUM(B13:I13)) -> 144 | K13: =IF(A13="",IF(COUNT(B13:I13)>0,"REVISAR RECURSO",""),IF(COUNTIF($A$12:$A$15,A13)>1,"REVISAR DUPLICADO",IF(COUNT(B13:I13)<>8,"FALTA CAPACIDAD",IF(MIN(B13:I13)<0,"REVISAR HORAS","OK")))) -> OK
J14: =IF(A14="","",SUM(B14:I14)) | K14: =IF(A14="",IF(COUNT(B14:I14)>0,"REVISAR RECURSO",""),IF(COUNTIF($A$12:$A$15,A14)>1,"REVISAR DUPLICADO",IF(COUNT(B14:I14)<>8,"FALTA CAPACIDAD",IF(MIN(B14:I14)<0,"REVISAR HORAS","OK"))))
J15: =IF(A15="","",SUM(B15:I15)) | K15: =IF(A15="",IF(COUNT(B15:I15)>0,"REVISAR RECURSO",""),IF(COUNTIF($A$12:$A$15,A15)>1,"REVISAR DUPLICADO",IF(COUNT(B15:I15)<>8,"FALTA CAPACIDAD",IF(MIN(B15:I15)<0,"REVISAR HORAS","OK"))))
A18: INTERPRETACIÓN | B18: INTERPRETACIÓN | C18: INTERPRETACIÓN | D18: INTERPRETACIÓN | E18: INTERPRETACIÓN | F18: INTERPRETACIÓN | G18: INTERPRETACIÓN | H18: INTERPRETACIÓN | I18: INTERPRETACIÓN | J18: INTERPRETACIÓN | K18: INTERPRETACIÓN
A19: Cada recurso puede disponer de distintas horas por semana. La evaluación señala SOBRECARGA cuando la carga calculada excede estas horas. No interpretes 0 h como dato faltante: para un recurso activo, 0 significa que no hay capacidad esa semana. | B19: Cada recurso puede disponer de distintas horas por semana. La evaluación señala SOBRECARGA cuando la carga calculada excede estas horas. No interpretes 0 h como dato faltante: para un recurso activo, 0 significa que no hay capacidad esa semana. | C19: Cada recurso puede disponer de distintas horas por semana. La evaluación señala SOBRECARGA cuando la carga calculada excede estas horas. No interpretes 0 h como dato faltante: para un recurso activo, 0 significa que no hay capacidad esa semana. | D19: Cada recurso puede disponer de distintas horas por semana. La evaluación señala SOBRECARGA cuando la carga calculada excede estas horas. No interpretes 0 h como dato faltante: para un recurso activo, 0 significa que no hay capacidad esa semana. | E19: Cada recurso puede disponer de distintas horas por semana. La evaluación señala SOBRECARGA cuando la carga calculada excede estas horas. No interpretes 0 h como dato faltante: para un recurso activo, 0 significa que no hay capacidad esa semana. | F19: Cada recurso puede disponer de distintas horas por semana. La evaluación señala SOBRECARGA cuando la carga calculada excede estas horas. No interpretes 0 h como dato faltante: para un recurso activo, 0 significa que no hay capacidad esa semana. | G19: Cada recurso puede disponer de distintas horas por semana. La evaluación señala SOBRECARGA cuando la carga calculada excede estas horas. No interpretes 0 h como dato faltante: para un recurso activo, 0 significa que no hay capacidad esa semana. | H19: Cada recurso puede disponer de distintas horas por semana. La evaluación señala SOBRECARGA cuando la carga calculada excede estas horas. No interpretes 0 h como dato faltante: para un recurso activo, 0 significa que no hay capacidad esa semana. | I19: Cada recurso puede disponer de distintas horas por semana. La evaluación señala SOBRECARGA cuando la carga calculada excede estas horas. No interpretes 0 h como dato faltante: para un recurso activo, 0 significa que no hay capacidad esa semana. | J19: Cada recurso puede disponer de distintas horas por semana. La evaluación señala SOBRECARGA cuando la carga calculada excede estas horas. No interpretes 0 h como dato faltante: para un recurso activo, 0 significa que no hay capacidad esa semana. | K19: Cada recurso puede disponer de distintas horas por semana. La evaluación señala SOBRECARGA cuando la carga calculada excede estas horas. No interpretes 0 h como dato faltante: para un recurso activo, 0 significa que no hay capacidad esa semana.
A20: Cada recurso puede disponer de distintas horas por semana. La evaluación señala SOBRECARGA cuando la carga calculada excede estas horas. No interpretes 0 h como dato faltante: para un recurso activo, 0 significa que no hay capacidad esa semana. | B20: Cada recurso puede disponer de distintas horas por semana. La evaluación señala SOBRECARGA cuando la carga calculada excede estas horas. No interpretes 0 h como dato faltante: para un recurso activo, 0 significa que no hay capacidad esa semana. | C20: Cada recurso puede disponer de distintas horas por semana. La evaluación señala SOBRECARGA cuando la carga calculada excede estas horas. No interpretes 0 h como dato faltante: para un recurso activo, 0 significa que no hay capacidad esa semana. | D20: Cada recurso puede disponer de distintas horas por semana. La evaluación señala SOBRECARGA cuando la carga calculada excede estas horas. No interpretes 0 h como dato faltante: para un recurso activo, 0 significa que no hay capacidad esa semana. | E20: Cada recurso puede disponer de distintas horas por semana. La evaluación señala SOBRECARGA cuando la carga calculada excede estas horas. No interpretes 0 h como dato faltante: para un recurso activo, 0 significa que no hay capacidad esa semana. | F20: Cada recurso puede disponer de distintas horas por semana. La evaluación señala SOBRECARGA cuando la carga calculada excede estas horas. No interpretes 0 h como dato faltante: para un recurso activo, 0 significa que no hay capacidad esa semana. | G20: Cada recurso puede disponer de distintas horas por semana. La evaluación señala SOBRECARGA cuando la carga calculada excede estas horas. No interpretes 0 h como dato faltante: para un recurso activo, 0 significa que no hay capacidad esa semana. | H20: Cada recurso puede disponer de distintas horas por semana. La evaluación señala SOBRECARGA cuando la carga calculada excede estas horas. No interpretes 0 h como dato faltante: para un recurso activo, 0 significa que no hay capacidad esa semana. | I20: Cada recurso puede disponer de distintas horas por semana. La evaluación señala SOBRECARGA cuando la carga calculada excede estas horas. No interpretes 0 h como dato faltante: para un recurso activo, 0 significa que no hay capacidad esa semana. | J20: Cada recurso puede disponer de distintas horas por semana. La evaluación señala SOBRECARGA cuando la carga calculada excede estas horas. No interpretes 0 h como dato faltante: para un recurso activo, 0 significa que no hay capacidad esa semana. | K20: Cada recurso puede disponer de distintas horas por semana. La evaluación señala SOBRECARGA cuando la carga calculada excede estas horas. No interpretes 0 h como dato faltante: para un recurso activo, 0 significa que no hay capacidad esa semana.

Sheet 06 Evaluacion
B2: 06 | EVALUACIÓN RCCP | C2: 06 | EVALUACIÓN RCCP | D2: 06 | EVALUACIÓN RCCP | E2: 06 | EVALUACIÓN RCCP | F2: 06 | EVALUACIÓN RCCP | G2: 06 | EVALUACIÓN RCCP | H2: 06 | EVALUACIÓN RCCP | I2: 06 | EVALUACIÓN RCCP | J2: 06 | EVALUACIÓN RCCP | K2: 06 | EVALUACIÓN RCCP | L2: 06 | EVALUACIÓN RCCP | M2: 06 | EVALUACIÓN RCCP | N2: 06 | EVALUACIÓN RCCP | O2: 06 | EVALUACIÓN RCCP | P2: 06 | EVALUACIÓN RCCP
B3: 06 | EVALUACIÓN RCCP | C3: 06 | EVALUACIÓN RCCP | D3: 06 | EVALUACIÓN RCCP | E3: 06 | EVALUACIÓN RCCP | F3: 06 | EVALUACIÓN RCCP | G3: 06 | EVALUACIÓN RCCP | H3: 06 | EVALUACIÓN RCCP | I3: 06 | EVALUACIÓN RCCP | J3: 06 | EVALUACIÓN RCCP | K3: 06 | EVALUACIÓN RCCP | L3: 06 | EVALUACIÓN RCCP | M3: 06 | EVALUACIÓN RCCP | N3: 06 | EVALUACIÓN RCCP | O3: 06 | EVALUACIÓN RCCP | P3: 06 | EVALUACIÓN RCCP
B4: SALIDA AUTOMÁTICA · Compara carga requerida contra capacidad disponible en cada recurso y semana. | C4: SALIDA AUTOMÁTICA · Compara carga requerida contra capacidad disponible en cada recurso y semana. | D4: SALIDA AUTOMÁTICA · Compara carga requerida contra capacidad disponible en cada recurso y semana. | E4: SALIDA AUTOMÁTICA · Compara carga requerida contra capacidad disponible en cada recurso y semana. | F4: SALIDA AUTOMÁTICA · Compara carga requerida contra capacidad disponible en cada recurso y semana. | G4: SALIDA AUTOMÁTICA · Compara carga requerida contra capacidad disponible en cada recurso y semana. | H4: SALIDA AUTOMÁTICA · Compara carga requerida contra capacidad disponible en cada recurso y semana. | I4: SALIDA AUTOMÁTICA · Compara carga requerida contra capacidad disponible en cada recurso y semana. | J4: SALIDA AUTOMÁTICA · Compara carga requerida contra capacidad disponible en cada recurso y semana. | K4: SALIDA AUTOMÁTICA · Compara carga requerida contra capacidad disponible en cada recurso y semana. | L4: SALIDA AUTOMÁTICA · Compara carga requerida contra capacidad disponible en cada recurso y semana. | M4: SALIDA AUTOMÁTICA · Compara carga requerida contra capacidad disponible en cada recurso y semana. | N4: SALIDA AUTOMÁTICA · Compara carga requerida contra capacidad disponible en cada recurso y semana. | O4: SALIDA AUTOMÁTICA · Compara carga requerida contra capacidad disponible en cada recurso y semana. | P4: SALIDA AUTOMÁTICA · Compara carga requerida contra capacidad disponible en cada recurso y semana.
B6: ESTADO DE DATOS · TODOS DEBEN INDICAR OK / LISTO | C6: ESTADO DE DATOS · TODOS DEBEN INDICAR OK / LISTO | D6: ESTADO DE DATOS · TODOS DEBEN INDICAR OK / LISTO | E6: ESTADO DE DATOS · TODOS DEBEN INDICAR OK / LISTO | F6: ESTADO DE DATOS · TODOS DEBEN INDICAR OK / LISTO | G6: ESTADO DE DATOS · TODOS DEBEN INDICAR OK / LISTO | H6: ESTADO DE DATOS · TODOS DEBEN INDICAR OK / LISTO | I6: ESTADO DE DATOS · TODOS DEBEN INDICAR OK / LISTO | J6: ESTADO DE DATOS · TODOS DEBEN INDICAR OK / LISTO | K6: ESTADO DE DATOS · TODOS DEBEN INDICAR OK / LISTO | L6: ESTADO DE DATOS · TODOS DEBEN INDICAR OK / LISTO | M6: ESTADO DE DATOS · TODOS DEBEN INDICAR OK / LISTO | N6: ESTADO DE DATOS · TODOS DEBEN INDICAR OK / LISTO | O6: ESTADO DE DATOS · TODOS DEBEN INDICAR OK / LISTO | P6: ESTADO DE DATOS · TODOS DEBEN INDICAR OK / LISTO
B7: MPS | C7: =IF(COUNTA('03 MPS'!$B$12:$B$19)=0,"REVISAR",IF(OR(AND('03 MPS'!L12<>"",'03 MPS'!L12<>"OK"),AND('03 MPS'!L13<>"",'03 MPS'!L13<>"OK"),AND('03 MPS'!L14<>"",'03 MPS'!L14<>"OK"),AND('03 MPS'!L15<>"",'03 MPS'!L15<>"OK"),AND('03 MPS'!L16<>"",'03 MPS'!L16<>"OK"),AND('03 MPS'!L17<>"",'03 MPS'!L17<>"OK"),AND('03 MPS'!L18<>"",'03 MPS'!L18<>"OK"),AND('03 MPS'!L19<>"",'03 MPS'!L19<>"OK")),"REVISAR","OK")) -> OK | E7: TIEMPOS | F7: =IF(OR(AND('04 Tiempos'!H12<>"",'04 Tiempos'!H12<>"OK"),AND('04 Tiempos'!H13<>"",'04 Tiempos'!H13<>"OK"),AND('04 Tiempos'!H14<>"",'04 Tiempos'!H14<>"OK"),AND('04 Tiempos'!H15<>"",'04 Tiempos'!H15<>"OK"),AND('04 Tiempos'!H16<>"",'04 Tiempos'!H16<>"OK"),AND('04 Tiempos'!H17<>"",'04 Tiempos'!H17<>"OK"),AND('04 Tiempos'!H18<>"",'04 Tiempos'!H18<>"OK"),AND('04 Tiempos'!H19<>"",'04 Tiempos'!H19<>"OK")),"REVISAR","OK") -> OK | H7: CAPACIDAD | I7: =IF(COUNTA('05 Capacidad'!$A$12:$A$15)=0,"REVISAR",IF(OR(AND('05 Capacidad'!K12<>"",'05 Capacidad'!K12<>"OK"),AND('05 Capacidad'!K13<>"",'05 Capacidad'!K13<>"OK"),AND('05 Capacidad'!K14<>"",'05 Capacidad'!K14<>"OK"),AND('05 Capacidad'!K15<>"",'05 Capacidad'!K15<>"OK")),"REVISAR","OK")) -> OK | K7: EVALUACIÓN | L7: =IF(AND(C7="OK",F7="OK",I7="OK"),"LISTO","REVISAR") -> LISTO
B9: RECURSOS / SEMANAS SOBRECARGADOS | E9: MÁX. HORAS FALTANTES | H9: SEMANAS CON SOBRECARGA
B10: =IF($L$7<>"LISTO","",COUNTIF($H$16:$H$47,"SOBRECARGA")) -> 1 | E10: =IF($L$7<>"LISTO","",MAX(0,-MIN($F$16:$F$47))) -> 6 | H10: =IF($L$7<>"LISTO","",COUNTIF($M$17:$M$24,">0")) -> 1
B13: CARGA POR RECURSO Y SEMANA | C13: CARGA POR RECURSO Y SEMANA | D13: CARGA POR RECURSO Y SEMANA | E13: CARGA POR RECURSO Y SEMANA | F13: CARGA POR RECURSO Y SEMANA | G13: CARGA POR RECURSO Y SEMANA | H13: CARGA POR RECURSO Y SEMANA | L13: RESUMEN POR SEMANA | M13: RESUMEN POR SEMANA | N13: RESUMEN POR SEMANA | O13: RESUMEN POR SEMANA | P13: RESUMEN POR SEMANA
B15: SEMANA | C15: RECURSO | D15: CARGA (h) | E15: CAP. (h) | F15: HOLGURA (h) | G15: USO (%) | H15: DIAGNÓSTICO
B16: =IF($L$7<>"LISTO","","S1") -> S1 | C16: =IF('05 Capacidad'!$A$12="","",'05 Capacidad'!$A$12) -> Corte | D16: =IF(OR($L$7<>"LISTO",C16=""),"",SUMPRODUCT('03 MPS'!$C$12:$C$19,'04 Tiempos'!$D$12:$D$19)) -> 70 | E16: =IF(OR($L$7<>"LISTO",C16=""),"",'05 Capacidad'!B12) -> 64 | F16: =IF(OR(D16="",E16=""),"",E16-D16) -> -6 | G16: =IF(OR(D16="",E16=""),"",IF(E16=0,"",D16/E16)) -> 1.09375 | H16: =IF(C16="","",IF($L$7<>"LISTO","REVISAR DATOS",IF(AND(D16=0,E16=0),"SIN ACTIVIDAD",IF(D16>E16,"SOBRECARGA",IF(D16=E16,"SIN HOLGURA","CON HOLGURA"))))) -> SOBRECARGA | L16: SEMANA | M16: SOBRECARGAS | N16: DÉFICIT (h) | O16: USO MÁX. | P16: LECTURA
B17: =IF($L$7<>"LISTO","","S1") -> S1 | C17: =IF('05 Capacidad'!$A$13="","",'05 Capacidad'!$A$13) -> Ensamblaje | D17: =IF(OR($L$7<>"LISTO",C17=""),"",SUMPRODUCT('03 MPS'!$C$12:$C$19,'04 Tiempos'!$E$12:$E$19)) -> 66 | E17: =IF(OR($L$7<>"LISTO",C17=""),"",'05 Capacidad'!B13) -> 72 | F17: =IF(OR(D17="",E17=""),"",E17-D17) -> 6 | G17: =IF(OR(D17="",E17=""),"",IF(E17=0,"",D17/E17)) -> 0.91666667 | H17: =IF(C17="","",IF($L$7<>"LISTO","REVISAR DATOS",IF(AND(D17=0,E17=0),"SIN ACTIVIDAD",IF(D17>E17,"SOBRECARGA",IF(D17=E17,"SIN HOLGURA","CON HOLGURA"))))) -> CON HOLGURA | L17: =IF($L$7<>"LISTO","","S1") -> S1 | M17: =IF($L$7<>"LISTO","",COUNTIF(H16:H19,"SOBRECARGA")) -> 1 | N17: =IF($L$7<>"LISTO","",SUMIF(F16:F19,"<0",F16:F19)*-1) -> 6 | O17: =IF($L$7<>"LISTO","",IF(MAX(E16:E19)=0,"",MAX(G16:G19))) -> 1.09375 | P17: =IF($L$7<>"LISTO","REVISAR",IF(M17>0,"SOBRECARGA",IF(COUNTIF(H16:H19,"SIN HOLGURA")>0,"SIN HOLGURA",IF(COUNTIF(H16:H19,"CON HOLGURA")>0,"CON HOLGURA","SIN ACTIVIDAD")))) -> SOBRECARGA
B18: =IF($L$7<>"LISTO","","S1") -> S1 | C18: =IF('05 Capacidad'!$A$14="","",'05 Capacidad'!$A$14) | D18: =IF(OR($L$7<>"LISTO",C18=""),"",SUMPRODUCT('03 MPS'!$C$12:$C$19,'04 Tiempos'!$F$12:$F$19)) | E18: =IF(OR($L$7<>"LISTO",C18=""),"",'05 Capacidad'!B14) | F18: =IF(OR(D18="",E18=""),"",E18-D18) | G18: =IF(OR(D18="",E18=""),"",IF(E18=0,"",D18/E18)) | H18: =IF(C18="","",IF($L$7<>"LISTO","REVISAR DATOS",IF(AND(D18=0,E18=0),"SIN ACTIVIDAD",IF(D18>E18,"SOBRECARGA",IF(D18=E18,"SIN HOLGURA","CON HOLGURA"))))) | L18: =IF($L$7<>"LISTO","","S2") -> S2 | M18: =IF($L$7<>"LISTO","",COUNTIF(H20:H23,"SOBRECARGA")) -> 0 | N18: =IF($L$7<>"LISTO","",SUMIF(F20:F23,"<0",F20:F23)*-1) -> 0 | O18: =IF($L$7<>"LISTO","",IF(MAX(E20:E23)=0,"",MAX(G20:G23))) -> 0.859375 | P18: =IF($L$7<>"LISTO","REVISAR",IF(M18>0,"SOBRECARGA",IF(COUNTIF(H20:H23,"SIN HOLGURA")>0,"SIN HOLGURA",IF(COUNTIF(H20:H23,"CON HOLGURA")>0,"CON HOLGURA","SIN ACTIVIDAD")))) -> CON HOLGURA
B19: =IF($L$7<>"LISTO","","S1") -> S1 | C19: =IF('05 Capacidad'!$A$15="","",'05 Capacidad'!$A$15) | D19: =IF(OR($L$7<>"LISTO",C19=""),"",SUMPRODUCT('03 MPS'!$C$12:$C$19,'04 Tiempos'!$G$12:$G$19)) | E19: =IF(OR($L$7<>"LISTO",C19=""),"",'05 Capacidad'!B15) | F19: =IF(OR(D19="",E19=""),"",E19-D19) | G19: =IF(OR(D19="",E19=""),"",IF(E19=0,"",D19/E19)) | H19: =IF(C19="","",IF($L$7<>"LISTO","REVISAR DATOS",IF(AND(D19=0,E19=0),"SIN ACTIVIDAD",IF(D19>E19,"SOBRECARGA",IF(D19=E19,"SIN HOLGURA","CON HOLGURA"))))) | L19: =IF($L$7<>"LISTO","","S3") -> S3 | M19: =IF($L$7<>"LISTO","",COUNTIF(H24:H27,"SOBRECARGA")) -> 0 | N19: =IF($L$7<>"LISTO","",SUMIF(F24:F27,"<0",F24:F27)*-1) -> 0 | O19: =IF($L$7<>"LISTO","",IF(MAX(E24:E27)=0,"",MAX(G24:G27))) | P19: =IF($L$7<>"LISTO","REVISAR",IF(M19>0,"SOBRECARGA",IF(COUNTIF(H24:H27,"SIN HOLGURA")>0,"SIN HOLGURA",IF(COUNTIF(H24:H27,"CON HOLGURA")>0,"CON HOLGURA","SIN ACTIVIDAD")))) -> SIN ACTIVIDAD
B20: =IF($L$7<>"LISTO","","S2") -> S2 | C20: =IF('05 Capacidad'!$A$12="","",'05 Capacidad'!$A$12) -> Corte | D20: =IF(OR($L$7<>"LISTO",C20=""),"",SUMPRODUCT('03 MPS'!$D$12:$D$19,'04 Tiempos'!$D$12:$D$19)) -> 55 | E20: =IF(OR($L$7<>"LISTO",C20=""),"",'05 Capacidad'!C12) -> 64 | F20: =IF(OR(D20="",E20=""),"",E20-D20) -> 9 | G20: =IF(OR(D20="",E20=""),"",IF(E20=0,"",D20/E20)) -> 0.859375 | H20: =IF(C20="","",IF($L$7<>"LISTO","REVISAR DATOS",IF(AND(D20=0,E20=0),"SIN ACTIVIDAD",IF(D20>E20,"SOBRECARGA",IF(D20=E20,"SIN HOLGURA","CON HOLGURA"))))) -> CON HOLGURA | L20: =IF($L$7<>"LISTO","","S4") -> S4 | M20: =IF($L$7<>"LISTO","",COUNTIF(H28:H31,"SOBRECARGA")) -> 0 | N20: =IF($L$7<>"LISTO","",SUMIF(F28:F31,"<0",F28:F31)*-1) -> 0 | O20: =IF($L$7<>"LISTO","",IF(MAX(E28:E31)=0,"",MAX(G28:G31))) | P20: =IF($L$7<>"LISTO","REVISAR",IF(M20>0,"SOBRECARGA",IF(COUNTIF(H28:H31,"SIN HOLGURA")>0,"SIN HOLGURA",IF(COUNTIF(H28:H31,"CON HOLGURA")>0,"CON HOLGURA","SIN ACTIVIDAD")))) -> SIN ACTIVIDAD
B21: =IF($L$7<>"LISTO","","S2") -> S2 | C21: =IF('05 Capacidad'!$A$13="","",'05 Capacidad'!$A$13) -> Ensamblaje | D21: =IF(OR($L$7<>"LISTO",C21=""),"",SUMPRODUCT('03 MPS'!$D$12:$D$19,'04 Tiempos'!$E$12:$E$19)) -> 51 | E21: =IF(OR($L$7<>"LISTO",C21=""),"",'05 Capacidad'!C13) -> 72 | F21: =IF(OR(D21="",E21=""),"",E21-D21) -> 21 | G21: =IF(OR(D21="",E21=""),"",IF(E21=0,"",D21/E21)) -> 0.70833333 | H21: =IF(C21="","",IF($L$7<>"LISTO","REVISAR DATOS",IF(AND(D21=0,E21=0),"SIN ACTIVIDAD",IF(D21>E21,"SOBRECARGA",IF(D21=E21,"SIN HOLGURA","CON HOLGURA"))))) -> CON HOLGURA | L21: =IF($L$7<>"LISTO","","S5") -> S5 | M21: =IF($L$7<>"LISTO","",COUNTIF(H32:H35,"SOBRECARGA")) -> 0 | N21: =IF($L$7<>"LISTO","",SUMIF(F32:F35,"<0",F32:F35)*-1) -> 0 | O21: =IF($L$7<>"LISTO","",IF(MAX(E32:E35)=0,"",MAX(G32:G35))) | P21: =IF($L$7<>"LISTO","REVISAR",IF(M21>0,"SOBRECARGA",IF(COUNTIF(H32:H35,"SIN HOLGURA")>0,"SIN HOLGURA",IF(COUNTIF(H32:H35,"CON HOLGURA")>0,"CON HOLGURA","SIN ACTIVIDAD")))) -> SIN ACTIVIDAD
B22: =IF($L$7<>"LISTO","","S2") -> S2 | C22: =IF('05 Capacidad'!$A$14="","",'05 Capacidad'!$A$14) | D22: =IF(OR($L$7<>"LISTO",C22=""),"",SUMPRODUCT('03 MPS'!$D$12:$D$19,'04 Tiempos'!$F$12:$F$19)) | E22: =IF(OR($L$7<>"LISTO",C22=""),"",'05 Capacidad'!C14) | F22: =IF(OR(D22="",E22=""),"",E22-D22) | G22: =IF(OR(D22="",E22=""),"",IF(E22=0,"",D22/E22)) | H22: =IF(C22="","",IF($L$7<>"LISTO","REVISAR DATOS",IF(AND(D22=0,E22=0),"SIN ACTIVIDAD",IF(D22>E22,"SOBRECARGA",IF(D22=E22,"SIN HOLGURA","CON HOLGURA"))))) | L22: =IF($L$7<>"LISTO","","S6") -> S6 | M22: =IF($L$7<>"LISTO","",COUNTIF(H36:H39,"SOBRECARGA")) -> 0 | N22: =IF($L$7<>"LISTO","",SUMIF(F36:F39,"<0",F36:F39)*-1) -> 0 | O22: =IF($L$7<>"LISTO","",IF(MAX(E36:E39)=0,"",MAX(G36:G39))) | P22: =IF($L$7<>"LISTO","REVISAR",IF(M22>0,"SOBRECARGA",IF(COUNTIF(H36:H39,"SIN HOLGURA")>0,"SIN HOLGURA",IF(COUNTIF(H36:H39,"CON HOLGURA")>0,"CON HOLGURA","SIN ACTIVIDAD")))) -> SIN ACTIVIDAD
B23: =IF($L$7<>"LISTO","","S2") -> S2 | C23: =IF('05 Capacidad'!$A$15="","",'05 Capacidad'!$A$15) | D23: =IF(OR($L$7<>"LISTO",C23=""),"",SUMPRODUCT('03 MPS'!$D$12:$D$19,'04 Tiempos'!$G$12:$G$19)) | E23: =IF(OR($L$7<>"LISTO",C23=""),"",'05 Capacidad'!C15) | F23: =IF(OR(D23="",E23=""),"",E23-D23) | G23: =IF(OR(D23="",E23=""),"",IF(E23=0,"",D23/E23)) | H23: =IF(C23="","",IF($L$7<>"LISTO","REVISAR DATOS",IF(AND(D23=0,E23=0),"SIN ACTIVIDAD",IF(D23>E23,"SOBRECARGA",IF(D23=E23,"SIN HOLGURA","CON HOLGURA"))))) | L23: =IF($L$7<>"LISTO","","S7") -> S7 | M23: =IF($L$7<>"LISTO","",COUNTIF(H40:H43,"SOBRECARGA")) -> 0 | N23: =IF($L$7<>"LISTO","",SUMIF(F40:F43,"<0",F40:F43)*-1) -> 0 | O23: =IF($L$7<>"LISTO","",IF(MAX(E40:E43)=0,"",MAX(G40:G43))) | P23: =IF($L$7<>"LISTO","REVISAR",IF(M23>0,"SOBRECARGA",IF(COUNTIF(H40:H43,"SIN HOLGURA")>0,"SIN HOLGURA",IF(COUNTIF(H40:H43,"CON HOLGURA")>0,"CON HOLGURA","SIN ACTIVIDAD")))) -> SIN ACTIVIDAD
B24: =IF($L$7<>"LISTO","","S3") -> S3 | C24: =IF('05 Capacidad'!$A$12="","",'05 Capacidad'!$A$12) -> Corte | D24: =IF(OR($L$7<>"LISTO",C24=""),"",SUMPRODUCT('03 MPS'!$E$12:$E$19,'04 Tiempos'!$D$12:$D$19)) -> 0 | E24: =IF(OR($L$7<>"LISTO",C24=""),"",'05 Capacidad'!D12) -> 0 | F24: =IF(OR(D24="",E24=""),"",E24-D24) -> 0 | G24: =IF(OR(D24="",E24=""),"",IF(E24=0,"",D24/E24)) | H24: =IF(C24="","",IF($L$7<>"LISTO","REVISAR DATOS",IF(AND(D24=0,E24=0),"SIN ACTIVIDAD",IF(D24>E24,"SOBRECARGA",IF(D24=E24,"SIN HOLGURA","CON HOLGURA"))))) -> SIN ACTIVIDAD | L24: =IF($L$7<>"LISTO","","S8") -> S8 | M24: =IF($L$7<>"LISTO","",COUNTIF(H44:H47,"SOBRECARGA")) -> 0 | N24: =IF($L$7<>"LISTO","",SUMIF(F44:F47,"<0",F44:F47)*-1) -> 0 | O24: =IF($L$7<>"LISTO","",IF(MAX(E44:E47)=0,"",MAX(G44:G47))) | P24: =IF($L$7<>"LISTO","REVISAR",IF(M24>0,"SOBRECARGA",IF(COUNTIF(H44:H47,"SIN HOLGURA")>0,"SIN HOLGURA",IF(COUNTIF(H44:H47,"CON HOLGURA")>0,"CON HOLGURA","SIN ACTIVIDAD")))) -> SIN ACTIVIDAD
B25: =IF($L$7<>"LISTO","","S3") -> S3 | C25: =IF('05 Capacidad'!$A$13="","",'05 Capacidad'!$A$13) -> Ensamblaje | D25: =IF(OR($L$7<>"LISTO",C25=""),"",SUMPRODUCT('03 MPS'!$E$12:$E$19,'04 Tiempos'!$E$12:$E$19)) -> 0 | E25: =IF(OR($L$7<>"LISTO",C25=""),"",'05 Capacidad'!D13) -> 0 | F25: =IF(OR(D25="",E25=""),"",E25-D25) -> 0 | G25: =IF(OR(D25="",E25=""),"",IF(E25=0,"",D25/E25)) | H25: =IF(C25="","",IF($L$7<>"LISTO","REVISAR DATOS",IF(AND(D25=0,E25=0),"SIN ACTIVIDAD",IF(D25>E25,"SOBRECARGA",IF(D25=E25,"SIN HOLGURA","CON HOLGURA"))))) -> SIN ACTIVIDAD
B26: =IF($L$7<>"LISTO","","S3") -> S3 | C26: =IF('05 Capacidad'!$A$14="","",'05 Capacidad'!$A$14) | D26: =IF(OR($L$7<>"LISTO",C26=""),"",SUMPRODUCT('03 MPS'!$E$12:$E$19,'04 Tiempos'!$F$12:$F$19)) | E26: =IF(OR($L$7<>"LISTO",C26=""),"",'05 Capacidad'!D14) | F26: =IF(OR(D26="",E26=""),"",E26-D26) | G26: =IF(OR(D26="",E26=""),"",IF(E26=0,"",D26/E26)) | H26: =IF(C26="","",IF($L$7<>"LISTO","REVISAR DATOS",IF(AND(D26=0,E26=0),"SIN ACTIVIDAD",IF(D26>E26,"SOBRECARGA",IF(D26=E26,"SIN HOLGURA","CON HOLGURA")))))
B27: =IF($L$7<>"LISTO","","S3") -> S3 | C27: =IF('05 Capacidad'!$A$15="","",'05 Capacidad'!$A$15) | D27: =IF(OR($L$7<>"LISTO",C27=""),"",SUMPRODUCT('03 MPS'!$E$12:$E$19,'04 Tiempos'!$G$12:$G$19)) | E27: =IF(OR($L$7<>"LISTO",C27=""),"",'05 Capacidad'!D15) | F27: =IF(OR(D27="",E27=""),"",E27-D27) | G27: =IF(OR(D27="",E27=""),"",IF(E27=0,"",D27/E27)) | H27: =IF(C27="","",IF($L$7<>"LISTO","REVISAR DATOS",IF(AND(D27=0,E27=0),"SIN ACTIVIDAD",IF(D27>E27,"SOBRECARGA",IF(D27=E27,"SIN HOLGURA","CON HOLGURA"))))) | L27: REGLAS DE LECTURA | M27: REGLAS DE LECTURA | N27: REGLAS DE LECTURA | O27: REGLAS DE LECTURA | P27: REGLAS DE LECTURA
B28: =IF($L$7<>"LISTO","","S4") -> S4 | C28: =IF('05 Capacidad'!$A$12="","",'05 Capacidad'!$A$12) -> Corte | D28: =IF(OR($L$7<>"LISTO",C28=""),"",SUMPRODUCT('03 MPS'!$F$12:$F$19,'04 Tiempos'!$D$12:$D$19)) -> 0 | E28: =IF(OR($L$7<>"LISTO",C28=""),"",'05 Capacidad'!E12) -> 0 | F28: =IF(OR(D28="",E28=""),"",E28-D28) -> 0 | G28: =IF(OR(D28="",E28=""),"",IF(E28=0,"",D28/E28)) | H28: =IF(C28="","",IF($L$7<>"LISTO","REVISAR DATOS",IF(AND(D28=0,E28=0),"SIN ACTIVIDAD",IF(D28>E28,"SOBRECARGA",IF(D28=E28,"SIN HOLGURA","CON HOLGURA"))))) -> SIN ACTIVIDAD | L28: SOBRECARGA: horas requeridas > disponibles. SIN HOLGURA: igualdad. CON HOLGURA: hay capacidad restante. SIN ACTIVIDAD: carga y capacidad en 0. Un 100 % de uso no deja margen operativo. | M28: SOBRECARGA: horas requeridas > disponibles. SIN HOLGURA: igualdad. CON HOLGURA: hay capacidad restante. SIN ACTIVIDAD: carga y capacidad en 0. Un 100 % de uso no deja margen operativo. | N28: SOBRECARGA: horas requeridas > disponibles. SIN HOLGURA: igualdad. CON HOLGURA: hay capacidad restante. SIN ACTIVIDAD: carga y capacidad en 0. Un 100 % de uso no deja margen operativo. | O28: SOBRECARGA: horas requeridas > disponibles. SIN HOLGURA: igualdad. CON HOLGURA: hay capacidad restante. SIN ACTIVIDAD: carga y capacidad en 0. Un 100 % de uso no deja margen operativo. | P28: SOBRECARGA: horas requeridas > disponibles. SIN HOLGURA: igualdad. CON HOLGURA: hay capacidad restante. SIN ACTIVIDAD: carga y capacidad en 0. Un 100 % de uso no deja margen operativo.
B29: =IF($L$7<>"LISTO","","S4") -> S4 | C29: =IF('05 Capacidad'!$A$13="","",'05 Capacidad'!$A$13) -> Ensamblaje | D29: =IF(OR($L$7<>"LISTO",C29=""),"",SUMPRODUCT('03 MPS'!$F$12:$F$19,'04 Tiempos'!$E$12:$E$19)) -> 0 | E29: =IF(OR($L$7<>"LISTO",C29=""),"",'05 Capacidad'!E13) -> 0 | F29: =IF(OR(D29="",E29=""),"",E29-D29) -> 0 | G29: =IF(OR(D29="",E29=""),"",IF(E29=0,"",D29/E29)) | H29: =IF(C29="","",IF($L$7<>"LISTO","REVISAR DATOS",IF(AND(D29=0,E29=0),"SIN ACTIVIDAD",IF(D29>E29,"SOBRECARGA",IF(D29=E29,"SIN HOLGURA","CON HOLGURA"))))) -> SIN ACTIVIDAD | L29: SOBRECARGA: horas requeridas > disponibles. SIN HOLGURA: igualdad. CON HOLGURA: hay capacidad restante. SIN ACTIVIDAD: carga y capacidad en 0. Un 100 % de uso no deja margen operativo. | M29: SOBRECARGA: horas requeridas > disponibles. SIN HOLGURA: igualdad. CON HOLGURA: hay capacidad restante. SIN ACTIVIDAD: carga y capacidad en 0. Un 100 % de uso no deja margen operativo. | N29: SOBRECARGA: horas requeridas > disponibles. SIN HOLGURA: igualdad. CON HOLGURA: hay capacidad restante. SIN ACTIVIDAD: carga y capacidad en 0. Un 100 % de uso no deja margen operativo. | O29: SOBRECARGA: horas requeridas > disponibles. SIN HOLGURA: igualdad. CON HOLGURA: hay capacidad restante. SIN ACTIVIDAD: carga y capacidad en 0. Un 100 % de uso no deja margen operativo. | P29: SOBRECARGA: horas requeridas > disponibles. SIN HOLGURA: igualdad. CON HOLGURA: hay capacidad restante. SIN ACTIVIDAD: carga y capacidad en 0. Un 100 % de uso no deja margen operativo.
B30: =IF($L$7<>"LISTO","","S4") -> S4 | C30: =IF('05 Capacidad'!$A$14="","",'05 Capacidad'!$A$14) | D30: =IF(OR($L$7<>"LISTO",C30=""),"",SUMPRODUCT('03 MPS'!$F$12:$F$19,'04 Tiempos'!$F$12:$F$19)) | E30: =IF(OR($L$7<>"LISTO",C30=""),"",'05 Capacidad'!E14) | F30: =IF(OR(D30="",E30=""),"",E30-D30) | G30: =IF(OR(D30="",E30=""),"",IF(E30=0,"",D30/E30)) | H30: =IF(C30="","",IF($L$7<>"LISTO","REVISAR DATOS",IF(AND(D30=0,E30=0),"SIN ACTIVIDAD",IF(D30>E30,"SOBRECARGA",IF(D30=E30,"SIN HOLGURA","CON HOLGURA"))))) | L30: SOBRECARGA: horas requeridas > disponibles. SIN HOLGURA: igualdad. CON HOLGURA: hay capacidad restante. SIN ACTIVIDAD: carga y capacidad en 0. Un 100 % de uso no deja margen operativo. | M30: SOBRECARGA: horas requeridas > disponibles. SIN HOLGURA: igualdad. CON HOLGURA: hay capacidad restante. SIN ACTIVIDAD: carga y capacidad en 0. Un 100 % de uso no deja margen operativo. | N30: SOBRECARGA: horas requeridas > disponibles. SIN HOLGURA: igualdad. CON HOLGURA: hay capacidad restante. SIN ACTIVIDAD: carga y capacidad en 0. Un 100 % de uso no deja margen operativo. | O30: SOBRECARGA: horas requeridas > disponibles. SIN HOLGURA: igualdad. CON HOLGURA: hay capacidad restante. SIN ACTIVIDAD: carga y capacidad en 0. Un 100 % de uso no deja margen operativo. | P30: SOBRECARGA: horas requeridas > disponibles. SIN HOLGURA: igualdad. CON HOLGURA: hay capacidad restante. SIN ACTIVIDAD: carga y capacidad en 0. Un 100 % de uso no deja margen operativo.
B31: =IF($L$7<>"LISTO","","S4") -> S4 | C31: =IF('05 Capacidad'!$A$15="","",'05 Capacidad'!$A$15) | D31: =IF(OR($L$7<>"LISTO",C31=""),"",SUMPRODUCT('03 MPS'!$F$12:$F$19,'04 Tiempos'!$G$12:$G$19)) | E31: =IF(OR($L$7<>"LISTO",C31=""),"",'05 Capacidad'!E15) | F31: =IF(OR(D31="",E31=""),"",E31-D31) | G31: =IF(OR(D31="",E31=""),"",IF(E31=0,"",D31/E31)) | H31: =IF(C31="","",IF($L$7<>"LISTO","REVISAR DATOS",IF(AND(D31=0,E31=0),"SIN ACTIVIDAD",IF(D31>E31,"SOBRECARGA",IF(D31=E31,"SIN HOLGURA","CON HOLGURA")))))
B32: =IF($L$7<>"LISTO","","S5") -> S5 | C32: =IF('05 Capacidad'!$A$12="","",'05 Capacidad'!$A$12) -> Corte | D32: =IF(OR($L$7<>"LISTO",C32=""),"",SUMPRODUCT('03 MPS'!$G$12:$G$19,'04 Tiempos'!$D$12:$D$19)) -> 0 | E32: =IF(OR($L$7<>"LISTO",C32=""),"",'05 Capacidad'!F12) -> 0 | F32: =IF(OR(D32="",E32=""),"",E32-D32) -> 0 | G32: =IF(OR(D32="",E32=""),"",IF(E32=0,"",D32/E32)) | H32: =IF(C32="","",IF($L$7<>"LISTO","REVISAR DATOS",IF(AND(D32=0,E32=0),"SIN ACTIVIDAD",IF(D32>E32,"SOBRECARGA",IF(D32=E32,"SIN HOLGURA","CON HOLGURA"))))) -> SIN ACTIVIDAD | L32: El diagnóstico solo es válido si el estado general indica LISTO. El RCCP no reemplaza el MRP, la programación detallada ni la comprobación de materiales, precedencias y fechas. | M32: El diagnóstico solo es válido si el estado general indica LISTO. El RCCP no reemplaza el MRP, la programación detallada ni la comprobación de materiales, precedencias y fechas. | N32: El diagnóstico solo es válido si el estado general indica LISTO. El RCCP no reemplaza el MRP, la programación detallada ni la comprobación de materiales, precedencias y fechas. | O32: El diagnóstico solo es válido si el estado general indica LISTO. El RCCP no reemplaza el MRP, la programación detallada ni la comprobación de materiales, precedencias y fechas. | P32: El diagnóstico solo es válido si el estado general indica LISTO. El RCCP no reemplaza el MRP, la programación detallada ni la comprobación de materiales, precedencias y fechas.
B33: =IF($L$7<>"LISTO","","S5") -> S5 | C33: =IF('05 Capacidad'!$A$13="","",'05 Capacidad'!$A$13) -> Ensamblaje | D33: =IF(OR($L$7<>"LISTO",C33=""),"",SUMPRODUCT('03 MPS'!$G$12:$G$19,'04 Tiempos'!$E$12:$E$19)) -> 0 | E33: =IF(OR($L$7<>"LISTO",C33=""),"",'05 Capacidad'!F13) -> 0 | F33: =IF(OR(D33="",E33=""),"",E33-D33) -> 0 | G33: =IF(OR(D33="",E33=""),"",IF(E33=0,"",D33/E33)) | H33: =IF(C33="","",IF($L$7<>"LISTO","REVISAR DATOS",IF(AND(D33=0,E33=0),"SIN ACTIVIDAD",IF(D33>E33,"SOBRECARGA",IF(D33=E33,"SIN HOLGURA","CON HOLGURA"))))) -> SIN ACTIVIDAD | L33: El diagnóstico solo es válido si el estado general indica LISTO. El RCCP no reemplaza el MRP, la programación detallada ni la comprobación de materiales, precedencias y fechas. | M33: El diagnóstico solo es válido si el estado general indica LISTO. El RCCP no reemplaza el MRP, la programación detallada ni la comprobación de materiales, precedencias y fechas. | N33: El diagnóstico solo es válido si el estado general indica LISTO. El RCCP no reemplaza el MRP, la programación detallada ni la comprobación de materiales, precedencias y fechas. | O33: El diagnóstico solo es válido si el estado general indica LISTO. El RCCP no reemplaza el MRP, la programación detallada ni la comprobación de materiales, precedencias y fechas. | P33: El diagnóstico solo es válido si el estado general indica LISTO. El RCCP no reemplaza el MRP, la programación detallada ni la comprobación de materiales, precedencias y fechas.
B34: =IF($L$7<>"LISTO","","S5") -> S5 | C34: =IF('05 Capacidad'!$A$14="","",'05 Capacidad'!$A$14) | D34: =IF(OR($L$7<>"LISTO",C34=""),"",SUMPRODUCT('03 MPS'!$G$12:$G$19,'04 Tiempos'!$F$12:$F$19)) | E34: =IF(OR($L$7<>"LISTO",C34=""),"",'05 Capacidad'!F14) | F34: =IF(OR(D34="",E34=""),"",E34-D34) | G34: =IF(OR(D34="",E34=""),"",IF(E34=0,"",D34/E34)) | H34: =IF(C34="","",IF($L$7<>"LISTO","REVISAR DATOS",IF(AND(D34=0,E34=0),"SIN ACTIVIDAD",IF(D34>E34,"SOBRECARGA",IF(D34=E34,"SIN HOLGURA","CON HOLGURA"))))) | L34: El diagnóstico solo es válido si el estado general indica LISTO. El RCCP no reemplaza el MRP, la programación detallada ni la comprobación de materiales, precedencias y fechas. | M34: El diagnóstico solo es válido si el estado general indica LISTO. El RCCP no reemplaza el MRP, la programación detallada ni la comprobación de materiales, precedencias y fechas. | N34: El diagnóstico solo es válido si el estado general indica LISTO. El RCCP no reemplaza el MRP, la programación detallada ni la comprobación de materiales, precedencias y fechas. | O34: El diagnóstico solo es válido si el estado general indica LISTO. El RCCP no reemplaza el MRP, la programación detallada ni la comprobación de materiales, precedencias y fechas. | P34: El diagnóstico solo es válido si el estado general indica LISTO. El RCCP no reemplaza el MRP, la programación detallada ni la comprobación de materiales, precedencias y fechas.
B35: =IF($L$7<>"LISTO","","S5") -> S5 | C35: =IF('05 Capacidad'!$A$15="","",'05 Capacidad'!$A$15) | D35: =IF(OR($L$7<>"LISTO",C35=""),"",SUMPRODUCT('03 MPS'!$G$12:$G$19,'04 Tiempos'!$G$12:$G$19)) | E35: =IF(OR($L$7<>"LISTO",C35=""),"",'05 Capacidad'!F15) | F35: =IF(OR(D35="",E35=""),"",E35-D35) | G35: =IF(OR(D35="",E35=""),"",IF(E35=0,"",D35/E35)) | H35: =IF(C35="","",IF($L$7<>"LISTO","REVISAR DATOS",IF(AND(D35=0,E35=0),"SIN ACTIVIDAD",IF(D35>E35,"SOBRECARGA",IF(D35=E35,"SIN HOLGURA","CON HOLGURA"))))) | L35: El diagnóstico solo es válido si el estado general indica LISTO. El RCCP no reemplaza el MRP, la programación detallada ni la comprobación de materiales, precedencias y fechas. | M35: El diagnóstico solo es válido si el estado general indica LISTO. El RCCP no reemplaza el MRP, la programación detallada ni la comprobación de materiales, precedencias y fechas. | N35: El diagnóstico solo es válido si el estado general indica LISTO. El RCCP no reemplaza el MRP, la programación detallada ni la comprobación de materiales, precedencias y fechas. | O35: El diagnóstico solo es válido si el estado general indica LISTO. El RCCP no reemplaza el MRP, la programación detallada ni la comprobación de materiales, precedencias y fechas. | P35: El diagnóstico solo es válido si el estado general indica LISTO. El RCCP no reemplaza el MRP, la programación detallada ni la comprobación de materiales, precedencias y fechas.
B36: =IF($L$7<>"LISTO","","S6") -> S6 | C36: =IF('05 Capacidad'!$A$12="","",'05 Capacidad'!$A$12) -> Corte | D36: =IF(OR($L$7<>"LISTO",C36=""),"",SUMPRODUCT('03 MPS'!$H$12:$H$19,'04 Tiempos'!$D$12:$D$19)) -> 0 | E36: =IF(OR($L$7<>"LISTO",C36=""),"",'05 Capacidad'!G12) -> 0 | F36: =IF(OR(D36="",E36=""),"",E36-D36) -> 0 | G36: =IF(OR(D36="",E36=""),"",IF(E36=0,"",D36/E36)) | H36: =IF(C36="","",IF($L$7<>"LISTO","REVISAR DATOS",IF(AND(D36=0,E36=0),"SIN ACTIVIDAD",IF(D36>E36,"SOBRECARGA",IF(D36=E36,"SIN HOLGURA","CON HOLGURA"))))) -> SIN ACTIVIDAD
B37: =IF($L$7<>"LISTO","","S6") -> S6 | C37: =IF('05 Capacidad'!$A$13="","",'05 Capacidad'!$A$13) -> Ensamblaje | D37: =IF(OR($L$7<>"LISTO",C37=""),"",SUMPRODUCT('03 MPS'!$H$12:$H$19,'04 Tiempos'!$E$12:$E$19)) -> 0 | E37: =IF(OR($L$7<>"LISTO",C37=""),"",'05 Capacidad'!G13) -> 0 | F37: =IF(OR(D37="",E37=""),"",E37-D37) -> 0 | G37: =IF(OR(D37="",E37=""),"",IF(E37=0,"",D37/E37)) | H37: =IF(C37="","",IF($L$7<>"LISTO","REVISAR DATOS",IF(AND(D37=0,E37=0),"SIN ACTIVIDAD",IF(D37>E37,"SOBRECARGA",IF(D37=E37,"SIN HOLGURA","CON HOLGURA"))))) -> SIN ACTIVIDAD
B38: =IF($L$7<>"LISTO","","S6") -> S6 | C38: =IF('05 Capacidad'!$A$14="","",'05 Capacidad'!$A$14) | D38: =IF(OR($L$7<>"LISTO",C38=""),"",SUMPRODUCT('03 MPS'!$H$12:$H$19,'04 Tiempos'!$F$12:$F$19)) | E38: =IF(OR($L$7<>"LISTO",C38=""),"",'05 Capacidad'!G14) | F38: =IF(OR(D38="",E38=""),"",E38-D38) | G38: =IF(OR(D38="",E38=""),"",IF(E38=0,"",D38/E38)) | H38: =IF(C38="","",IF($L$7<>"LISTO","REVISAR DATOS",IF(AND(D38=0,E38=0),"SIN ACTIVIDAD",IF(D38>E38,"SOBRECARGA",IF(D38=E38,"SIN HOLGURA","CON HOLGURA")))))
B39: =IF($L$7<>"LISTO","","S6") -> S6 | C39: =IF('05 Capacidad'!$A$15="","",'05 Capacidad'!$A$15) | D39: =IF(OR($L$7<>"LISTO",C39=""),"",SUMPRODUCT('03 MPS'!$H$12:$H$19,'04 Tiempos'!$G$12:$G$19)) | E39: =IF(OR($L$7<>"LISTO",C39=""),"",'05 Capacidad'!G15) | F39: =IF(OR(D39="",E39=""),"",E39-D39) | G39: =IF(OR(D39="",E39=""),"",IF(E39=0,"",D39/E39)) | H39: =IF(C39="","",IF($L$7<>"LISTO","REVISAR DATOS",IF(AND(D39=0,E39=0),"SIN ACTIVIDAD",IF(D39>E39,"SOBRECARGA",IF(D39=E39,"SIN HOLGURA","CON HOLGURA")))))
B40: =IF($L$7<>"LISTO","","S7") -> S7 | C40: =IF('05 Capacidad'!$A$12="","",'05 Capacidad'!$A$12) -> Corte | D40: =IF(OR($L$7<>"LISTO",C40=""),"",SUMPRODUCT('03 MPS'!$I$12:$I$19,'04 Tiempos'!$D$12:$D$19)) -> 0 | E40: =IF(OR($L$7<>"LISTO",C40=""),"",'05 Capacidad'!H12) -> 0 | F40: =IF(OR(D40="",E40=""),"",E40-D40) -> 0 | G40: =IF(OR(D40="",E40=""),"",IF(E40=0,"",D40/E40)) | H40: =IF(C40="","",IF($L$7<>"LISTO","REVISAR DATOS",IF(AND(D40=0,E40=0),"SIN ACTIVIDAD",IF(D40>E40,"SOBRECARGA",IF(D40=E40,"SIN HOLGURA","CON HOLGURA"))))) -> SIN ACTIVIDAD
B41: =IF($L$7<>"LISTO","","S7") -> S7 | C41: =IF('05 Capacidad'!$A$13="","",'05 Capacidad'!$A$13) -> Ensamblaje | D41: =IF(OR($L$7<>"LISTO",C41=""),"",SUMPRODUCT('03 MPS'!$I$12:$I$19,'04 Tiempos'!$E$12:$E$19)) -> 0 | E41: =IF(OR($L$7<>"LISTO",C41=""),"",'05 Capacidad'!H13) -> 0 | F41: =IF(OR(D41="",E41=""),"",E41-D41) -> 0 | G41: =IF(OR(D41="",E41=""),"",IF(E41=0,"",D41/E41)) | H41: =IF(C41="","",IF($L$7<>"LISTO","REVISAR DATOS",IF(AND(D41=0,E41=0),"SIN ACTIVIDAD",IF(D41>E41,"SOBRECARGA",IF(D41=E41,"SIN HOLGURA","CON HOLGURA"))))) -> SIN ACTIVIDAD
B42: =IF($L$7<>"LISTO","","S7") -> S7 | C42: =IF('05 Capacidad'!$A$14="","",'05 Capacidad'!$A$14) | D42: =IF(OR($L$7<>"LISTO",C42=""),"",SUMPRODUCT('03 MPS'!$I$12:$I$19,'04 Tiempos'!$F$12:$F$19)) | E42: =IF(OR($L$7<>"LISTO",C42=""),"",'05 Capacidad'!H14) | F42: =IF(OR(D42="",E42=""),"",E42-D42) | G42: =IF(OR(D42="",E42=""),"",IF(E42=0,"",D42/E42)) | H42: =IF(C42="","",IF($L$7<>"LISTO","REVISAR DATOS",IF(AND(D42=0,E42=0),"SIN ACTIVIDAD",IF(D42>E42,"SOBRECARGA",IF(D42=E42,"SIN HOLGURA","CON HOLGURA")))))
B43: =IF($L$7<>"LISTO","","S7") -> S7 | C43: =IF('05 Capacidad'!$A$15="","",'05 Capacidad'!$A$15) | D43: =IF(OR($L$7<>"LISTO",C43=""),"",SUMPRODUCT('03 MPS'!$I$12:$I$19,'04 Tiempos'!$G$12:$G$19)) | E43: =IF(OR($L$7<>"LISTO",C43=""),"",'05 Capacidad'!H15) | F43: =IF(OR(D43="",E43=""),"",E43-D43) | G43: =IF(OR(D43="",E43=""),"",IF(E43=0,"",D43/E43)) | H43: =IF(C43="","",IF($L$7<>"LISTO","REVISAR DATOS",IF(AND(D43=0,E43=0),"SIN ACTIVIDAD",IF(D43>E43,"SOBRECARGA",IF(D43=E43,"SIN HOLGURA","CON HOLGURA")))))
B44: =IF($L$7<>"LISTO","","S8") -> S8 | C44: =IF('05 Capacidad'!$A$12="","",'05 Capacidad'!$A$12) -> Corte | D44: =IF(OR($L$7<>"LISTO",C44=""),"",SUMPRODUCT('03 MPS'!$J$12:$J$19,'04 Tiempos'!$D$12:$D$19)) -> 0 | E44: =IF(OR($L$7<>"LISTO",C44=""),"",'05 Capacidad'!I12) -> 0 | F44: =IF(OR(D44="",E44=""),"",E44-D44) -> 0 | G44: =IF(OR(D44="",E44=""),"",IF(E44=0,"",D44/E44)) | H44: =IF(C44="","",IF($L$7<>"LISTO","REVISAR DATOS",IF(AND(D44=0,E44=0),"SIN ACTIVIDAD",IF(D44>E44,"SOBRECARGA",IF(D44=E44,"SIN HOLGURA","CON HOLGURA"))))) -> SIN ACTIVIDAD
B45: =IF($L$7<>"LISTO","","S8") -> S8 | C45: =IF('05 Capacidad'!$A$13="","",'05 Capacidad'!$A$13) -> Ensamblaje | D45: =IF(OR($L$7<>"LISTO",C45=""),"",SUMPRODUCT('03 MPS'!$J$12:$J$19,'04 Tiempos'!$E$12:$E$19)) -> 0 | E45: =IF(OR($L$7<>"LISTO",C45=""),"",'05 Capacidad'!I13) -> 0 | F45: =IF(OR(D45="",E45=""),"",E45-D45) -> 0 | G45: =IF(OR(D45="",E45=""),"",IF(E45=0,"",D45/E45)) | H45: =IF(C45="","",IF($L$7<>"LISTO","REVISAR DATOS",IF(AND(D45=0,E45=0),"SIN ACTIVIDAD",IF(D45>E45,"SOBRECARGA",IF(D45=E45,"SIN HOLGURA","CON HOLGURA"))))) -> SIN ACTIVIDAD
B46: =IF($L$7<>"LISTO","","S8") -> S8 | C46: =IF('05 Capacidad'!$A$14="","",'05 Capacidad'!$A$14) | D46: =IF(OR($L$7<>"LISTO",C46=""),"",SUMPRODUCT('03 MPS'!$J$12:$J$19,'04 Tiempos'!$F$12:$F$19)) | E46: =IF(OR($L$7<>"LISTO",C46=""),"",'05 Capacidad'!I14) | F46: =IF(OR(D46="",E46=""),"",E46-D46) | G46: =IF(OR(D46="",E46=""),"",IF(E46=0,"",D46/E46)) | H46: =IF(C46="","",IF($L$7<>"LISTO","REVISAR DATOS",IF(AND(D46=0,E46=0),"SIN ACTIVIDAD",IF(D46>E46,"SOBRECARGA",IF(D46=E46,"SIN HOLGURA","CON HOLGURA")))))
B47: =IF($L$7<>"LISTO","","S8") -> S8 | C47: =IF('05 Capacidad'!$A$15="","",'05 Capacidad'!$A$15) | D47: =IF(OR($L$7<>"LISTO",C47=""),"",SUMPRODUCT('03 MPS'!$J$12:$J$19,'04 Tiempos'!$G$12:$G$19)) | E47: =IF(OR($L$7<>"LISTO",C47=""),"",'05 Capacidad'!I15) | F47: =IF(OR(D47="",E47=""),"",E47-D47) | G47: =IF(OR(D47="",E47=""),"",IF(E47=0,"",D47/E47)) | H47: =IF(C47="","",IF($L$7<>"LISTO","REVISAR DATOS",IF(AND(D47=0,E47=0),"SIN ACTIVIDAD",IF(D47>E47,"SOBRECARGA",IF(D47=E47,"SIN HOLGURA","CON HOLGURA")))))

Sheet 07 Escenario
B2: 07 | ESCENARIO DE AJUSTE DEL MPS | C2: 07 | ESCENARIO DE AJUSTE DEL MPS | D2: 07 | ESCENARIO DE AJUSTE DEL MPS | E2: 07 | ESCENARIO DE AJUSTE DEL MPS | F2: 07 | ESCENARIO DE AJUSTE DEL MPS | G2: 07 | ESCENARIO DE AJUSTE DEL MPS | H2: 07 | ESCENARIO DE AJUSTE DEL MPS | I2: 07 | ESCENARIO DE AJUSTE DEL MPS | J2: 07 | ESCENARIO DE AJUSTE DEL MPS | K2: 07 | ESCENARIO DE AJUSTE DEL MPS | L2: 07 | ESCENARIO DE AJUSTE DEL MPS | M2: 07 | ESCENARIO DE AJUSTE DEL MPS
B3: 07 | ESCENARIO DE AJUSTE DEL MPS | C3: 07 | ESCENARIO DE AJUSTE DEL MPS | D3: 07 | ESCENARIO DE AJUSTE DEL MPS | E3: 07 | ESCENARIO DE AJUSTE DEL MPS | F3: 07 | ESCENARIO DE AJUSTE DEL MPS | G3: 07 | ESCENARIO DE AJUSTE DEL MPS | H3: 07 | ESCENARIO DE AJUSTE DEL MPS | I3: 07 | ESCENARIO DE AJUSTE DEL MPS | J3: 07 | ESCENARIO DE AJUSTE DEL MPS | K3: 07 | ESCENARIO DE AJUSTE DEL MPS | L3: 07 | ESCENARIO DE AJUSTE DEL MPS | M3: 07 | ESCENARIO DE AJUSTE DEL MPS
B4: PRUEBA UNA ALTERNATIVA · Solo cambia las celdas amarillas de variación; el MPS original permanece intacto. | C4: PRUEBA UNA ALTERNATIVA · Solo cambia las celdas amarillas de variación; el MPS original permanece intacto. | D4: PRUEBA UNA ALTERNATIVA · Solo cambia las celdas amarillas de variación; el MPS original permanece intacto. | E4: PRUEBA UNA ALTERNATIVA · Solo cambia las celdas amarillas de variación; el MPS original permanece intacto. | F4: PRUEBA UNA ALTERNATIVA · Solo cambia las celdas amarillas de variación; el MPS original permanece intacto. | G4: PRUEBA UNA ALTERNATIVA · Solo cambia las celdas amarillas de variación; el MPS original permanece intacto. | H4: PRUEBA UNA ALTERNATIVA · Solo cambia las celdas amarillas de variación; el MPS original permanece intacto. | I4: PRUEBA UNA ALTERNATIVA · Solo cambia las celdas amarillas de variación; el MPS original permanece intacto. | J4: PRUEBA UNA ALTERNATIVA · Solo cambia las celdas amarillas de variación; el MPS original permanece intacto. | K4: PRUEBA UNA ALTERNATIVA · Solo cambia las celdas amarillas de variación; el MPS original permanece intacto. | L4: PRUEBA UNA ALTERNATIVA · Solo cambia las celdas amarillas de variación; el MPS original permanece intacto. | M4: PRUEBA UNA ALTERNATIVA · Solo cambia las celdas amarillas de variación; el MPS original permanece intacto.
B7: BASE | C7: ='06 Evaluacion'!L7 -> LISTO | E7: AJUSTES | F7: =IF(OR(AND(M12<>"",M12<>"OK"),AND(M13<>"",M13<>"OK"),AND(M14<>"",M14<>"OK"),AND(M15<>"",M15<>"OK"),AND(M16<>"",M16<>"OK"),AND(M17<>"",M17<>"OK"),AND(M18<>"",M18<>"OK"),AND(M19<>"",M19<>"OK"),AND(M26<>"",M26<>"OK"),AND(M27<>"",M27<>"OK"),AND(M28<>"",M28<>"OK"),AND(M29<>"",M29<>"OK"),AND(M30<>"",M30<>"OK"),AND(M31<>"",M31<>"OK"),AND(M32<>"",M32<>"OK"),AND(M33<>"",M33<>"OK")),"REVISAR","OK") -> OK | K7: ESCENARIO | L7: =IF(AND(C7="LISTO",F7="OK"),"LISTO","REVISAR") -> LISTO
B9: A. CAMBIOS FRENTE AL MPS · VALOR NEGATIVO RESTA; VALOR POSITIVO SUMA | C9: A. CAMBIOS FRENTE AL MPS · VALOR NEGATIVO RESTA; VALOR POSITIVO SUMA | D9: A. CAMBIOS FRENTE AL MPS · VALOR NEGATIVO RESTA; VALOR POSITIVO SUMA | E9: A. CAMBIOS FRENTE AL MPS · VALOR NEGATIVO RESTA; VALOR POSITIVO SUMA | F9: A. CAMBIOS FRENTE AL MPS · VALOR NEGATIVO RESTA; VALOR POSITIVO SUMA | G9: A. CAMBIOS FRENTE AL MPS · VALOR NEGATIVO RESTA; VALOR POSITIVO SUMA | H9: A. CAMBIOS FRENTE AL MPS · VALOR NEGATIVO RESTA; VALOR POSITIVO SUMA | I9: A. CAMBIOS FRENTE AL MPS · VALOR NEGATIVO RESTA; VALOR POSITIVO SUMA | J9: A. CAMBIOS FRENTE AL MPS · VALOR NEGATIVO RESTA; VALOR POSITIVO SUMA | K9: A. CAMBIOS FRENTE AL MPS · VALOR NEGATIVO RESTA; VALOR POSITIVO SUMA | L9: A. CAMBIOS FRENTE AL MPS · VALOR NEGATIVO RESTA; VALOR POSITIVO SUMA | M9: A. CAMBIOS FRENTE AL MPS · VALOR NEGATIVO RESTA; VALOR POSITIVO SUMA
B11: CÓDIGO | C11: PRODUCTO | D11: S1 Δ | E11: S2 Δ | F11: S3 Δ | G11: S4 Δ | H11: S5 Δ | I11: S6 Δ | J11: S7 Δ | K11: S8 Δ | L11: CAMBIO NETO | M11: CONTROL
B12: ='03 MPS'!A12 -> P01 | C12: =IF('03 MPS'!B12="","",'03 MPS'!B12) -> Mesa | D12: -12 | E12: 12 | L12: =IF(C12="","",SUM(D12:K12)) -> 0 | M12: =IF(C12="",IF(COUNT(D12:K12)>0,"REVISAR PRODUCTO",""),"OK") -> OK
B13: ='03 MPS'!A13 -> P02 | C13: =IF('03 MPS'!B13="","",'03 MPS'!B13) -> Silla | L13: =IF(C13="","",SUM(D13:K13)) -> 0 | M13: =IF(C13="",IF(COUNT(D13:K13)>0,"REVISAR PRODUCTO",""),"OK") -> OK
B14: ='03 MPS'!A14 -> P03 | C14: =IF('03 MPS'!B14="","",'03 MPS'!B14) | L14: =IF(C14="","",SUM(D14:K14)) | M14: =IF(C14="",IF(COUNT(D14:K14)>0,"REVISAR PRODUCTO",""),"OK")
B15: ='03 MPS'!A15 -> P04 | C15: =IF('03 MPS'!B15="","",'03 MPS'!B15) | L15: =IF(C15="","",SUM(D15:K15)) | M15: =IF(C15="",IF(COUNT(D15:K15)>0,"REVISAR PRODUCTO",""),"OK")
B16: ='03 MPS'!A16 -> P05 | C16: =IF('03 MPS'!B16="","",'03 MPS'!B16) | L16: =IF(C16="","",SUM(D16:K16)) | M16: =IF(C16="",IF(COUNT(D16:K16)>0,"REVISAR PRODUCTO",""),"OK")
B17: ='03 MPS'!A17 -> P06 | C17: =IF('03 MPS'!B17="","",'03 MPS'!B17) | L17: =IF(C17="","",SUM(D17:K17)) | M17: =IF(C17="",IF(COUNT(D17:K17)>0,"REVISAR PRODUCTO",""),"OK")
B18: ='03 MPS'!A18 -> P07 | C18: =IF('03 MPS'!B18="","",'03 MPS'!B18) | L18: =IF(C18="","",SUM(D18:K18)) | M18: =IF(C18="",IF(COUNT(D18:K18)>0,"REVISAR PRODUCTO",""),"OK")
B19: ='03 MPS'!A19 -> P08 | C19: =IF('03 MPS'!B19="","",'03 MPS'!B19) | L19: =IF(C19="","",SUM(D19:K19)) | M19: =IF(C19="",IF(COUNT(D19:K19)>0,"REVISAR PRODUCTO",""),"OK")
B21: EJEMPLO: −12 mesas en S1 y +12 mesas en S2. Sustituye o borra estos dos cambios antes de tu propio análisis. Las celdas amarillas vacías equivalen a una variación de 0. | C21: EJEMPLO: −12 mesas en S1 y +12 mesas en S2. Sustituye o borra estos dos cambios antes de tu propio análisis. Las celdas amarillas vacías equivalen a una variación de 0. | D21: EJEMPLO: −12 mesas en S1 y +12 mesas en S2. Sustituye o borra estos dos cambios antes de tu propio análisis. Las celdas amarillas vacías equivalen a una variación de 0. | E21: EJEMPLO: −12 mesas en S1 y +12 mesas en S2. Sustituye o borra estos dos cambios antes de tu propio análisis. Las celdas amarillas vacías equivalen a una variación de 0. | F21: EJEMPLO: −12 mesas en S1 y +12 mesas en S2. Sustituye o borra estos dos cambios antes de tu propio análisis. Las celdas amarillas vacías equivalen a una variación de 0. | G21: EJEMPLO: −12 mesas en S1 y +12 mesas en S2. Sustituye o borra estos dos cambios antes de tu propio análisis. Las celdas amarillas vacías equivalen a una variación de 0. | H21: EJEMPLO: −12 mesas en S1 y +12 mesas en S2. Sustituye o borra estos dos cambios antes de tu propio análisis. Las celdas amarillas vacías equivalen a una variación de 0. | I21: EJEMPLO: −12 mesas en S1 y +12 mesas en S2. Sustituye o borra estos dos cambios antes de tu propio análisis. Las celdas amarillas vacías equivalen a una variación de 0. | J21: EJEMPLO: −12 mesas en S1 y +12 mesas en S2. Sustituye o borra estos dos cambios antes de tu propio análisis. Las celdas amarillas vacías equivalen a una variación de 0. | K21: EJEMPLO: −12 mesas en S1 y +12 mesas en S2. Sustituye o borra estos dos cambios antes de tu propio análisis. Las celdas amarillas vacías equivalen a una variación de 0. | L21: EJEMPLO: −12 mesas en S1 y +12 mesas en S2. Sustituye o borra estos dos cambios antes de tu propio análisis. Las celdas amarillas vacías equivalen a una variación de 0. | M21: EJEMPLO: −12 mesas en S1 y +12 mesas en S2. Sustituye o borra estos dos cambios antes de tu propio análisis. Las celdas amarillas vacías equivalen a una variación de 0.
B22: EJEMPLO: −12 mesas en S1 y +12 mesas en S2. Sustituye o borra estos dos cambios antes de tu propio análisis. Las celdas amarillas vacías equivalen a una variación de 0. | C22: EJEMPLO: −12 mesas en S1 y +12 mesas en S2. Sustituye o borra estos dos cambios antes de tu propio análisis. Las celdas amarillas vacías equivalen a una variación de 0. | D22: EJEMPLO: −12 mesas en S1 y +12 mesas en S2. Sustituye o borra estos dos cambios antes de tu propio análisis. Las celdas amarillas vacías equivalen a una variación de 0. | E22: EJEMPLO: −12 mesas en S1 y +12 mesas en S2. Sustituye o borra estos dos cambios antes de tu propio análisis. Las celdas amarillas vacías equivalen a una variación de 0. | F22: EJEMPLO: −12 mesas en S1 y +12 mesas en S2. Sustituye o borra estos dos cambios antes de tu propio análisis. Las celdas amarillas vacías equivalen a una variación de 0. | G22: EJEMPLO: −12 mesas en S1 y +12 mesas en S2. Sustituye o borra estos dos cambios antes de tu propio análisis. Las celdas amarillas vacías equivalen a una variación de 0. | H22: EJEMPLO: −12 mesas en S1 y +12 mesas en S2. Sustituye o borra estos dos cambios antes de tu propio análisis. Las celdas amarillas vacías equivalen a una variación de 0. | I22: EJEMPLO: −12 mesas en S1 y +12 mesas en S2. Sustituye o borra estos dos cambios antes de tu propio análisis. Las celdas amarillas vacías equivalen a una variación de 0. | J22: EJEMPLO: −12 mesas en S1 y +12 mesas en S2. Sustituye o borra estos dos cambios antes de tu propio análisis. Las celdas amarillas vacías equivalen a una variación de 0. | K22: EJEMPLO: −12 mesas en S1 y +12 mesas en S2. Sustituye o borra estos dos cambios antes de tu propio análisis. Las celdas amarillas vacías equivalen a una variación de 0. | L22: EJEMPLO: −12 mesas en S1 y +12 mesas en S2. Sustituye o borra estos dos cambios antes de tu propio análisis. Las celdas amarillas vacías equivalen a una variación de 0. | M22: EJEMPLO: −12 mesas en S1 y +12 mesas en S2. Sustituye o borra estos dos cambios antes de tu propio análisis. Las celdas amarillas vacías equivalen a una variación de 0.
B24: B. MPS AJUSTADO · RESULTADO AUTOMÁTICO | C24: B. MPS AJUSTADO · RESULTADO AUTOMÁTICO | D24: B. MPS AJUSTADO · RESULTADO AUTOMÁTICO | E24: B. MPS AJUSTADO · RESULTADO AUTOMÁTICO | F24: B. MPS AJUSTADO · RESULTADO AUTOMÁTICO | G24: B. MPS AJUSTADO · RESULTADO AUTOMÁTICO | H24: B. MPS AJUSTADO · RESULTADO AUTOMÁTICO | I24: B. MPS AJUSTADO · RESULTADO AUTOMÁTICO | J24: B. MPS AJUSTADO · RESULTADO AUTOMÁTICO | K24: B. MPS AJUSTADO · RESULTADO AUTOMÁTICO | L24: B. MPS AJUSTADO · RESULTADO AUTOMÁTICO | M24: B. MPS AJUSTADO · RESULTADO AUTOMÁTICO
B25: CÓDIGO | C25: PRODUCTO | D25: S1 | E25: S2 | F25: S3 | G25: S4 | H25: S5 | I25: S6 | J25: S7 | K25: S8 | L25: TOTAL U. | M25: CONTROL
B26: ='03 MPS'!A12 -> P01 | C26: =IF('03 MPS'!B12="","",'03 MPS'!B12) -> Mesa | D26: =IF($C26="","",'03 MPS'!C12+IF(D12="",0,D12)) -> 68 | E26: =IF($C26="","",'03 MPS'!D12+IF(E12="",0,E12)) -> 72 | F26: =IF($C26="","",'03 MPS'!E12+IF(F12="",0,F12)) -> 0 | G26: =IF($C26="","",'03 MPS'!F12+IF(G12="",0,G12)) -> 0 | H26: =IF($C26="","",'03 MPS'!G12+IF(H12="",0,H12)) -> 0 | I26: =IF($C26="","",'03 MPS'!H12+IF(I12="",0,I12)) -> 0 | J26: =IF($C26="","",'03 MPS'!I12+IF(J12="",0,J12)) -> 0 | K26: =IF($C26="","",'03 MPS'!J12+IF(K12="",0,K12)) -> 0 | L26: =IF(C26="","",SUM(D26:K26)) -> 140 | M26: =IF(C26="",IF(COUNT(D12:K12)>0,"REVISAR PRODUCTO",""),IF(MIN(D26:K26)<0,"REVISAR NEGATIVOS","OK")) -> OK
B27: ='03 MPS'!A13 -> P02 | C27: =IF('03 MPS'!B13="","",'03 MPS'!B13) -> Silla | D27: =IF($C27="","",'03 MPS'!C13+IF(D13="",0,D13)) -> 120 | E27: =IF($C27="","",'03 MPS'!D13+IF(E13="",0,E13)) -> 100 | F27: =IF($C27="","",'03 MPS'!E13+IF(F13="",0,F13)) -> 0 | G27: =IF($C27="","",'03 MPS'!F13+IF(G13="",0,G13)) -> 0 | H27: =IF($C27="","",'03 MPS'!G13+IF(H13="",0,H13)) -> 0 | I27: =IF($C27="","",'03 MPS'!H13+IF(I13="",0,I13)) -> 0 | J27: =IF($C27="","",'03 MPS'!I13+IF(J13="",0,J13)) -> 0 | K27: =IF($C27="","",'03 MPS'!J13+IF(K13="",0,K13)) -> 0 | L27: =IF(C27="","",SUM(D27:K27)) -> 220 | M27: =IF(C27="",IF(COUNT(D13:K13)>0,"REVISAR PRODUCTO",""),IF(MIN(D27:K27)<0,"REVISAR NEGATIVOS","OK")) -> OK
B28: ='03 MPS'!A14 -> P03 | C28: =IF('03 MPS'!B14="","",'03 MPS'!B14) | D28: =IF($C28="","",'03 MPS'!C14+IF(D14="",0,D14)) | E28: =IF($C28="","",'03 MPS'!D14+IF(E14="",0,E14)) | F28: =IF($C28="","",'03 MPS'!E14+IF(F14="",0,F14)) | G28: =IF($C28="","",'03 MPS'!F14+IF(G14="",0,G14)) | H28: =IF($C28="","",'03 MPS'!G14+IF(H14="",0,H14)) | I28: =IF($C28="","",'03 MPS'!H14+IF(I14="",0,I14)) | J28: =IF($C28="","",'03 MPS'!I14+IF(J14="",0,J14)) | K28: =IF($C28="","",'03 MPS'!J14+IF(K14="",0,K14)) | L28: =IF(C28="","",SUM(D28:K28)) | M28: =IF(C28="",IF(COUNT(D14:K14)>0,"REVISAR PRODUCTO",""),IF(MIN(D28:K28)<0,"REVISAR NEGATIVOS","OK"))
B29: ='03 MPS'!A15 -> P04 | C29: =IF('03 MPS'!B15="","",'03 MPS'!B15) | D29: =IF($C29="","",'03 MPS'!C15+IF(D15="",0,D15)) | E29: =IF($C29="","",'03 MPS'!D15+IF(E15="",0,E15)) | F29: =IF($C29="","",'03 MPS'!E15+IF(F15="",0,F15)) | G29: =IF($C29="","",'03 MPS'!F15+IF(G15="",0,G15)) | H29: =IF($C29="","",'03 MPS'!G15+IF(H15="",0,H15)) | I29: =IF($C29="","",'03 MPS'!H15+IF(I15="",0,I15)) | J29: =IF($C29="","",'03 MPS'!I15+IF(J15="",0,J15)) | K29: =IF($C29="","",'03 MPS'!J15+IF(K15="",0,K15)) | L29: =IF(C29="","",SUM(D29:K29)) | M29: =IF(C29="",IF(COUNT(D15:K15)>0,"REVISAR PRODUCTO",""),IF(MIN(D29:K29)<0,"REVISAR NEGATIVOS","OK"))
B30: ='03 MPS'!A16 -> P05 | C30: =IF('03 MPS'!B16="","",'03 MPS'!B16) | D30: =IF($C30="","",'03 MPS'!C16+IF(D16="",0,D16)) | E30: =IF($C30="","",'03 MPS'!D16+IF(E16="",0,E16)) | F30: =IF($C30="","",'03 MPS'!E16+IF(F16="",0,F16)) | G30: =IF($C30="","",'03 MPS'!F16+IF(G16="",0,G16)) | H30: =IF($C30="","",'03 MPS'!G16+IF(H16="",0,H16)) | I30: =IF($C30="","",'03 MPS'!H16+IF(I16="",0,I16)) | J30: =IF($C30="","",'03 MPS'!I16+IF(J16="",0,J16)) | K30: =IF($C30="","",'03 MPS'!J16+IF(K16="",0,K16)) | L30: =IF(C30="","",SUM(D30:K30)) | M30: =IF(C30="",IF(COUNT(D16:K16)>0,"REVISAR PRODUCTO",""),IF(MIN(D30:K30)<0,"REVISAR NEGATIVOS","OK"))
B31: ='03 MPS'!A17 -> P06 | C31: =IF('03 MPS'!B17="","",'03 MPS'!B17) | D31: =IF($C31="","",'03 MPS'!C17+IF(D17="",0,D17)) | E31: =IF($C31="","",'03 MPS'!D17+IF(E17="",0,E17)) | F31: =IF($C31="","",'03 MPS'!E17+IF(F17="",0,F17)) | G31: =IF($C31="","",'03 MPS'!F17+IF(G17="",0,G17)) | H31: =IF($C31="","",'03 MPS'!G17+IF(H17="",0,H17)) | I31: =IF($C31="","",'03 MPS'!H17+IF(I17="",0,I17)) | J31: =IF($C31="","",'03 MPS'!I17+IF(J17="",0,J17)) | K31: =IF($C31="","",'03 MPS'!J17+IF(K17="",0,K17)) | L31: =IF(C31="","",SUM(D31:K31)) | M31: =IF(C31="",IF(COUNT(D17:K17)>0,"REVISAR PRODUCTO",""),IF(MIN(D31:K31)<0,"REVISAR NEGATIVOS","OK"))
B32: ='03 MPS'!A18 -> P07 | C32: =IF('03 MPS'!B18="","",'03 MPS'!B18) | D32: =IF($C32="","",'03 MPS'!C18+IF(D18="",0,D18)) | E32: =IF($C32="","",'03 MPS'!D18+IF(E18="",0,E18)) | F32: =IF($C32="","",'03 MPS'!E18+IF(F18="",0,F18)) | G32: =IF($C32="","",'03 MPS'!F18+IF(G18="",0,G18)) | H32: =IF($C32="","",'03 MPS'!G18+IF(H18="",0,H18)) | I32: =IF($C32="","",'03 MPS'!H18+IF(I18="",0,I18)) | J32: =IF($C32="","",'03 MPS'!I18+IF(J18="",0,J18)) | K32: =IF($C32="","",'03 MPS'!J18+IF(K18="",0,K18)) | L32: =IF(C32="","",SUM(D32:K32)) | M32: =IF(C32="",IF(COUNT(D18:K18)>0,"REVISAR PRODUCTO",""),IF(MIN(D32:K32)<0,"REVISAR NEGATIVOS","OK"))
B33: ='03 MPS'!A19 -> P08 | C33: =IF('03 MPS'!B19="","",'03 MPS'!B19) | D33: =IF($C33="","",'03 MPS'!C19+IF(D19="",0,D19)) | E33: =IF($C33="","",'03 MPS'!D19+IF(E19="",0,E19)) | F33: =IF($C33="","",'03 MPS'!E19+IF(F19="",0,F19)) | G33: =IF($C33="","",'03 MPS'!F19+IF(G19="",0,G19)) | H33: =IF($C33="","",'03 MPS'!G19+IF(H19="",0,H19)) | I33: =IF($C33="","",'03 MPS'!H19+IF(I19="",0,I19)) | J33: =IF($C33="","",'03 MPS'!I19+IF(J19="",0,J19)) | K33: =IF($C33="","",'03 MPS'!J19+IF(K19="",0,K19)) | L33: =IF(C33="","",SUM(D33:K33)) | M33: =IF(C33="",IF(COUNT(D19:K19)>0,"REVISAR PRODUCTO",""),IF(MIN(D33:K33)<0,"REVISAR NEGATIVOS","OK"))
B37: C. COMPARACIÓN ORIGINAL VS ESCENARIO · POR RECURSO Y SEMANA | C37: C. COMPARACIÓN ORIGINAL VS ESCENARIO · POR RECURSO Y SEMANA | D37: C. COMPARACIÓN ORIGINAL VS ESCENARIO · POR RECURSO Y SEMANA | E37: C. COMPARACIÓN ORIGINAL VS ESCENARIO · POR RECURSO Y SEMANA | F37: C. COMPARACIÓN ORIGINAL VS ESCENARIO · POR RECURSO Y SEMANA | G37: C. COMPARACIÓN ORIGINAL VS ESCENARIO · POR RECURSO Y SEMANA | H37: C. COMPARACIÓN ORIGINAL VS ESCENARIO · POR RECURSO Y SEMANA | I37: C. COMPARACIÓN ORIGINAL VS ESCENARIO · POR RECURSO Y SEMANA | J37: C. COMPARACIÓN ORIGINAL VS ESCENARIO · POR RECURSO Y SEMANA | K37: C. COMPARACIÓN ORIGINAL VS ESCENARIO · POR RECURSO Y SEMANA | L37: C. COMPARACIÓN ORIGINAL VS ESCENARIO · POR RECURSO Y SEMANA | M37: C. COMPARACIÓN ORIGINAL VS ESCENARIO · POR RECURSO Y SEMANA
B40: SEMANA | C40: RECURSO | D40: ORIGINAL h | E40: ESCENARIO h | F40: CAP. h | G40: HOLGURA h | H40: USO ESC. | I40: DIAGNÓSTICO | K40: INDICADOR | L40: ORIGINAL | M40: ESCENARIO
B41: =IF($L$7<>"LISTO","","S1") -> S1 | C41: =IF('06 Evaluacion'!C16="","",'06 Evaluacion'!C16) -> Corte | D41: =IF($L$7<>"LISTO","",'06 Evaluacion'!D16) -> 70 | E41: =IF(OR($L$7<>"LISTO",C41=""),"",SUMPRODUCT($D$26:$D$33,'04 Tiempos'!$D$12:$D$19)) -> 64 | F41: =IF(OR($L$7<>"LISTO",C41=""),"",'06 Evaluacion'!E16) -> 64 | G41: =IF(OR(E41="",F41=""),"",F41-E41) -> 0 | H41: =IF(OR(E41="",F41=""),"",IF(F41=0,"",E41/F41)) -> 1 | I41: =IF(C41="","",IF($L$7<>"LISTO","REVISAR DATOS",IF(AND(E41=0,F41=0),"SIN ACTIVIDAD",IF(E41>F41,"SOBRECARGA",IF(E41=F41,"SIN HOLGURA","CON HOLGURA"))))) -> SIN HOLGURA | K41: Sobrecargas | L41: ='06 Evaluacion'!B10 -> 1 | M41: =IF($L$7<>"LISTO","",COUNTIF(I41:I72,"SOBRECARGA")) -> 0
B42: =IF($L$7<>"LISTO","","S1") -> S1 | C42: =IF('06 Evaluacion'!C17="","",'06 Evaluacion'!C17) -> Ensamblaje | D42: =IF($L$7<>"LISTO","",'06 Evaluacion'!D17) -> 66 | E42: =IF(OR($L$7<>"LISTO",C42=""),"",SUMPRODUCT($D$26:$D$33,'04 Tiempos'!$E$12:$E$19)) -> 58.8 | F42: =IF(OR($L$7<>"LISTO",C42=""),"",'06 Evaluacion'!E17) -> 72 | G42: =IF(OR(E42="",F42=""),"",F42-E42) -> 13.2 | H42: =IF(OR(E42="",F42=""),"",IF(F42=0,"",E42/F42)) -> 0.81666667 | I42: =IF(C42="","",IF($L$7<>"LISTO","REVISAR DATOS",IF(AND(E42=0,F42=0),"SIN ACTIVIDAD",IF(E42>F42,"SOBRECARGA",IF(E42=F42,"SIN HOLGURA","CON HOLGURA"))))) -> CON HOLGURA | K42: Mayor déficit h | L42: ='06 Evaluacion'!E10 -> 6 | M42: =IF($L$7<>"LISTO","",MAX(0,-MIN(G41:G72))) -> 0
B43: =IF($L$7<>"LISTO","","S1") -> S1 | C43: =IF('06 Evaluacion'!C18="","",'06 Evaluacion'!C18) | D43: =IF($L$7<>"LISTO","",'06 Evaluacion'!D18) | E43: =IF(OR($L$7<>"LISTO",C43=""),"",SUMPRODUCT($D$26:$D$33,'04 Tiempos'!$F$12:$F$19)) | F43: =IF(OR($L$7<>"LISTO",C43=""),"",'06 Evaluacion'!E18) | G43: =IF(OR(E43="",F43=""),"",F43-E43) | H43: =IF(OR(E43="",F43=""),"",IF(F43=0,"",E43/F43)) | I43: =IF(C43="","",IF($L$7<>"LISTO","REVISAR DATOS",IF(AND(E43=0,F43=0),"SIN ACTIVIDAD",IF(E43>F43,"SOBRECARGA",IF(E43=F43,"SIN HOLGURA","CON HOLGURA"))))) | K43: Cantidad total u. | L43: =SUM('03 MPS'!K12:K19) -> 360 | M43: =IF($L$7<>"LISTO","",SUM(L26:L33)) -> 360
B44: =IF($L$7<>"LISTO","","S1") -> S1 | C44: =IF('06 Evaluacion'!C19="","",'06 Evaluacion'!C19) | D44: =IF($L$7<>"LISTO","",'06 Evaluacion'!D19) | E44: =IF(OR($L$7<>"LISTO",C44=""),"",SUMPRODUCT($D$26:$D$33,'04 Tiempos'!$G$12:$G$19)) | F44: =IF(OR($L$7<>"LISTO",C44=""),"",'06 Evaluacion'!E19) | G44: =IF(OR(E44="",F44=""),"",F44-E44) | H44: =IF(OR(E44="",F44=""),"",IF(F44=0,"",E44/F44)) | I44: =IF(C44="","",IF($L$7<>"LISTO","REVISAR DATOS",IF(AND(E44=0,F44=0),"SIN ACTIVIDAD",IF(E44>F44,"SOBRECARGA",IF(E44=F44,"SIN HOLGURA","CON HOLGURA")))))
B45: =IF($L$7<>"LISTO","","S2") -> S2 | C45: =IF('06 Evaluacion'!C20="","",'06 Evaluacion'!C20) -> Corte | D45: =IF($L$7<>"LISTO","",'06 Evaluacion'!D20) -> 55 | E45: =IF(OR($L$7<>"LISTO",C45=""),"",SUMPRODUCT($E$26:$E$33,'04 Tiempos'!$D$12:$D$19)) -> 61 | F45: =IF(OR($L$7<>"LISTO",C45=""),"",'06 Evaluacion'!E20) -> 64 | G45: =IF(OR(E45="",F45=""),"",F45-E45) -> 3 | H45: =IF(OR(E45="",F45=""),"",IF(F45=0,"",E45/F45)) -> 0.953125 | I45: =IF(C45="","",IF($L$7<>"LISTO","REVISAR DATOS",IF(AND(E45=0,F45=0),"SIN ACTIVIDAD",IF(E45>F45,"SOBRECARGA",IF(E45=F45,"SIN HOLGURA","CON HOLGURA"))))) -> CON HOLGURA
B46: =IF($L$7<>"LISTO","","S2") -> S2 | C46: =IF('06 Evaluacion'!C21="","",'06 Evaluacion'!C21) -> Ensamblaje | D46: =IF($L$7<>"LISTO","",'06 Evaluacion'!D21) -> 51 | E46: =IF(OR($L$7<>"LISTO",C46=""),"",SUMPRODUCT($E$26:$E$33,'04 Tiempos'!$E$12:$E$19)) -> 58.2 | F46: =IF(OR($L$7<>"LISTO",C46=""),"",'06 Evaluacion'!E21) -> 72 | G46: =IF(OR(E46="",F46=""),"",F46-E46) -> 13.8 | H46: =IF(OR(E46="",F46=""),"",IF(F46=0,"",E46/F46)) -> 0.80833333 | I46: =IF(C46="","",IF($L$7<>"LISTO","REVISAR DATOS",IF(AND(E46=0,F46=0),"SIN ACTIVIDAD",IF(E46>F46,"SOBRECARGA",IF(E46=F46,"SIN HOLGURA","CON HOLGURA"))))) -> CON HOLGURA | K46: IMPORTANTE: un resultado sin sobrecargas sigue siendo una estimación inicial. Revisa fechas de entrega, materiales y secuencia de operaciones. Mantener unidades totales no garantiza factibilidad si se desplazan pedidos fuera de plazo. | L46: IMPORTANTE: un resultado sin sobrecargas sigue siendo una estimación inicial. Revisa fechas de entrega, materiales y secuencia de operaciones. Mantener unidades totales no garantiza factibilidad si se desplazan pedidos fuera de plazo. | M46: IMPORTANTE: un resultado sin sobrecargas sigue siendo una estimación inicial. Revisa fechas de entrega, materiales y secuencia de operaciones. Mantener unidades totales no garantiza factibilidad si se desplazan pedidos fuera de plazo.
B47: =IF($L$7<>"LISTO","","S2") -> S2 | C47: =IF('06 Evaluacion'!C22="","",'06 Evaluacion'!C22) | D47: =IF($L$7<>"LISTO","",'06 Evaluacion'!D22) | E47: =IF(OR($L$7<>"LISTO",C47=""),"",SUMPRODUCT($E$26:$E$33,'04 Tiempos'!$F$12:$F$19)) | F47: =IF(OR($L$7<>"LISTO",C47=""),"",'06 Evaluacion'!E22) | G47: =IF(OR(E47="",F47=""),"",F47-E47) | H47: =IF(OR(E47="",F47=""),"",IF(F47=0,"",E47/F47)) | I47: =IF(C47="","",IF($L$7<>"LISTO","REVISAR DATOS",IF(AND(E47=0,F47=0),"SIN ACTIVIDAD",IF(E47>F47,"SOBRECARGA",IF(E47=F47,"SIN HOLGURA","CON HOLGURA"))))) | K47: IMPORTANTE: un resultado sin sobrecargas sigue siendo una estimación inicial. Revisa fechas de entrega, materiales y secuencia de operaciones. Mantener unidades totales no garantiza factibilidad si se desplazan pedidos fuera de plazo. | L47: IMPORTANTE: un resultado sin sobrecargas sigue siendo una estimación inicial. Revisa fechas de entrega, materiales y secuencia de operaciones. Mantener unidades totales no garantiza factibilidad si se desplazan pedidos fuera de plazo. | M47: IMPORTANTE: un resultado sin sobrecargas sigue siendo una estimación inicial. Revisa fechas de entrega, materiales y secuencia de operaciones. Mantener unidades totales no garantiza factibilidad si se desplazan pedidos fuera de plazo.
B48: =IF($L$7<>"LISTO","","S2") -> S2 | C48: =IF('06 Evaluacion'!C23="","",'06 Evaluacion'!C23) | D48: =IF($L$7<>"LISTO","",'06 Evaluacion'!D23) | E48: =IF(OR($L$7<>"LISTO",C48=""),"",SUMPRODUCT($E$26:$E$33,'04 Tiempos'!$G$12:$G$19)) | F48: =IF(OR($L$7<>"LISTO",C48=""),"",'06 Evaluacion'!E23) | G48: =IF(OR(E48="",F48=""),"",F48-E48) | H48: =IF(OR(E48="",F48=""),"",IF(F48=0,"",E48/F48)) | I48: =IF(C48="","",IF($L$7<>"LISTO","REVISAR DATOS",IF(AND(E48=0,F48=0),"SIN ACTIVIDAD",IF(E48>F48,"SOBRECARGA",IF(E48=F48,"SIN HOLGURA","CON HOLGURA"))))) | K48: IMPORTANTE: un resultado sin sobrecargas sigue siendo una estimación inicial. Revisa fechas de entrega, materiales y secuencia de operaciones. Mantener unidades totales no garantiza factibilidad si se desplazan pedidos fuera de plazo. | L48: IMPORTANTE: un resultado sin sobrecargas sigue siendo una estimación inicial. Revisa fechas de entrega, materiales y secuencia de operaciones. Mantener unidades totales no garantiza factibilidad si se desplazan pedidos fuera de plazo. | M48: IMPORTANTE: un resultado sin sobrecargas sigue siendo una estimación inicial. Revisa fechas de entrega, materiales y secuencia de operaciones. Mantener unidades totales no garantiza factibilidad si se desplazan pedidos fuera de plazo.
B49: =IF($L$7<>"LISTO","","S3") -> S3 | C49: =IF('06 Evaluacion'!C24="","",'06 Evaluacion'!C24) -> Corte | D49: =IF($L$7<>"LISTO","",'06 Evaluacion'!D24) -> 0 | E49: =IF(OR($L$7<>"LISTO",C49=""),"",SUMPRODUCT($F$26:$F$33,'04 Tiempos'!$D$12:$D$19)) -> 0 | F49: =IF(OR($L$7<>"LISTO",C49=""),"",'06 Evaluacion'!E24) -> 0 | G49: =IF(OR(E49="",F49=""),"",F49-E49) -> 0 | H49: =IF(OR(E49="",F49=""),"",IF(F49=0,"",E49/F49)) | I49: =IF(C49="","",IF($L$7<>"LISTO","REVISAR DATOS",IF(AND(E49=0,F49=0),"SIN ACTIVIDAD",IF(E49>F49,"SOBRECARGA",IF(E49=F49,"SIN HOLGURA","CON HOLGURA"))))) -> SIN ACTIVIDAD | K49: IMPORTANTE: un resultado sin sobrecargas sigue siendo una estimación inicial. Revisa fechas de entrega, materiales y secuencia de operaciones. Mantener unidades totales no garantiza factibilidad si se desplazan pedidos fuera de plazo. | L49: IMPORTANTE: un resultado sin sobrecargas sigue siendo una estimación inicial. Revisa fechas de entrega, materiales y secuencia de operaciones. Mantener unidades totales no garantiza factibilidad si se desplazan pedidos fuera de plazo. | M49: IMPORTANTE: un resultado sin sobrecargas sigue siendo una estimación inicial. Revisa fechas de entrega, materiales y secuencia de operaciones. Mantener unidades totales no garantiza factibilidad si se desplazan pedidos fuera de plazo.
B50: =IF($L$7<>"LISTO","","S3") -> S3 | C50: =IF('06 Evaluacion'!C25="","",'06 Evaluacion'!C25) -> Ensamblaje | D50: =IF($L$7<>"LISTO","",'06 Evaluacion'!D25) -> 0 | E50: =IF(OR($L$7<>"LISTO",C50=""),"",SUMPRODUCT($F$26:$F$33,'04 Tiempos'!$E$12:$E$19)) -> 0 | F50: =IF(OR($L$7<>"LISTO",C50=""),"",'06 Evaluacion'!E25) -> 0 | G50: =IF(OR(E50="",F50=""),"",F50-E50) -> 0 | H50: =IF(OR(E50="",F50=""),"",IF(F50=0,"",E50/F50)) | I50: =IF(C50="","",IF($L$7<>"LISTO","REVISAR DATOS",IF(AND(E50=0,F50=0),"SIN ACTIVIDAD",IF(E50>F50,"SOBRECARGA",IF(E50=F50,"SIN HOLGURA","CON HOLGURA"))))) -> SIN ACTIVIDAD | K50: IMPORTANTE: un resultado sin sobrecargas sigue siendo una estimación inicial. Revisa fechas de entrega, materiales y secuencia de operaciones. Mantener unidades totales no garantiza factibilidad si se desplazan pedidos fuera de plazo. | L50: IMPORTANTE: un resultado sin sobrecargas sigue siendo una estimación inicial. Revisa fechas de entrega, materiales y secuencia de operaciones. Mantener unidades totales no garantiza factibilidad si se desplazan pedidos fuera de plazo. | M50: IMPORTANTE: un resultado sin sobrecargas sigue siendo una estimación inicial. Revisa fechas de entrega, materiales y secuencia de operaciones. Mantener unidades totales no garantiza factibilidad si se desplazan pedidos fuera de plazo.
B51: =IF($L$7<>"LISTO","","S3") -> S3 | C51: =IF('06 Evaluacion'!C26="","",'06 Evaluacion'!C26) | D51: =IF($L$7<>"LISTO","",'06 Evaluacion'!D26) | E51: =IF(OR($L$7<>"LISTO",C51=""),"",SUMPRODUCT($F$26:$F$33,'04 Tiempos'!$F$12:$F$19)) | F51: =IF(OR($L$7<>"LISTO",C51=""),"",'06 Evaluacion'!E26) | G51: =IF(OR(E51="",F51=""),"",F51-E51) | H51: =IF(OR(E51="",F51=""),"",IF(F51=0,"",E51/F51)) | I51: =IF(C51="","",IF($L$7<>"LISTO","REVISAR DATOS",IF(AND(E51=0,F51=0),"SIN ACTIVIDAD",IF(E51>F51,"SOBRECARGA",IF(E51=F51,"SIN HOLGURA","CON HOLGURA"))))) | K51: IMPORTANTE: un resultado sin sobrecargas sigue siendo una estimación inicial. Revisa fechas de entrega, materiales y secuencia de operaciones. Mantener unidades totales no garantiza factibilidad si se desplazan pedidos fuera de plazo. | L51: IMPORTANTE: un resultado sin sobrecargas sigue siendo una estimación inicial. Revisa fechas de entrega, materiales y secuencia de operaciones. Mantener unidades totales no garantiza factibilidad si se desplazan pedidos fuera de plazo. | M51: IMPORTANTE: un resultado sin sobrecargas sigue siendo una estimación inicial. Revisa fechas de entrega, materiales y secuencia de operaciones. Mantener unidades totales no garantiza factibilidad si se desplazan pedidos fuera de plazo.
B52: =IF($L$7<>"LISTO","","S3") -> S3 | C52: =IF('06 Evaluacion'!C27="","",'06 Evaluacion'!C27) | D52: =IF($L$7<>"LISTO","",'06 Evaluacion'!D27) | E52: =IF(OR($L$7<>"LISTO",C52=""),"",SUMPRODUCT($F$26:$F$33,'04 Tiempos'!$G$12:$G$19)) | F52: =IF(OR($L$7<>"LISTO",C52=""),"",'06 Evaluacion'!E27) | G52: =IF(OR(E52="",F52=""),"",F52-E52) | H52: =IF(OR(E52="",F52=""),"",IF(F52=0,"",E52/F52)) | I52: =IF(C52="","",IF($L$7<>"LISTO","REVISAR DATOS",IF(AND(E52=0,F52=0),"SIN ACTIVIDAD",IF(E52>F52,"SOBRECARGA",IF(E52=F52,"SIN HOLGURA","CON HOLGURA")))))
B53: =IF($L$7<>"LISTO","","S4") -> S4 | C53: =IF('06 Evaluacion'!C28="","",'06 Evaluacion'!C28) -> Corte | D53: =IF($L$7<>"LISTO","",'06 Evaluacion'!D28) -> 0 | E53: =IF(OR($L$7<>"LISTO",C53=""),"",SUMPRODUCT($G$26:$G$33,'04 Tiempos'!$D$12:$D$19)) -> 0 | F53: =IF(OR($L$7<>"LISTO",C53=""),"",'06 Evaluacion'!E28) -> 0 | G53: =IF(OR(E53="",F53=""),"",F53-E53) -> 0 | H53: =IF(OR(E53="",F53=""),"",IF(F53=0,"",E53/F53)) | I53: =IF(C53="","",IF($L$7<>"LISTO","REVISAR DATOS",IF(AND(E53=0,F53=0),"SIN ACTIVIDAD",IF(E53>F53,"SOBRECARGA",IF(E53=F53,"SIN HOLGURA","CON HOLGURA"))))) -> SIN ACTIVIDAD
B54: =IF($L$7<>"LISTO","","S4") -> S4 | C54: =IF('06 Evaluacion'!C29="","",'06 Evaluacion'!C29) -> Ensamblaje | D54: =IF($L$7<>"LISTO","",'06 Evaluacion'!D29) -> 0 | E54: =IF(OR($L$7<>"LISTO",C54=""),"",SUMPRODUCT($G$26:$G$33,'04 Tiempos'!$E$12:$E$19)) -> 0 | F54: =IF(OR($L$7<>"LISTO",C54=""),"",'06 Evaluacion'!E29) -> 0 | G54: =IF(OR(E54="",F54=""),"",F54-E54) -> 0 | H54: =IF(OR(E54="",F54=""),"",IF(F54=0,"",E54/F54)) | I54: =IF(C54="","",IF($L$7<>"LISTO","REVISAR DATOS",IF(AND(E54=0,F54=0),"SIN ACTIVIDAD",IF(E54>F54,"SOBRECARGA",IF(E54=F54,"SIN HOLGURA","CON HOLGURA"))))) -> SIN ACTIVIDAD
B55: =IF($L$7<>"LISTO","","S4") -> S4 | C55: =IF('06 Evaluacion'!C30="","",'06 Evaluacion'!C30) | D55: =IF($L$7<>"LISTO","",'06 Evaluacion'!D30) | E55: =IF(OR($L$7<>"LISTO",C55=""),"",SUMPRODUCT($G$26:$G$33,'04 Tiempos'!$F$12:$F$19)) | F55: =IF(OR($L$7<>"LISTO",C55=""),"",'06 Evaluacion'!E30) | G55: =IF(OR(E55="",F55=""),"",F55-E55) | H55: =IF(OR(E55="",F55=""),"",IF(F55=0,"",E55/F55)) | I55: =IF(C55="","",IF($L$7<>"LISTO","REVISAR DATOS",IF(AND(E55=0,F55=0),"SIN ACTIVIDAD",IF(E55>F55,"SOBRECARGA",IF(E55=F55,"SIN HOLGURA","CON HOLGURA")))))
B56: =IF($L$7<>"LISTO","","S4") -> S4 | C56: =IF('06 Evaluacion'!C31="","",'06 Evaluacion'!C31) | D56: =IF($L$7<>"LISTO","",'06 Evaluacion'!D31) | E56: =IF(OR($L$7<>"LISTO",C56=""),"",SUMPRODUCT($G$26:$G$33,'04 Tiempos'!$G$12:$G$19)) | F56: =IF(OR($L$7<>"LISTO",C56=""),"",'06 Evaluacion'!E31) | G56: =IF(OR(E56="",F56=""),"",F56-E56) | H56: =IF(OR(E56="",F56=""),"",IF(F56=0,"",E56/F56)) | I56: =IF(C56="","",IF($L$7<>"LISTO","REVISAR DATOS",IF(AND(E56=0,F56=0),"SIN ACTIVIDAD",IF(E56>F56,"SOBRECARGA",IF(E56=F56,"SIN HOLGURA","CON HOLGURA")))))
B57: =IF($L$7<>"LISTO","","S5") -> S5 | C57: =IF('06 Evaluacion'!C32="","",'06 Evaluacion'!C32) -> Corte | D57: =IF($L$7<>"LISTO","",'06 Evaluacion'!D32) -> 0 | E57: =IF(OR($L$7<>"LISTO",C57=""),"",SUMPRODUCT($H$26:$H$33,'04 Tiempos'!$D$12:$D$19)) -> 0 | F57: =IF(OR($L$7<>"LISTO",C57=""),"",'06 Evaluacion'!E32) -> 0 | G57: =IF(OR(E57="",F57=""),"",F57-E57) -> 0 | H57: =IF(OR(E57="",F57=""),"",IF(F57=0,"",E57/F57)) | I57: =IF(C57="","",IF($L$7<>"LISTO","REVISAR DATOS",IF(AND(E57=0,F57=0),"SIN ACTIVIDAD",IF(E57>F57,"SOBRECARGA",IF(E57=F57,"SIN HOLGURA","CON HOLGURA"))))) -> SIN ACTIVIDAD
B58: =IF($L$7<>"LISTO","","S5") -> S5 | C58: =IF('06 Evaluacion'!C33="","",'06 Evaluacion'!C33) -> Ensamblaje | D58: =IF($L$7<>"LISTO","",'06 Evaluacion'!D33) -> 0 | E58: =IF(OR($L$7<>"LISTO",C58=""),"",SUMPRODUCT($H$26:$H$33,'04 Tiempos'!$E$12:$E$19)) -> 0 | F58: =IF(OR($L$7<>"LISTO",C58=""),"",'06 Evaluacion'!E33) -> 0 | G58: =IF(OR(E58="",F58=""),"",F58-E58) -> 0 | H58: =IF(OR(E58="",F58=""),"",IF(F58=0,"",E58/F58)) | I58: =IF(C58="","",IF($L$7<>"LISTO","REVISAR DATOS",IF(AND(E58=0,F58=0),"SIN ACTIVIDAD",IF(E58>F58,"SOBRECARGA",IF(E58=F58,"SIN HOLGURA","CON HOLGURA"))))) -> SIN ACTIVIDAD
B59: =IF($L$7<>"LISTO","","S5") -> S5 | C59: =IF('06 Evaluacion'!C34="","",'06 Evaluacion'!C34) | D59: =IF($L$7<>"LISTO","",'06 Evaluacion'!D34) | E59: =IF(OR($L$7<>"LISTO",C59=""),"",SUMPRODUCT($H$26:$H$33,'04 Tiempos'!$F$12:$F$19)) | F59: =IF(OR($L$7<>"LISTO",C59=""),"",'06 Evaluacion'!E34) | G59: =IF(OR(E59="",F59=""),"",F59-E59) | H59: =IF(OR(E59="",F59=""),"",IF(F59=0,"",E59/F59)) | I59: =IF(C59="","",IF($L$7<>"LISTO","REVISAR DATOS",IF(AND(E59=0,F59=0),"SIN ACTIVIDAD",IF(E59>F59,"SOBRECARGA",IF(E59=F59,"SIN HOLGURA","CON HOLGURA")))))
B60: =IF($L$7<>"LISTO","","S5") -> S5 | C60: =IF('06 Evaluacion'!C35="","",'06 Evaluacion'!C35) | D60: =IF($L$7<>"LISTO","",'06 Evaluacion'!D35) | E60: =IF(OR($L$7<>"LISTO",C60=""),"",SUMPRODUCT($H$26:$H$33,'04 Tiempos'!$G$12:$G$19)) | F60: =IF(OR($L$7<>"LISTO",C60=""),"",'06 Evaluacion'!E35) | G60: =IF(OR(E60="",F60=""),"",F60-E60) | H60: =IF(OR(E60="",F60=""),"",IF(F60=0,"",E60/F60)) | I60: =IF(C60="","",IF($L$7<>"LISTO","REVISAR DATOS",IF(AND(E60=0,F60=0),"SIN ACTIVIDAD",IF(E60>F60,"SOBRECARGA",IF(E60=F60,"SIN HOLGURA","CON HOLGURA")))))
B61: =IF($L$7<>"LISTO","","S6") -> S6 | C61: =IF('06 Evaluacion'!C36="","",'06 Evaluacion'!C36) -> Corte | D61: =IF($L$7<>"LISTO","",'06 Evaluacion'!D36) -> 0 | E61: =IF(OR($L$7<>"LISTO",C61=""),"",SUMPRODUCT($I$26:$I$33,'04 Tiempos'!$D$12:$D$19)) -> 0 | F61: =IF(OR($L$7<>"LISTO",C61=""),"",'06 Evaluacion'!E36) -> 0 | G61: =IF(OR(E61="",F61=""),"",F61-E61) -> 0 | H61: =IF(OR(E61="",F61=""),"",IF(F61=0,"",E61/F61)) | I61: =IF(C61="","",IF($L$7<>"LISTO","REVISAR DATOS",IF(AND(E61=0,F61=0),"SIN ACTIVIDAD",IF(E61>F61,"SOBRECARGA",IF(E61=F61,"SIN HOLGURA","CON HOLGURA"))))) -> SIN ACTIVIDAD
B62: =IF($L$7<>"LISTO","","S6") -> S6 | C62: =IF('06 Evaluacion'!C37="","",'06 Evaluacion'!C37) -> Ensamblaje | D62: =IF($L$7<>"LISTO","",'06 Evaluacion'!D37) -> 0 | E62: =IF(OR($L$7<>"LISTO",C62=""),"",SUMPRODUCT($I$26:$I$33,'04 Tiempos'!$E$12:$E$19)) -> 0 | F62: =IF(OR($L$7<>"LISTO",C62=""),"",'06 Evaluacion'!E37) -> 0 | G62: =IF(OR(E62="",F62=""),"",F62-E62) -> 0 | H62: =IF(OR(E62="",F62=""),"",IF(F62=0,"",E62/F62)) | I62: =IF(C62="","",IF($L$7<>"LISTO","REVISAR DATOS",IF(AND(E62=0,F62=0),"SIN ACTIVIDAD",IF(E62>F62,"SOBRECARGA",IF(E62=F62,"SIN HOLGURA","CON HOLGURA"))))) -> SIN ACTIVIDAD
B63: =IF($L$7<>"LISTO","","S6") -> S6 | C63: =IF('06 Evaluacion'!C38="","",'06 Evaluacion'!C38) | D63: =IF($L$7<>"LISTO","",'06 Evaluacion'!D38) | E63: =IF(OR($L$7<>"LISTO",C63=""),"",SUMPRODUCT($I$26:$I$33,'04 Tiempos'!$F$12:$F$19)) | F63: =IF(OR($L$7<>"LISTO",C63=""),"",'06 Evaluacion'!E38) | G63: =IF(OR(E63="",F63=""),"",F63-E63) | H63: =IF(OR(E63="",F63=""),"",IF(F63=0,"",E63/F63)) | I63: =IF(C63="","",IF($L$7<>"LISTO","REVISAR DATOS",IF(AND(E63=0,F63=0),"SIN ACTIVIDAD",IF(E63>F63,"SOBRECARGA",IF(E63=F63,"SIN HOLGURA","CON HOLGURA")))))
B64: =IF($L$7<>"LISTO","","S6") -> S6 | C64: =IF('06 Evaluacion'!C39="","",'06 Evaluacion'!C39) | D64: =IF($L$7<>"LISTO","",'06 Evaluacion'!D39) | E64: =IF(OR($L$7<>"LISTO",C64=""),"",SUMPRODUCT($I$26:$I$33,'04 Tiempos'!$G$12:$G$19)) | F64: =IF(OR($L$7<>"LISTO",C64=""),"",'06 Evaluacion'!E39) | G64: =IF(OR(E64="",F64=""),"",F64-E64) | H64: =IF(OR(E64="",F64=""),"",IF(F64=0,"",E64/F64)) | I64: =IF(C64="","",IF($L$7<>"LISTO","REVISAR DATOS",IF(AND(E64=0,F64=0),"SIN ACTIVIDAD",IF(E64>F64,"SOBRECARGA",IF(E64=F64,"SIN HOLGURA","CON HOLGURA")))))
B65: =IF($L$7<>"LISTO","","S7") -> S7 | C65: =IF('06 Evaluacion'!C40="","",'06 Evaluacion'!C40) -> Corte | D65: =IF($L$7<>"LISTO","",'06 Evaluacion'!D40) -> 0 | E65: =IF(OR($L$7<>"LISTO",C65=""),"",SUMPRODUCT($J$26:$J$33,'04 Tiempos'!$D$12:$D$19)) -> 0 | F65: =IF(OR($L$7<>"LISTO",C65=""),"",'06 Evaluacion'!E40) -> 0 | G65: =IF(OR(E65="",F65=""),"",F65-E65) -> 0 | H65: =IF(OR(E65="",F65=""),"",IF(F65=0,"",E65/F65)) | I65: =IF(C65="","",IF($L$7<>"LISTO","REVISAR DATOS",IF(AND(E65=0,F65=0),"SIN ACTIVIDAD",IF(E65>F65,"SOBRECARGA",IF(E65=F65,"SIN HOLGURA","CON HOLGURA"))))) -> SIN ACTIVIDAD
B66: =IF($L$7<>"LISTO","","S7") -> S7 | C66: =IF('06 Evaluacion'!C41="","",'06 Evaluacion'!C41) -> Ensamblaje | D66: =IF($L$7<>"LISTO","",'06 Evaluacion'!D41) -> 0 | E66: =IF(OR($L$7<>"LISTO",C66=""),"",SUMPRODUCT($J$26:$J$33,'04 Tiempos'!$E$12:$E$19)) -> 0 | F66: =IF(OR($L$7<>"LISTO",C66=""),"",'06 Evaluacion'!E41) -> 0 | G66: =IF(OR(E66="",F66=""),"",F66-E66) -> 0 | H66: =IF(OR(E66="",F66=""),"",IF(F66=0,"",E66/F66)) | I66: =IF(C66="","",IF($L$7<>"LISTO","REVISAR DATOS",IF(AND(E66=0,F66=0),"SIN ACTIVIDAD",IF(E66>F66,"SOBRECARGA",IF(E66=F66,"SIN HOLGURA","CON HOLGURA"))))) -> SIN ACTIVIDAD
B67: =IF($L$7<>"LISTO","","S7") -> S7 | C67: =IF('06 Evaluacion'!C42="","",'06 Evaluacion'!C42) | D67: =IF($L$7<>"LISTO","",'06 Evaluacion'!D42) | E67: =IF(OR($L$7<>"LISTO",C67=""),"",SUMPRODUCT($J$26:$J$33,'04 Tiempos'!$F$12:$F$19)) | F67: =IF(OR($L$7<>"LISTO",C67=""),"",'06 Evaluacion'!E42) | G67: =IF(OR(E67="",F67=""),"",F67-E67) | H67: =IF(OR(E67="",F67=""),"",IF(F67=0,"",E67/F67)) | I67: =IF(C67="","",IF($L$7<>"LISTO","REVISAR DATOS",IF(AND(E67=0,F67=0),"SIN ACTIVIDAD",IF(E67>F67,"SOBRECARGA",IF(E67=F67,"SIN HOLGURA","CON HOLGURA")))))
B68: =IF($L$7<>"LISTO","","S7") -> S7 | C68: =IF('06 Evaluacion'!C43="","",'06 Evaluacion'!C43) | D68: =IF($L$7<>"LISTO","",'06 Evaluacion'!D43) | E68: =IF(OR($L$7<>"LISTO",C68=""),"",SUMPRODUCT($J$26:$J$33,'04 Tiempos'!$G$12:$G$19)) | F68: =IF(OR($L$7<>"LISTO",C68=""),"",'06 Evaluacion'!E43) | G68: =IF(OR(E68="",F68=""),"",F68-E68) | H68: =IF(OR(E68="",F68=""),"",IF(F68=0,"",E68/F68)) | I68: =IF(C68="","",IF($L$7<>"LISTO","REVISAR DATOS",IF(AND(E68=0,F68=0),"SIN ACTIVIDAD",IF(E68>F68,"SOBRECARGA",IF(E68=F68,"SIN HOLGURA","CON HOLGURA")))))
B69: =IF($L$7<>"LISTO","","S8") -> S8 | C69: =IF('06 Evaluacion'!C44="","",'06 Evaluacion'!C44) -> Corte | D69: =IF($L$7<>"LISTO","",'06 Evaluacion'!D44) -> 0 | E69: =IF(OR($L$7<>"LISTO",C69=""),"",SUMPRODUCT($K$26:$K$33,'04 Tiempos'!$D$12:$D$19)) -> 0 | F69: =IF(OR($L$7<>"LISTO",C69=""),"",'06 Evaluacion'!E44) -> 0 | G69: =IF(OR(E69="",F69=""),"",F69-E69) -> 0 | H69: =IF(OR(E69="",F69=""),"",IF(F69=0,"",E69/F69)) | I69: =IF(C69="","",IF($L$7<>"LISTO","REVISAR DATOS",IF(AND(E69=0,F69=0),"SIN ACTIVIDAD",IF(E69>F69,"SOBRECARGA",IF(E69=F69,"SIN HOLGURA","CON HOLGURA"))))) -> SIN ACTIVIDAD
B70: =IF($L$7<>"LISTO","","S8") -> S8 | C70: =IF('06 Evaluacion'!C45="","",'06 Evaluacion'!C45) -> Ensamblaje | D70: =IF($L$7<>"LISTO","",'06 Evaluacion'!D45) -> 0 | E70: =IF(OR($L$7<>"LISTO",C70=""),"",SUMPRODUCT($K$26:$K$33,'04 Tiempos'!$E$12:$E$19)) -> 0 | F70: =IF(OR($L$7<>"LISTO",C70=""),"",'06 Evaluacion'!E45) -> 0 | G70: =IF(OR(E70="",F70=""),"",F70-E70) -> 0 | H70: =IF(OR(E70="",F70=""),"",IF(F70=0,"",E70/F70)) | I70: =IF(C70="","",IF($L$7<>"LISTO","REVISAR DATOS",IF(AND(E70=0,F70=0),"SIN ACTIVIDAD",IF(E70>F70,"SOBRECARGA",IF(E70=F70,"SIN HOLGURA","CON HOLGURA"))))) -> SIN ACTIVIDAD
B71: =IF($L$7<>"LISTO","","S8") -> S8 | C71: =IF('06 Evaluacion'!C46="","",'06 Evaluacion'!C46) | D71: =IF($L$7<>"LISTO","",'06 Evaluacion'!D46) | E71: =IF(OR($L$7<>"LISTO",C71=""),"",SUMPRODUCT($K$26:$K$33,'04 Tiempos'!$F$12:$F$19)) | F71: =IF(OR($L$7<>"LISTO",C71=""),"",'06 Evaluacion'!E46) | G71: =IF(OR(E71="",F71=""),"",F71-E71) | H71: =IF(OR(E71="",F71=""),"",IF(F71=0,"",E71/F71)) | I71: =IF(C71="","",IF($L$7<>"LISTO","REVISAR DATOS",IF(AND(E71=0,F71=0),"SIN ACTIVIDAD",IF(E71>F71,"SOBRECARGA",IF(E71=F71,"SIN HOLGURA","CON HOLGURA")))))
B72: =IF($L$7<>"LISTO","","S8") -> S8 | C72: =IF('06 Evaluacion'!C47="","",'06 Evaluacion'!C47) | D72: =IF($L$7<>"LISTO","",'06 Evaluacion'!D47) | E72: =IF(OR($L$7<>"LISTO",C72=""),"",SUMPRODUCT($K$26:$K$33,'04 Tiempos'!$G$12:$G$19)) | F72: =IF(OR($L$7<>"LISTO",C72=""),"",'06 Evaluacion'!E47) | G72: =IF(OR(E72="",F72=""),"",F72-E72) | H72: =IF(OR(E72="",F72=""),"",IF(F72=0,"",E72/F72)) | I72: =IF(C72="","",IF($L$7<>"LISTO","REVISAR DATOS",IF(AND(E72=0,F72=0),"SIN ACTIVIDAD",IF(E72>F72,"SOBRECARGA",IF(E72=F72,"SIN HOLGURA","CON HOLGURA")))))
