Workbook

Sheet 1_Instructions
A1: Time and Motion Study Excel Template
A2: Basic-to-intermediate tool for measuring a repeatable task, identifying wasted time or motion, and comparing a Before method with an After method.
A4: Workflow
A5: Step | B5: Action | C5: What to Do
A6: 1 | B6: Review the example | C6: The workbook includes a completed order-preparation example. Use it to understand the workflow before replacing the data.
A7: 2 | B7: Define the study | C7: On Sheet 3, replace the business, process, task, objective, scope, and master activity list. The active activity count is calculated automatically.
A8: 3 | B8: Define quality criteria | C8: On Sheet 3, state the conditions that must remain acceptable while time is reduced.
A9: 4 | B9: Clear only example observations | C9: On Sheet 4, select the example data cells and press Delete. Do not delete worksheet rows, headers, formulas, or the Row Check column.
A10: 5 | B10: Record complete cycles | C10: Use one row per activity. Every activity in the master list must appear exactly once in each cycle.
A11: 6 | B11: Use consistent cycle IDs | C11: Use a positive whole-number cycle ID for every activity belonging to the same complete task cycle.
A12: 7 | B12: Record Before first | C12: Measure the current method before making changes. Then record comparable cycles using the After stage.
A13: 8 | B13: Review Row Check | C13: Fix any MISSING INFORMATION, REVIEW INPUTS, DUPLICATE, or INCOMPLETE CYCLE message before interpreting results.
A14: 9 | B14: Review results | C14: Sheet 5 calculates cycle time, time reduction, quality issues, and average time by activity when the data are valid.
A15: 10 | B15: Validate quality | C15: A faster method is not an improvement if errors, defects, safety risks, or other quality problems increase.
A17: Visual Guide
A18: Color / Control | B18: Meaning
A19: Light blue | B19: User-editable input.
A20: Light gray | B20: Formula or automatic result. Do not overwrite.
A21: Dark navy | B21: Header or section.
A22: Row Check | B22: Automatic control for each observation row.
A23: Study Status | B23: Overall interpretation control on Sheet 5.
A25: Input Rules
A26: Rule | B26: How to Apply It
A27: Activity list | B27: Use 1 to 10 unique activities. Each activity should have a clear measurement boundary.
A28: Observed time | B28: Enter decimal minutes greater than 0 and no more than 1,440 minutes. Example: 1 minute 30 seconds = 1.5.
A29: Cycle | B29: Use a positive whole number. Consecutive numbering is recommended but not required.
A30: Date | B30: Use a valid date between 1/1/2000 and 12/31/2100.
A31: Observed Type | B31: Choose Normal, Waiting, Travel, Search, Rework, or Interruption. | C31: Use a positive whole number that is unique within each stage. Do not restart cycle numbering on a new date within the same Before or After stage.
A32: Quality OK | B32: Choose Yes only when the result meets the quality criteria defined on Sheet 3.
A33: Copy / paste | B33: Pasting can bypass Excel dropdown restrictions. Row Check and Study Status revalidate the main inputs.
A34: Prepared capacity | B34: Up to 300 observation rows and 10 activities.
A36: Study Status Messages
A37: Message | B37: Meaning
A38: MISSING INFORMATION | B38: Required study setup information is incomplete.
A39: REVIEW INPUTS | B39: The setup or one or more observation rows contain invalid, duplicate, or incomplete data.
A40: NEED BEFORE DATA | B40: No valid Before observations are available.
A41: NEED AFTER DATA | B41: Before data exist, but no valid After observations are available yet.
A42: LIMITED DATA | B42: Both stages are valid, but one stage has only one complete cycle. Results are arithmetic, not a robust work standard.
A43: QUALITY REVIEW | B43: The timing data are valid, but at least one observation is marked Quality OK = No.
A44: READY TO COMPARE | B44: The built-in checks passed and both stages have at least two complete cycles with no recorded quality failures.
...

Sheet 2_Glossary
A1: Template Glossary
A2: Terms used in the workbook so observations and results are interpreted consistently.
A4: Term | B4: Plain-English Definition | C4: Example | D4: How It Is Used
A5: Activity | B5: A defined part of a task that can be observed and timed. | C5: Search for products. | D5: Shows where time is consumed.
A6: Measurement Boundary | B6: The observable start and end of one activity. | C6: From beginning the product search until all required SKUs are located. | D6: Keeps repeated observations comparable.
A7: Cycle | B7: One complete execution of the studied task, identified by a cycle ID that is unique within each stage. | C7: Before cycle 1 = one complete order. | D7: Use the same cycle ID for all activities in that execution, and do not reuse that ID for another cycle in the same stage.
A8: Stage | B8: The point in the improvement comparison. | C8: Before or After. | D8: Separates the current method from the improved method.
A9: Observed Time | B9: The duration recorded directly for one activity in one cycle. | C9: 7.2 minutes. | D9: Primary numeric input for timing.
A10: Average Cycle Time | B10: Total valid observed time for a stage divided by the number of complete cycles. | C10: 18.62 minutes Before. | D10: Compares the total task duration.
A11: Average Time by Activity | B11: Average observed time for one activity across complete cycles in the same stage. | C11: Search for products = 7.20 minutes Before. | D11: Identifies activities consuming the most time.
A12: Observed Type | B12: A category describing the main nature of the observed time. | C12: Search or Travel. | D12: Helps classify where time is being consumed.
A13: Waiting | B13: Time with no task progress because a required resource, decision, or condition is unavailable. | C13: Waiting for approval. | D13: Identifies delays.
A14: Travel | B14: Movement between locations. | C14: Walking to the printer. | D14: Highlights layout or routing opportunities.
A15: Search | B15: Time spent locating information, materials, tools, or products. | C15: Searching for a SKU. | D15: Highlights organization or information-access problems.
... A25: Study Status | B25: Overall control summarizing whether the workbook can be interpreted safely. | C25: READY TO COMPARE. | D25: Guides the user before using the results.

Sheet 3_Study_Setup
A1: Study Setup
A2: Light blue = user inputs. Light gray = automatic control. Replace the example with your own study.
A4: Identification & Scope | D4: Master Activity List
A5: Business | B5: Nova Store | D5: No. | E5: Activity | F5: Measurement Boundary | G5: Activity Check
A6: Process | B6: Order Preparation | D6: 1 | E6: Review order | F6: Open the paid order and confirm the products | G6: =IF(AND(E6="",F6=""),"",IF(E6="","MISSING ACTIVITY",IF(F6="","MISSING BOUNDARY",IF(COUNTIF($E$6:$E$15,E6)>1,"DUPLICATE","OK")))) -> OK
A7: Task Studied | B7: Prepare a paid order until it is ready in the dispatch area | D7: 2 | E7: Search for products | F7: Locate all required SKUs | G7: =IF(AND(E7="",F7=""),"",IF(E7="","MISSING ACTIVITY",IF(F7="","MISSING BOUNDARY",IF(COUNTIF($E$6:$E$15,E7)>1,"DUPLICATE","OK")))) -> OK
A8: Objective | B8: Reduce order preparation time without increasing errors | D8: 3 | E8: Verify items | F8: Check SKUs and quantities | G8: =IF(AND(E8="",F8=""),"",IF(E8="","MISSING ACTIVITY",IF(F8="","MISSING BOUNDARY",IF(COUNTIF($E$6:$E$15,E8)>1,"DUPLICATE","OK")))) -> OK
A9: Study Owner | B9: Operations Coordinator | D9: 4 | E9: Pack order | F9: Prepare, protect, and close the package | G9: =IF(AND(E9="",F9=""),"",IF(E9="","MISSING ACTIVITY",IF(F9="","MISSING BOUNDARY",IF(COUNTIF($E$6:$E$15,E9)>1,"DUPLICATE","OK")))) -> OK
A10: Start Date | B10: 46214 | D10: 5 | E10: Print label | F10: Generate and print the shipping label | G10: =IF(AND(E10="",F10=""),"",IF(E10="","MISSING ACTIVITY",IF(F10="","MISSING BOUNDARY",IF(COUNTIF($E$6:$E$15,E10)>1,"DUPLICATE","OK")))) -> OK
A11: Start Event | B11: The order appears as paid | D11: 6 | E11: Move to dispatch | F11: Move the package to the dispatch area | G11: =IF(AND(E11="",F11=""),"",IF(E11="","MISSING ACTIVITY",IF(F11="","MISSING BOUNDARY",IF(COUNTIF($E$6:$E$15,E11)>1,"DUPLICATE","OK")))) -> OK
A12: End Event | B12: The package is closed, labeled, and placed in the dispatch area | D12: 7 | G12: =IF(AND(E12="",F12=""),"",IF(E12="","MISSING ACTIVITY",IF(F12="","MISSING BOUNDARY",IF(COUNTIF($E$6:$E$15,E12)>1,"DUPLICATE","OK"))))
A13: Comparison Criteria | B13: Orders with 1 to 3 products and no special packaging | D13: 8 | G13: =IF(AND(E13="",F13=""),"",IF(E13="","MISSING ACTIVITY",IF(F13="","MISSING BOUNDARY",IF(COUNTIF($E$6:$E$15,E13)>1,"DUPLICATE","OK"))))
A14: Conditions | B14: Same shift and normal material availability | D14: 9 | G14: =IF(AND(E14="",F14=""),"",IF(E14="","MISSING ACTIVITY",IF(F14="","MISSING BOUNDARY",IF(COUNTIF($E$6:$E$15,E14)>1,"DUPLICATE","OK"))))
A15: Active Activities | B15: =COUNTA(E6:E15) -> 6 | D15: 10 | G15: =IF(AND(E15="",F15=""),"",IF(E15="","MISSING ACTIVITY",IF(F15="","MISSING BOUNDARY",IF(COUNTIF($E$6:$E$15,E15)>1,"DUPLICATE","OK"))))
A17: Setup Status | B17: =IF(OR(B5="",B6="",B7="",B8="",B9="",ISBLANK(B10),B11="",B12="",B13="",B14="",B15=0,COUNTA(E19:E21)=0),"MISSING INFORMATION",IF(NOT(ISNUMBER(B10)),"REVIEW INPUTS",IF(OR(B10<DATE(2000,1,1),B10>DATE(2100,12,31),COUNTIF(G6:G15,"<>OK")-COUNTBLANK(G6:G15)>0,COUNTA(D19:D21)<>COUNTA(E19:E21)),"REVIEW INPUTS","READY"))) -> READY | D17: Quality Criteria
D18: Indicator | E18: Target / Condition
D19: Correct Output | E19: No SKU or quantity errors
D20: Packaging | E20: Product protected and package properly closed
D21: Safety | E21: No unsafe movements, postures, or conditions introduced

Sheet 4_Observations
A1: Time and Motion Observations
A2: One row per activity. Every active activity must appear exactly once in each complete cycle.
A3: Times are entered in decimal minutes. Row Check must be OK before the results can be trusted.
A4: Stage | B4: Cycle | C4: Date | D4: Activity | E4: Time (min) | F4: Observed Type | G4: Cause or Movement | H4: Quality OK | I4: Observation | J4: Proposed Improvement | K4: Row Check
A5: Before | B5: 1 | C5: 46214 | D5: Review order | E5: 1.2 | F5: Normal | G5: Order review | H5: Yes | I5: Example observation | J5: Keep the order visible | K5: =IF(COUNTA(A5:J5)=0,"",IF(OR(A5="",ISBLANK(B5),ISBLANK(C5),D5="",ISBLANK(E5),F5="",H5=""),"MISSING INFORMATION",IF(AND(A5<>"Before",A5<>"After"),"REVIEW INPUTS",IF(NOT(ISNUMBER(B5)),"REVIEW INPUTS",IF(OR(B5<1,MOD(B5,1)<>0),"REVIEW INPUTS",IF(NOT(ISNUMBER(C5)),"REVIEW INPUTS",IF(OR(C5<DATE(2000,1,1),C5>DATE(2100,12,31)),"REVIEW INPUTS",IF(COUNTIF('3_Study_Setup'!$E$6:$E$15,D5)<>1,"REVIEW INPUTS",IF(NOT(ISNUMBER(E5)),"REVIEW INPUTS",IF(OR(E5<=0,E5>1440),"REVIEW INPUTS",IF(AND(F5<>"Normal",F5<>"Waiting",F5<>"Travel",F5<>"Search",F5<>"Rework",F5<>"Interruption"),"REVIEW INPUTS",IF(AND(H5<>"Yes",H5<>"No"),"REVIEW INPUTS",IF(COUNTIFS($A$5:$A$304,A5,$B$5:$B$304,B5,$D$5:$D$304,D5)>1,"DUPLICATE",IF(COUNTIFS($A$5:$A$304,A5,$B$5:$B$304,B5)<>'3_Study_Setup'!$B$15,"INCOMPLETE CYCLE","OK")))))))))))))) -> OK
A6: Before | B6: 1 | C6: 46214 | D6: Search for products | E6: 7.5 | F6: Search | G6: Products spread across locations | H6: Yes | I6: Example observation | J6: Organize products by turnover | K6: =IF(COUNTA(A6:J6)=0,"",IF(OR(A6="",ISBLANK(B6),ISBLANK(C6),D6="",ISBLANK(E6),F6="",H6=""),"MISSING INFORMATION",IF(AND(A6<>"Before",A6<>"After"),"REVIEW INPUTS",IF(NOT(ISNUMBER(B6)),"REVIEW INPUTS",IF(OR(B6<1,MOD(B6,1)<>0),"REVIEW INPUTS",IF(NOT(ISNUMBER(C6)),"REVIEW INPUTS",IF(OR(C6<DATE(2000,1,1),C6>DATE(2100,12,31)),"REVIEW INPUTS",IF(COUNTIF('3_Study_Setup'!$E$6:$E$15,D6)<>1,"REVIEW INPUTS",IF(NOT(ISNUMBER(E6)),"REVIEW INPUTS",IF(OR(E6<=0,E6>1440),"REVIEW INPUTS",IF(AND(F6<>"Normal",F6<>"Waiting",F6<>"Travel",F6<>"Search",F6<>"Rework",F6<>"Interruption"),"REVIEW INPUTS",IF(AND(H6<>"Yes",H6<>"No"),"REVIEW INPUTS",IF(COUNTIFS($A$5:$A$304,A6,$B$5:$B$304,B6,$D$5:$D$304,D6)>1,"DUPLICATE",IF(COUNTIFS($A$5:$A$304,A6,$B$5:$B$304,B6)<>'3_Study_Setup'!$B$15,"INCOMPLETE CYCLE","OK")))))))))))))) -> OK
A7: Before | B7: 1 | C7: 46214 | D7: Verify items | E7: 2.1 | F7: Normal | G7: SKU and quantity check | H7: Yes | I7: Example observation | J7: Verify items while packing | K7: =IF(COUNTA(A7:J7)=0,"",IF(OR(A7="",ISBLANK(B7),ISBLANK(C7),D7="",ISBLANK(E7),F7="",H7=""),"MISSING INFORMATION",IF(AND(A7<>"Before",A7<>"After"),"REVIEW INPUTS",IF(NOT(ISNUMBER(B7)),"REVIEW INPUTS",IF(OR(B7<1,MOD(B7,1)<>0),"REVIEW INPUTS",IF(NOT(ISNUMBER(C7)),"REVIEW INPUTS",IF(OR(C7<DATE(2000,1,1),C7>DATE(2100,12,31)),"REVIEW INPUTS",IF(COUNTIF('3_Study_Setup'!$E$6:$E$15,D7)<>1,"REVIEW INPUTS",IF(NOT(ISNUMBER(E7)),"REVIEW INPUTS",IF(OR(E7<=0,E7>1440),"REVIEW INPUTS",IF(AND(F7<>"Normal",F7<>"Waiting",F7<>"Travel",F7<>"Search",F7<>"Rework",F7<>"Interruption"),"REVIEW INPUTS",IF(AND(H7<>"Yes",H7<>"No"),"REVIEW INPUTS",IF(COUNTIFS($A$5:$A$304,A7,$B$5:$B$304,B7,$D$5:$D$304,D7)>1,"DUPLICATE",IF(COUNTIFS($A$5:$A$304,A7,$B$5:$B$304,B7)<>'3_Study_Setup'!$B$15,"INCOMPLETE CYCLE","OK")))))))))))))) -> OK
A8: Before | B8: 1 | C8: 46214 | D8: Pack order | E8: 4.8 | F8: Normal | G8: Packing materials stored separately | H8: Yes | I8: Example observation | J8: Create a packing station | K8: =IF(COUNTA(A8:J8)=0,"",IF(OR(A8="",ISBLANK(B8),ISBLANK(C8),D8="",ISBLANK(E8),F8="",H8=""),"MISSING INFORMATION",IF(AND(A8<>"Before",A8<>"After"),"REVIEW INPUTS",IF(NOT(ISNUMBER(B8)),"REVIEW INPUTS",IF(OR(B8<1,MOD(B8,1)<>0),"REVIEW INPUTS",IF(NOT(ISNUMBER(C8)),"REVIEW INPUTS",IF(OR(C8<DATE(2000,1,1),C8>DATE(2100,12,31)),"REVIEW INPUTS",IF(COUNTIF('3_Study_Setup'!$E$6:$E$15,D8)<>1,"REVIEW INPUTS",IF(NOT(ISNUMBER(E8)),"REVIEW INPUTS",IF(OR(E8<=0,E8>1440),"REVIEW INPUTS",IF(AND(F8<>"Normal",F8<>"Waiting",F8<>"Travel",F8<>"Search",F8<>"Rework",F8<>"Interruption"),"REVIEW INPUTS",IF(AND(H8<>"Yes",H8<>"No"),"REVIEW INPUTS",IF(COUNTIFS($A$5:$A$304,A8,$B$5:$B$304,B8,$D$5:$D$304,D8)>1,"DUPLICATE",IF(COUNTIFS($A$5:$A$304,A8,$B$5:$B$304,B8)<>'3_Study_Setup'!$B$15,"INCOMPLETE CYCLE","OK")))))))))))))) -> OK
A9: Before | B9: 1 | C9: 46214 | D9: Print label | E9: 1.4 | F9: Travel | G9: Printer located too far away | H9: Yes | I9: Example observation | J9: Move the printer closer | K9: =IF(COUNTA(A9:J9)=0,"",IF(OR(A9="",ISBLANK(B9),ISBLANK(C9),D9="",ISBLANK(E9),F9="",H9=""),"MISSING INFORMATION",IF(AND(A9<>"Before",A9<>"After"),"REVIEW INPUTS",IF(NOT(ISNUMBER(B9)),"REVIEW INPUTS",IF(OR(B9<1,MOD(B9,1)<>0),"REVIEW INPUTS",IF(NOT(ISNUMBER(C9)),"REVIEW INPUTS",IF(OR(C9<DATE(2000,1,1),C9>DATE(2100,12,31)),"REVIEW INPUTS",IF(COUNTIF('3_Study_Setup'!$E$6:$E$15,D9)<>1,"REVIEW INPUTS",IF(NOT(ISNUMBER(E9)),"REVIEW INPUTS",IF(OR(E9<=0,E9>1440),"REVIEW INPUTS",IF(AND(F9<>"Normal",F9<>"Waiting",F9<>"Travel",F9<>"Search",F9<>"Rework",F9<>"Interruption"),"REVIEW INPUTS",IF(AND(H9<>"Yes",H9<>"No"),"REVIEW INPUTS",IF(COUNTIFS($A$5:$A$304,A9,$B$5:$B$304,B9,$D$5:$D$304,D9)>1,"DUPLICATE",IF(COUNTIFS($A$5:$A$304,A9,$B$5:$B$304,B9)<>'3_Study_Setup'!$B$15,"INCOMPLETE CYCLE","OK")))))))))))))) -> OK
A10: Before | B10: 1 | C10: 46214 | D10: Move to dispatch | E10: 1.8 | F10: Travel | G10: Dispatch area located too far away | H10: Yes | I10: Example observation | J10: Move the dispatch area closer | K10: =IF(COUNTA(A10:J10)=0,"",IF(OR(A10="",ISBLANK(B10),ISBLANK(C10),D10="",ISBLANK(E10),F10="",H10=""),"MISSING INFORMATION",IF(AND(A10<>"Before",A10<>"After"),"REVIEW INPUTS",IF(NOT(ISNUMBER(B10)),"REVIEW INPUTS",IF(OR(B10<1,MOD(B10,1)<>0),"REVIEW INPUTS",IF(NOT(ISNUMBER(C10)),"REVIEW INPUTS",IF(OR(C10<DATE(2000,1,1),C10>DATE(2100,12,31)),"REVIEW INPUTS",IF(COUNTIF('3_Study_Setup'!$E$6:$E$15,D10)<>1,"REVIEW INPUTS",IF(NOT(ISNUMBER(E10)),"REVIEW INPUTS",IF(OR(E10<=0,E10>1440),"REVIEW INPUTS",IF(AND(F10<>"Normal",F10<>"Waiting",F10<>"Travel",F10<>"Search",F10<>"Rework",F10<>"Interruption"),"REVIEW INPUTS",IF(AND(H10<>"Yes",H10<>"No"),"REVIEW INPUTS",IF(COUNTIFS($A$5:$A$304,A10,$B$5:$B$304,B10,$D$5:$D$304,D10)>1,"DUPLICATE",IF(COUNTIFS($A$5:$A$304,A10,$B$5:$B$304,B10)<>'3_Study_Setup'!$B$15,"INCOMPLETE CYCLE","OK")))))))))))))) -> OK
A11: Before | B11: 2 | C11: 46214 | D11: Review order | E11: 1 | F11: Normal | G11: Order review | H11: Yes | I11: Example observation | J11: Keep the order visible | K11: =IF(COUNTA(A11:J11)=0,"",IF(OR(A11="",ISBLANK(B11),ISBLANK(C11),D11="",ISBLANK(E11),F11="",H11=""),"MISSING INFORMATION",IF(AND(A11<>"Before",A11<>"After"),"REVIEW INPUTS",IF(NOT(ISNUMBER(B11)),"REVIEW INPUTS",IF(OR(B11<1,MOD(B11,1)<>0),"REVIEW INPUTS",IF(NOT(ISNUMBER(C11)),"REVIEW INPUTS",IF(OR(C11<DATE(2000,1,1),C11>DATE(2100,12,31)),"REVIEW INPUTS",IF(COUNTIF('3_Study_Setup'!$E$6:$E$15,D11)<>1,"REVIEW INPUTS",IF(NOT(ISNUMBER(E11)),"REVIEW INPUTS",IF(OR(E11<=0,E11>1440),"REVIEW INPUTS",IF(AND(F11<>"Normal",F11<>"Waiting",F11<>"Travel",F11<>"Search",F11<>"Rework",F11<>"Interruption"),"REVIEW INPUTS",IF(AND(H11<>"Yes",H11<>"No"),"REVIEW INPUTS",IF(COUNTIFS($A$5:$A$304,A11,$B$5:$B$304,B11,$D$5:$D$304,D11)>1,"DUPLICATE",IF(COUNTIFS($A$5:$A$304,A11,$B$5:$B$304,B11)<>'3_Study_Setup'!$B$15,"INCOMPLETE CYCLE","OK")))))))))))))) -> OK
A12: Before | B12: 2 | C12: 46214 | D12: Search for products | E12: 6.8 | F12: Search | G12: Products spread across locations | H12: Yes | I12: Example observation | J12: Organize products by turnover | K12: =IF(COUNTA(A12:J12)=0,"",IF(OR(A12="",ISBLANK(B12),ISBLANK(C12),D12="",ISBLANK(E12),F12="",H12=""),"MISSING INFORMATION",IF(AND(A12<>"Before",A12<>"After"),"REVIEW INPUTS",IF(NOT(ISNUMBER(B12)),"REVIEW INPUTS",IF(OR(B12<1,MOD(B12,1)<>0),"REVIEW INPUTS",IF(NOT(ISNUMBER(C12)),"REVIEW INPUTS",IF(OR(C12<DATE(2000,1,1),C12>DATE(2100,12,31)),"REVIEW INPUTS",IF(COUNTIF('3_Study_Setup'!$E$6:$E$15,D12)<>1,"REVIEW INPUTS",IF(NOT(ISNUMBER(E12)),"REVIEW INPUTS",IF(OR(E12<=0,E12>1440),"REVIEW INPUTS",IF(AND(F12<>"Normal",F12<>"Waiting",F12<>"Travel",F12<>"Search",F12<>"Rework",F12<>"Interruption"),"REVIEW INPUTS",IF(AND(H12<>"Yes",H12<>"No"),"REVIEW INPUTS",IF(COUNTIFS($A$5:$A$304,A12,$B$5:$B$304,B12,$D$5:$D$304,D12)>1,"DUPLICATE",IF(COUNTIFS($A$5:$A$304,A12,$B$5:$B$304,B12)<>'3_Study_Setup'!$B$15,"INCOMPLETE CYCLE","OK")))))))))))))) -> OK
A13: Before | B13: 2 | C13: 46214 | D13: Verify items | E13: 2 | F13: Normal | G13: SKU and quantity check | H13: Yes | I13: Example observation | J13: Verify items while packing | K13: =IF(COUNTA(A13:J13)=0,"",IF(OR(A13="",ISBLANK(B13),ISBLANK(C13),D13="",ISBLANK(E13),F13="",H13=""),"MISSING INFORMATION",IF(AND(A13<>"Before",A13<>"After"),"REVIEW INPUTS",IF(NOT(ISNUMBER(B13)),"REVIEW INPUTS",IF(OR(B13<1,MOD(B13,1)<>0),"REVIEW INPUTS",IF(NOT(ISNUMBER(C13)),"REVIEW INPUTS",IF(OR(C13<DATE(2000,1,1),C13>DATE(2100,12,31)),"REVIEW INPUTS",IF(COUNTIF('3_Study_Setup'!$E$6:$E$15,D13)<>1,"REVIEW INPUTS",IF(NOT(ISNUMBER(E13)),"REVIEW INPUTS",IF(OR(E13<=0,E13>1440),"REVIEW INPUTS",IF(AND(F13<>"Normal",F13<>"Waiting",F13<>"Travel",F13<>"Search",F13<>"Rework",F13<>"Interruption"),"REVIEW INPUTS",IF(AND(H13<>"Yes",H13<>"No"),"REVIEW INPUTS",IF(COUNTIFS($A$5:$A$304,A13,$B$5:$B$304,B13,$D$5:$D$304,D13)>1,"DUPLICATE",IF(COUNTIFS($A$5:$A$304,A13,$B$5:$B$304,B13)<>'3_Study_Setup'!$B$15,"INCOMPLETE CYCLE","OK")))))))))))))) -> OK
A14: Before | B14: 2 | C14: 46214 | D14: Pack order | E14: 5.2 | F14: Normal | G14: Packing materials stored separately | H14: Yes | I14: Example observation | J14: Create a packing station | K14: =IF(COUNTA(A14:J14)=0,"",IF(OR(A14="",ISBLANK(B14),ISBLANK(C14),D14="",ISBLANK(E14),F14="",H14=""),"MISSING INFORMATION",IF(AND(A14<>"Before",A14<>"After"),"REVIEW INPUTS",IF(NOT(ISNUMBER(B14)),"REVIEW INPUTS",IF(OR(B14<1,MOD(B14,1)<>0),"REVIEW INPUTS",IF(NOT(ISNUMBER(C14)),"REVIEW INPUTS",IF(OR(C14<DATE(2000,1,1),C14>DATE(2100,12,31)),"REVIEW INPUTS",IF(COUNTIF('3_Study_Setup'!$E$6:$E$15,D14)<>1,"REVIEW INPUTS",IF(NOT(ISNUMBER(E14)),"REVIEW INPUTS",IF(OR(E14<=0,E14>1440),"REVIEW INPUTS",IF(AND(F14<>"Normal",F14<>"Waiting",F14<>"Travel",F14<>"Search",F14<>"Rework",F14<>"Interruption"),"REVIEW INPUTS",IF(AND(H14<>"Yes",H14<>"No"),"REVIEW INPUTS",IF(COUNTIFS($A$5:$A$304,A14,$B$5:$B$304,B14,$D$5:$D$304,D14)>1,"DUPLICATE",IF(COUNTIFS($A$5:$A$304,A14,$B$5:$B$304,B14)<>'3_Study_Setup'!$B$15,"INCOMPLETE CYCLE","OK")))))))))))))) -> OK
A15: Before | B15: 2 | C15: 46214 | D15: Print label | E15: 1.2 | F15: Travel | G15: Printer located too far away | H15: Yes | I15: Example observation | J15: Move the printer closer | K15: =IF(COUNTA(A15:J15)=0,"",IF(OR(A15="",ISBLANK(B15),ISBLANK(C15),D15="",ISBLANK(E15),F15="",H15=""),"MISSING INFORMATION",IF(AND(A15<>"Before",A15<>"After"),"REVIEW INPUTS",IF(NOT(ISNUMBER(B15)),"REVIEW INPUTS",IF(OR(B15<1,MOD(B15,1)<>0),"REVIEW INPUTS",IF(NOT(ISNUMBER(C15)),"REVIEW INPUTS",IF(OR(C15<DATE(2000,1,1),C15>DATE(2100,12,31)),"REVIEW INPUTS",IF(COUNTIF('3_Study_Setup'!$E$6:$E$15,D15)<>1,"REVIEW INPUTS",IF(NOT(ISNUMBER(E15)),"REVIEW INPUTS",IF(OR(E15<=0,E15>1440),"REVIEW INPUTS",IF(AND(F15<>"Normal",F15<>"Waiting",F15<>"Travel",F15<>"Search",F15<>"Rework",F15<>"Interruption"),"REVIEW INPUTS",IF(AND(H15<>"Yes",H15<>"No"),"REVIEW INPUTS",IF(COUNTIFS($A$5:$A$304,A15,$B$5:$B$304,B15,$D$5:$D$304,D15)>1,"DUPLICATE",IF(COUNTIFS($A$5:$A$304,A15,$B$5:$B$304,B15)<>'3_Study_Setup'!$B$15,"INCOMPLETE CYCLE","OK")))))))))))))) -> OK
A16: Before | B16: 2 | C16: 46214 | D16: Move to dispatch | E16: 2 | F16: Travel | G16: Dispatch area located too far away | H16: Yes | I16: Example observation | J16: Move the dispatch area closer | K16: =IF(COUNTA(A16:J16)=0,"",IF(OR(A16="",ISBLANK(B16),ISBLANK(C16),D16="",ISBLANK(E16),F16="",H16=""),"MISSING INFORMATION",IF(AND(A16<>"Before",A16<>"After"),"REVIEW INPUTS",IF(NOT(ISNUMBER(B16)),"REVIEW INPUTS",IF(OR(B16<1,MOD(B16,1)<>0),"REVIEW INPUTS",IF(NOT(ISNUMBER(C16)),"REVIEW INPUTS",IF(OR(C16<DATE(2000,1,1),C16>DATE(2100,12,31)),"REVIEW INPUTS",IF(COUNTIF('3_Study_Setup'!$E$6:$E$15,D16)<>1,"REVIEW INPUTS",IF(NOT(ISNUMBER(E16)),"REVIEW INPUTS",IF(OR(E16<=0,E16>1440),"REVIEW INPUTS",IF(AND(F16<>"Normal",F16<>"Waiting",F16<>"Travel",F16<>"Search",F16<>"Rework",F16<>"Interruption"),"REVIEW INPUTS",IF(AND(H16<>"Yes",H16<>"No"),"REVIEW INPUTS",IF(COUNTIFS($A$5:$A$304,A16,$B$5:$B$304,B16,$D$5:$D$304,D16)>1,"DUPLICATE",IF(COUNTIFS($A$5:$A$304,A16,$B$5:$B$304,B16)<>'3_Study_Setup'!$B$15,"INCOMPLETE CYCLE","OK")))))))))))))) -> OK
... A64: After | B64: 5 | C64: 46214 | D64: Move to dispatch | E64: 1.2 | F64: Normal | G64: Improved method | H64: Yes | I64: Example observation | J64: Move the dispatch area closer | K64: =IF(COUNTA(A64:J64)=0,"",IF(OR(A64="",ISBLANK(B64),ISBLANK(C64),D64="",ISBLANK(E64),F64="",H64=""),"MISSING INFORMATION",IF(AND(A64<>"Before",A64<>"After"),"REVIEW INPUTS",IF(NOT(ISNUMBER(B64)),"REVIEW INPUTS",IF(OR(B64<1,MOD(B64,1)<>0),"REVIEW INPUTS",IF(NOT(ISNUMBER(C64)),"REVIEW INPUTS",IF(OR(C64<DATE(2000,1,1),C64>DATE(2100,12,31)),"REVIEW INPUTS",IF(COUNTIF('3_Study_Setup'!$E$6:$E$15,D64)<>1,"REVIEW INPUTS",IF(NOT(ISNUMBER(E64)),"REVIEW INPUTS",IF(OR(E64<=0,E64>1440),"REVIEW INPUTS",IF(AND(F64<>"Normal",F64<>"Waiting",F64<>"Travel",F64<>"Search",F64<>"Rework",F64<>"Interruption"),"REVIEW INPUTS",IF(AND(H64<>"Yes",H64<>"No"),"REVIEW INPUTS",IF(COUNTIFS($A$5:$A$304,A64,$B$5:$B$304,B64,$D$5:$D$304,D64)>1,"DUPLICATE",IF(COUNTIFS($A$5:$A$304,A64,$B$5:$B$304,B64)<>'3_Study_Setup'!$B$15,"INCOMPLETE CYCLE","OK")))))))))))))) -> OK
K65: =IF(COUNTA(A65:J65)=0,"",IF(OR(A65="",ISBLANK(B65),ISBLANK(C65),D65="",ISBLANK(E65),F65="",H65=""),"MISSING INFORMATION",IF(AND(A65<>"Before",A65<>"After"),"REVIEW INPUTS",IF(NOT(ISNUMBER(B65)),"REVIEW INPUTS",IF(OR(B65<1,MOD(B65,1)<>0),"REVIEW INPUTS",IF(NOT(ISNUMBER(C65)),"REVIEW INPUTS",IF(OR(C65<DATE(2000,1,1),C65>DATE(2100,12,31)),"REVIEW INPUTS",IF(COUNTIF('3_Study_Setup'!$E$6:$E$15,D65)<>1,"REVIEW INPUTS",IF(NOT(ISNUMBER(E65)),"REVIEW INPUTS",IF(OR(E65<=0,E65>1440),"REVIEW INPUTS",IF(AND(F65<>"Normal",F65<>"Waiting",F65<>"Travel",F65<>"Search",F65<>"Rework",F65<>"Interruption"),"REVIEW INPUTS",IF(AND(H65<>"Yes",H65<>"No"),"REVIEW INPUTS",IF(COUNTIFS($A$5:$A$304,A65,$B$5:$B$304,B65,$D$5:$D$304,D65)>1,"DUPLICATE",IF(COUNTIFS($A$5:$A$304,A65,$B$5:$B$304,B65)<>'3_Study_Setup'!$B$15,"INCOMPLETE CYCLE","OK"))))))))))))))
K66: =IF(COUNTA(A66:J66)=0,"",IF(OR(A66="",ISBLANK(B66),ISBLANK(C66),D66="",ISBLANK(E66),F66="",H66=""),"MISSING INFORMATION",IF(AND(A66<>"Before",A66<>"After"),"REVIEW INPUTS",IF(NOT(ISNUMBER(B66)),"REVIEW INPUTS",IF(OR(B66<1,MOD(B66,1)<>0),"REVIEW INPUTS",IF(NOT(ISNUMBER(C66)),"REVIEW INPUTS",IF(OR(C66<DATE(2000,1,1),C66>DATE(2100,12,31)),"REVIEW INPUTS",IF(COUNTIF('3_Study_Setup'!$E$6:$E$15,D66)<>1,"REVIEW INPUTS",IF(NOT(ISNUMBER(E66)),"REVIEW INPUTS",IF(OR(E66<=0,E66>1440),"REVIEW INPUTS",IF(AND(F66<>"Normal",F66<>"Waiting",F66<>"Travel",F66<>"Search",F66<>"Rework",F66<>"Interruption"),"REVIEW INPUTS",IF(AND(H66<>"Yes",H66<>"No"),"REVIEW INPUTS",IF(COUNTIFS($A$5:$A$304,A66,$B$5:$B$304,B66,$D$5:$D$304,D66)>1,"DUPLICATE",IF(COUNTIFS($A$5:$A$304,A66,$B$5:$B$304,B66)<>'3_Study_Setup'!$B$15,"INCOMPLETE CYCLE","OK"))))))))))))))
K67: =IF(COUNTA(A67:J67)=0,"",IF(OR(A67="",ISBLANK(B67),ISBLANK(C67),D67="",ISBLANK(E67),F67="",H67=""),"MISSING INFORMATION",IF(AND(A67<>"Before",A67<>"After"),"REVIEW INPUTS",IF(NOT(ISNUMBER(B67)),"REVIEW INPUTS",IF(OR(B67<1,MOD(B67,1)<>0),"REVIEW INPUTS",IF(NOT(ISNUMBER(C67)),"REVIEW INPUTS",IF(OR(C67<DATE(2000,1,1),C67>DATE(2100,12,31)),"REVIEW INPUTS",IF(COUNTIF('3_Study_Setup'!$E$6:$E$15,D67)<>1,"REVIEW INPUTS",IF(NOT(ISNUMBER(E67)),"REVIEW INPUTS",IF(OR(E67<=0,E67>1440),"REVIEW INPUTS",IF(AND(F67<>"Normal",F67<>"Waiting",F67<>"Travel",F67<>"Search",F67<>"Rework",F67<>"Interruption"),"REVIEW INPUTS",IF(AND(H67<>"Yes",H67<>"No"),"REVIEW INPUTS",IF(COUNTIFS($A$5:$A$304,A67,$B$5:$B$304,B67,$D$5:$D$304,D67)>1,"DUPLICATE",IF(COUNTIFS($A$5:$A$304,A67,$B$5:$B$304,B67)<>'3_Study_Setup'!$B$15,"INCOMPLETE CYCLE","OK"))))))))))))))
K68: =IF(COUNTA(A68:J68)=0,"",IF(OR(A68="",ISBLANK(B68),ISBLANK(C68),D68="",ISBLANK(E68),F68="",H68=""),"MISSING INFORMATION",IF(AND(A68<>"Before",A68<>"After"),"REVIEW INPUTS",IF(NOT(ISNUMBER(B68)),"REVIEW INPUTS",IF(OR(B68<1,MOD(B68,1)<>0),"REVIEW INPUTS",IF(NOT(ISNUMBER(C68)),"REVIEW INPUTS",IF(OR(C68<DATE(2000,1,1),C68>DATE(2100,12,31)),"REVIEW INPUTS",IF(COUNTIF('3_Study_Setup'!$E$6:$E$15,D68)<>1,"REVIEW INPUTS",IF(NOT(ISNUMBER(E68)),"REVIEW INPUTS",IF(OR(E68<=0,E68>1440),"REVIEW INPUTS",IF(AND(F68<>"Normal",F68<>"Waiting",F68<>"Travel",F68<>"Search",F68<>"Rework",F68<>"Interruption"),"REVIEW INPUTS",IF(AND(H68<>"Yes",H68<>"No"),"REVIEW INPUTS",IF(COUNTIFS($A$5:$A$304,A68,$B$5:$B$304,B68,$D$5:$D$304,D68)>1,"DUPLICATE",IF(COUNTIFS($A$5:$A$304,A68,$B$5:$B$304,B68)<>'3_Study_Setup'!$B$15,"INCOMPLETE CYCLE","OK"))))))))))))))
K69: =IF(COUNTA(A69:J69)=0,"",IF(OR(A69="",ISBLANK(B69),ISBLANK(C69),D69="",ISBLANK(E69),F69="",H69=""),"MISSING INFORMATION",IF(AND(A69<>"Before",A69<>"After"),"REVIEW INPUTS",IF(NOT(ISNUMBER(B69)),"REVIEW INPUTS",IF(OR(B69<1,MOD(B69,1)<>0),"REVIEW INPUTS",IF(NOT(ISNUMBER(C69)),"REVIEW INPUTS",IF(OR(C69<DATE(2000,1,1),C69>DATE(2100,12,31)),"REVIEW INPUTS",IF(COUNTIF('3_Study_Setup'!$E$6:$E$15,D69)<>1,"REVIEW INPUTS",IF(NOT(ISNUMBER(E69)),"REVIEW INPUTS",IF(OR(E69<=0,E69>1440),"REVIEW INPUTS",IF(AND(F69<>"Normal",F69<>"Waiting",F69<>"Travel",F69<>"Search",F69<>"Rework",F69<>"Interruption"),"REVIEW INPUTS",IF(AND(H69<>"Yes",H69<>"No"),"REVIEW INPUTS",IF(COUNTIFS($A$5:$A$304,A69,$B$5:$B$304,B69,$D$5:$D$304,D69)>1,"DUPLICATE",IF(COUNTIFS($A$5:$A$304,A69,$B$5:$B$304,B69)<>'3_Study_Setup'!$B$15,"INCOMPLETE CYCLE","OK"))))))))))))))
K70: =IF(COUNTA(A70:J70)=0,"",IF(OR(A70="",ISBLANK(B70),ISBLANK(C70),D70="",ISBLANK(E70),F70="",H70=""),"MISSING INFORMATION",IF(AND(A70<>"Before",A70<>"After"),"REVIEW INPUTS",IF(NOT(ISNUMBER(B70)),"REVIEW INPUTS",IF(OR(B70<1,MOD(B70,1)<>0),"REVIEW INPUTS",IF(NOT(ISNUMBER(C70)),"REVIEW INPUTS",IF(OR(C70<DATE(2000,1,1),C70>DATE(2100,12,31)),"REVIEW INPUTS",IF(COUNTIF('3_Study_Setup'!$E$6:$E$15,D70)<>1,"REVIEW INPUTS",IF(NOT(ISNUMBER(E70)),"REVIEW INPUTS",IF(OR(E70<=0,E70>1440),"REVIEW INPUTS",IF(AND(F70<>"Normal",F70<>"Waiting",F70<>"Travel",F70<>"Search",F70<>"Rework",F70<>"Interruption"),"REVIEW INPUTS",IF(AND(H70<>"Yes",H70<>"No"),"REVIEW INPUTS",IF(COUNTIFS($A$5:$A$304,A70,$B$5:$B$304,B70,$D$5:$D$304,D70)>1,"DUPLICATE",IF(COUNTIFS($A$5:$A$304,A70,$B$5:$B$304,B70)<>'3_Study_Setup'!$B$15,"INCOMPLETE CYCLE","OK"))))))))))))))
K71: =IF(COUNTA(A71:J71)=0,"",IF(OR(A71="",ISBLANK(B71),ISBLANK(C71),D71="",ISBLANK(E71),F71="",H71=""),"MISSING INFORMATION",IF(AND(A71<>"Before",A71<>"After"),"REVIEW INPUTS",IF(NOT(ISNUMBER(B71)),"REVIEW INPUTS",IF(OR(B71<1,MOD(B71,1)<>0),"REVIEW INPUTS",IF(NOT(ISNUMBER(C71)),"REVIEW INPUTS",IF(OR(C71<DATE(2000,1,1),C71>DATE(2100,12,31)),"REVIEW INPUTS",IF(COUNTIF('3_Study_Setup'!$E$6:$E$15,D71)<>1,"REVIEW INPUTS",IF(NOT(ISNUMBER(E71)),"REVIEW INPUTS",IF(OR(E71<=0,E71>1440),"REVIEW INPUTS",IF(AND(F71<>"Normal",F71<>"Waiting",F71<>"Travel",F71<>"Search",F71<>"Rework",F71<>"Interruption"),"REVIEW INPUTS",IF(AND(H71<>"Yes",H71<>"No"),"REVIEW INPUTS",IF(COUNTIFS($A$5:$A$304,A71,$B$5:$B$304,B71,$D$5:$D$304,D71)>1,"DUPLICATE",IF(COUNTIFS($A$5:$A$304,A71,$B$5:$B$304,B71)<>'3_Study_Setup'!$B$15,"INCOMPLETE CYCLE","OK"))))))))))))))
K72: =IF(COUNTA(A72:J72)=0,"",IF(OR(A72="",ISBLANK(B72),ISBLANK(C72),D72="",ISBLANK(E72),F72="",H72=""),"MISSING INFORMATION",IF(AND(A72<>"Before",A72<>"After"),"REVIEW INPUTS",IF(NOT(ISNUMBER(B72)),"REVIEW INPUTS",IF(OR(B72<1,MOD(B72,1)<>0),"REVIEW INPUTS",IF(NOT(ISNUMBER(C72)),"REVIEW INPUTS",IF(OR(C72<DATE(2000,1,1),C72>DATE(2100,12,31)),"REVIEW INPUTS",IF(COUNTIF('3_Study_Setup'!$E$6:$E$15,D72)<>1,"REVIEW INPUTS",IF(NOT(ISNUMBER(E72)),"REVIEW INPUTS",IF(OR(E72<=0,E72>1440),"REVIEW INPUTS",IF(AND(F72<>"Normal",F72<>"Waiting",F72<>"Travel",F72<>"Search",F72<>"Rework",F72<>"Interruption"),"REVIEW INPUTS",IF(AND(H72<>"Yes",H72<>"No"),"REVIEW INPUTS",IF(COUNTIFS($A$5:$A$304,A72,$B$5:$B$304,B72,$D$5:$D$304,D72)>1,"DUPLICATE",IF(COUNTIFS($A$5:$A$304,A72,$B$5:$B$304,B72)<>'3_Study_Setup'!$B$15,"INCOMPLETE CYCLE","OK"))))))))))))))
K73: =IF(COUNTA(A73:J73)=0,"",IF(OR(A73="",ISBLANK(B73),ISBLANK(C73),D73="",ISBLANK(E73),F73="",H73=""),"MISSING INFORMATION",IF(AND(A73<>"Before",A73<>"After"),"REVIEW INPUTS",IF(NOT(ISNUMBER(B73)),"REVIEW INPUTS",IF(OR(B73<1,MOD(B73,1)<>0),"REVIEW INPUTS",IF(NOT(ISNUMBER(C73)),"REVIEW INPUTS",IF(OR(C73<DATE(2000,1,1),C73>DATE(2100,12,31)),"REVIEW INPUTS",IF(COUNTIF('3_Study_Setup'!$E$6:$E$15,D73)<>1,"REVIEW INPUTS",IF(NOT(ISNUMBER(E73)),"REVIEW INPUTS",IF(OR(E73<=0,E73>1440),"REVIEW INPUTS",IF(AND(F73<>"Normal",F73<>"Waiting",F73<>"Travel",F73<>"Search",F73<>"Rework",F73<>"Interruption"),"REVIEW INPUTS",IF(AND(H73<>"Yes",H73<>"No"),"REVIEW INPUTS",IF(COUNTIFS($A$5:$A$304,A73,$B$5:$B$304,B73,$D$5:$D$304,D73)>1,"DUPLICATE",IF(COUNTIFS($A$5:$A$304,A73,$B$5:$B$304,B73)<>'3_Study_Setup'!$B$15,"INCOMPLETE CYCLE","OK"))))))))))))))
K74: =IF(COUNTA(A74:J74)=0,"",IF(OR(A74="",ISBLANK(B74),ISBLANK(C74),D74="",ISBLANK(E74),F74="",H74=""),"MISSING INFORMATION",IF(AND(A74<>"Before",A74<>"After"),"REVIEW INPUTS",IF(NOT(ISNUMBER(B74)),"REVIEW INPUTS",IF(OR(B74<1,MOD(B74,1)<>0),"REVIEW INPUTS",IF(NOT(ISNUMBER(C74)),"REVIEW INPUTS",IF(OR(C74<DATE(2000,1,1),C74>DATE(2100,12,31)),"REVIEW INPUTS",IF(COUNTIF('3_Study_Setup'!$E$6:$E$15,D74)<>1,"REVIEW INPUTS",IF(NOT(ISNUMBER(E74)),"REVIEW INPUTS",IF(OR(E74<=0,E74>1440),"REVIEW INPUTS",IF(AND(F74<>"Normal",F74<>"Waiting",F74<>"Travel",F74<>"Search",F74<>"Rework",F74<>"Interruption"),"REVIEW INPUTS",IF(AND(H74<>"Yes",H74<>"No"),"REVIEW INPUTS",IF(COUNTIFS($A$5:$A$304,A74,$B$5:$B$304,B74,$D$5:$D$304,D74)>1,"DUPLICATE",IF(COUNTIFS($A$5:$A$304,A74,$B$5:$B$304,B74)<>'3_Study_Setup'!$B$15,"INCOMPLETE CYCLE","OK"))))))))))))))
K75: =IF(COUNTA(A75:J75)=0,"",IF(OR(A75="",ISBLANK(B75),ISBLANK(C75),D75="",ISBLANK(E75),F75="",H75=""),"MISSING INFORMATION",IF(AND(A75<>"Before",A75<>"After"),"REVIEW INPUTS",IF(NOT(ISNUMBER(B75)),"REVIEW INPUTS",IF(OR(B75<1,MOD(B75,1)<>0),"REVIEW INPUTS",IF(NOT(ISNUMBER(C75)),"REVIEW INPUTS",IF(OR(C75<DATE(2000,1,1),C75>DATE(2100,12,31)),"REVIEW INPUTS",IF(COUNTIF('3_Study_Setup'!$E$6:$E$15,D75)<>1,"REVIEW INPUTS",IF(NOT(ISNUMBER(E75)),"REVIEW INPUTS",IF(OR(E75<=0,E75>1440),"REVIEW INPUTS",IF(AND(F75<>"Normal",F75<>"Waiting",F75<>"Travel",F75<>"Search",F75<>"Rework",F75<>"Interruption"),"REVIEW INPUTS",IF(AND(H75<>"Yes",H75<>"No"),"REVIEW INPUTS",IF(COUNTIFS($A$5:$A$304,A75,$B$5:$B$304,B75,$D$5:$D$304,D75)>1,"DUPLICATE",IF(COUNTIFS($A$5:$A$304,A75,$B$5:$B$304,B75)<>'3_Study_Setup'!$B$15,"INCOMPLETE CYCLE","OK"))))))))))))))
K76: =IF(COUNTA(A76:J76)=0,"",IF(OR(A76="",ISBLANK(B76),ISBLANK(C76),D76="",ISBLANK(E76),F76="",H76=""),"MISSING INFORMATION",IF(AND(A76<>"Before",A76<>"After"),"REVIEW INPUTS",IF(NOT(ISNUMBER(B76)),"REVIEW INPUTS",IF(OR(B76<1,MOD(B76,1)<>0),"REVIEW INPUTS",IF(NOT(ISNUMBER(C76)),"REVIEW INPUTS",IF(OR(C76<DATE(2000,1,1),C76>DATE(2100,12,31)),"REVIEW INPUTS",IF(COUNTIF('3_Study_Setup'!$E$6:$E$15,D76)<>1,"REVIEW INPUTS",IF(NOT(ISNUMBER(E76)),"REVIEW INPUTS",IF(OR(E76<=0,E76>1440),"REVIEW INPUTS",IF(AND(F76<>"Normal",F76<>"Waiting",F76<>"Travel",F76<>"Search",F76<>"Rework",F76<>"Interruption"),"REVIEW INPUTS",IF(AND(H76<>"Yes",H76<>"No"),"REVIEW INPUTS",IF(COUNTIFS($A$5:$A$304,A76,$B$5:$B$304,B76,$D$5:$D$304,D76)>1,"DUPLICATE",IF(COUNTIFS($A$5:$A$304,A76,$B$5:$B$304,B76)<>'3_Study_Setup'!$B$15,"INCOMPLETE CYCLE","OK"))))))))))))))
... K304: =IF(COUNTA(A304:J304)=0,"",IF(OR(A304="",ISBLANK(B304),ISBLANK(C304),D304="",ISBLANK(E304),F304="",H304=""),"MISSING INFORMATION",IF(AND(A304<>"Before",A304<>"After"),"REVIEW INPUTS",IF(NOT(ISNUMBER(B304)),"REVIEW INPUTS",IF(OR(B304<1,MOD(B304,1)<>0),"REVIEW INPUTS",IF(NOT(ISNUMBER(C304)),"REVIEW INPUTS",IF(OR(C304<DATE(2000,1,1),C304>DATE(2100,12,31)),"REVIEW INPUTS",IF(COUNTIF('3_Study_Setup'!$E$6:$E$15,D304)<>1,"REVIEW INPUTS",IF(NOT(ISNUMBER(E304)),"REVIEW INPUTS",IF(OR(E304<=0,E304>1440),"REVIEW INPUTS",IF(AND(F304<>"Normal",F304<>"Waiting",F304<>"Travel",F304<>"Search",F304<>"Rework",F304<>"Interruption"),"REVIEW INPUTS",IF(AND(H304<>"Yes",H304<>"No"),"REVIEW INPUTS",IF(COUNTIFS($A$5:$A$304,A304,$B$5:$B$304,B304,$D$5:$D$304,D304)>1,"DUPLICATE",IF(COUNTIFS($A$5:$A$304,A304,$B$5:$B$304,B304)<>'3_Study_Setup'!$B$15,"INCOMPLETE CYCLE","OK"))))))))))))))

Sheet 5_Results
A1: Study Results
A2: Use Study Status before interpreting the numbers. Time reduction is not automatically an operational improvement.
A4: Key Indicators | F4: Improvement Plan — Manual Entry
A5: Indicator | B5: Before | C5: After | D5: Change | F5: Activity | G5: Observed Problem | H5: Proposed Improvement | I5: Owner | J5: Status
A6: Average Cycle Time (min) | B6: =IF(B7="","",SUMIFS('4_Observations'!$E$5:$E$304,'4_Observations'!$A$5:$A$304,"Before")/B7) -> 18.62 | C6: =IF(C7="","",SUMIFS('4_Observations'!$E$5:$E$304,'4_Observations'!$A$5:$A$304,"After")/C7) -> 12.36 | D6: =IF(OR(B6="",C6=""),"",B6-C6) -> 6.26 | F6: Search for products | G6: Products spread across locations | H6: Organize products by turnover | I6: Operations Coordinator | J6: Applied
A7: Complete Cycles | B7: =IF(OR(NOT(('3_Study_Setup'!$B$17="READY")),(COUNTIF('4_Observations'!$K$5:$K$304,"MISSING INFORMATION")+COUNTIF('4_Observations'!$K$5:$K$304,"REVIEW INPUTS")+COUNTIF('4_Observations'!$K$5:$K$304,"DUPLICATE")+COUNTIF('4_Observations'!$K$5:$K$304,"INCOMPLETE CYCLE"))>0,COUNTIF('4_Observations'!$A$5:$A$304,"Before")=0),"",COUNTIF('4_Observations'!$A$5:$A$304,"Before")/'3_Study_Setup'!$B$15) -> 5 | C7: =IF(OR(NOT(('3_Study_Setup'!$B$17="READY")),(COUNTIF('4_Observations'!$K$5:$K$304,"MISSING INFORMATION")+COUNTIF('4_Observations'!$K$5:$K$304,"REVIEW INPUTS")+COUNTIF('4_Observations'!$K$5:$K$304,"DUPLICATE")+COUNTIF('4_Observations'!$K$5:$K$304,"INCOMPLETE CYCLE"))>0,COUNTIF('4_Observations'!$A$5:$A$304,"After")=0),"",COUNTIF('4_Observations'!$A$5:$A$304,"After")/'3_Study_Setup'!$B$15) -> 5 | D7: =IF(OR(B7="",C7=""),"",C7-B7) -> 0 | F7: Pack order | G7: Packing materials stored separately | H7: Create a packing station | I7: Operations Coordinator | J7: Applied
A8: Records With Quality = No | B8: =IF(B7="","",COUNTIFS('4_Observations'!$A$5:$A$304,"Before",'4_Observations'!$H$5:$H$304,"No")) -> 0 | C8: =IF(C7="","",COUNTIFS('4_Observations'!$A$5:$A$304,"After",'4_Observations'!$H$5:$H$304,"No")) -> 0 | D8: =IF(OR(B7="",C7=""),"",C8-B8) -> 0 | F8: Print label | G8: Printer located too far away | H8: Move the printer closer | I8: Operations Coordinator | J8: Applied
A9: Time Reduction % | B9: =IF(OR(B6="",C6="",B6<=0),"",(B6-C6)/B6) -> 0.33619764
A10: Study Status | B10: =IF('3_Study_Setup'!$B$17="MISSING INFORMATION","MISSING INFORMATION",IF('3_Study_Setup'!$B$17<>"READY","REVIEW INPUTS",IF((COUNTIF('4_Observations'!$K$5:$K$304,"MISSING INFORMATION")+COUNTIF('4_Observations'!$K$5:$K$304,"REVIEW INPUTS")+COUNTIF('4_Observations'!$K$5:$K$304,"DUPLICATE")+COUNTIF('4_Observations'!$K$5:$K$304,"INCOMPLETE CYCLE"))>0,"REVIEW INPUTS",IF(COUNTIF('4_Observations'!$A$5:$A$304,"Before")=0,"NEED BEFORE DATA",IF(COUNTIF('4_Observations'!$A$5:$A$304,"After")=0,"NEED AFTER DATA",IF(OR(B7<2,C7<2),"LIMITED DATA",IF(COUNTIF('4_Observations'!$H$5:$H$304,"No")>0,"QUALITY REVIEW","READY TO COMPARE"))))))) -> READY TO COMPARE
A12: Average Time by Activity
A13: Activity | B13: Before | C13: After | D13: Time Reduction %
A14: =IF('3_Study_Setup'!E6="","",'3_Study_Setup'!E6) -> Review order | B14: =IF(OR($A14="",B$7=""),"",IF(COUNTIFS('4_Observations'!$A$5:$A$304,"Before",'4_Observations'!$D$5:$D$304,$A14)=0,"",SUMIFS('4_Observations'!$E$5:$E$304,'4_Observations'!$A$5:$A$304,"Before",'4_Observations'!$D$5:$D$304,$A14)/COUNTIFS('4_Observations'!$A$5:$A$304,"Before",'4_Observations'!$D$5:$D$304,$A14))) -> 1.1 | C14: =IF(OR($A14="",C$7=""),"",IF(COUNTIFS('4_Observations'!$A$5:$A$304,"After",'4_Observations'!$D$5:$D$304,$A14)=0,"",SUMIFS('4_Observations'!$E$5:$E$304,'4_Observations'!$A$5:$A$304,"After",'4_Observations'!$D$5:$D$304,$A14)/COUNTIFS('4_Observations'!$A$5:$A$304,"After",'4_Observations'!$D$5:$D$304,$A14))) -> 0.86 | D14: =IF(OR(B14="",C14="",B14<=0),"",(B14-C14)/B14) -> 0.21818182
A15: =IF('3_Study_Setup'!E7="","",'3_Study_Setup'!E7) -> Search for products | B15: =IF(OR($A15="",B$7=""),"",IF(COUNTIFS('4_Observations'!$A$5:$A$304,"Before",'4_Observations'!$D$5:$D$304,$A15)=0,"",SUMIFS('4_Observations'!$E$5:$E$304,'4_Observations'!$A$5:$A$304,"Before",'4_Observations'!$D$5:$D$304,$A15)/COUNTIFS('4_Observations'!$A$5:$A$304,"Before",'4_Observations'!$D$5:$D$304,$A15))) -> 7.2 | C15: =IF(OR($A15="",C$7=""),"",IF(COUNTIFS('4_Observations'!$A$5:$A$304,"After",'4_Observations'!$D$5:$D$304,$A15)=0,"",SUMIFS('4_Observations'!$E$5:$E$304,'4_Observations'!$A$5:$A$304,"After",'4_Observations'!$D$5:$D$304,$A15)/COUNTIFS('4_Observations'!$A$5:$A$304,"After",'4_Observations'!$D$5:$D$304,$A15))) -> 4.1 | D15: =IF(OR(B15="",C15="",B15<=0),"",(B15-C15)/B15) -> 0.43055556
A16: =IF('3_Study_Setup'!E8="","",'3_Study_Setup'!E8) -> Verify items | B16: =IF(OR($A16="",B$7=""),"",IF(COUNTIFS('4_Observations'!$A$5:$A$304,"Before",'4_Observations'!$D$5:$D$304,$A16)=0,"",SUMIFS('4_Observations'!$E$5:$E$304,'4_Observations'!$A$5:$A$304,"Before",'4_Observations'!$D$5:$D$304,$A16)/COUNTIFS('4_Observations'!$A$5:$A$304,"Before",'4_Observations'!$D$5:$D$304,$A16))) -> 2.1 | C16: =IF(OR($A16="",C$7=""),"",IF(COUNTIFS('4_Observations'!$A$5:$A$304,"After",'4_Observations'!$D$5:$D$304,$A16)=0,"",SUMIFS('4_Observations'!$E$5:$E$304,'4_Observations'!$A$5:$A$304,"After",'4_Observations'!$D$5:$D$304,$A16)/COUNTIFS('4_Observations'!$A$5:$A$304,"After",'4_Observations'!$D$5:$D$304,$A16))) -> 1.7 | D16: =IF(OR(B16="",C16="",B16<=0),"",(B16-C16)/B16) -> 0.19047619
A17: =IF('3_Study_Setup'!E9="","",'3_Study_Setup'!E9) -> Pack order | B17: =IF(OR($A17="",B$7=""),"",IF(COUNTIFS('4_Observations'!$A$5:$A$304,"Before",'4_Observations'!$D$5:$D$304,$A17)=0,"",SUMIFS('4_Observations'!$E$5:$E$304,'4_Observations'!$A$5:$A$304,"Before",'4_Observations'!$D$5:$D$304,$A17)/COUNTIFS('4_Observations'!$A$5:$A$304,"Before",'4_Observations'!$D$5:$D$304,$A17))) -> 5 | C17: =IF(OR($A17="",C$7=""),"",IF(COUNTIFS('4_Observations'!$A$5:$A$304,"After",'4_Observations'!$D$5:$D$304,$A17)=0,"",SUMIFS('4_Observations'!$E$5:$E$304,'4_Observations'!$A$5:$A$304,"After",'4_Observations'!$D$5:$D$304,$A17)/COUNTIFS('4_Observations'!$A$5:$A$304,"After",'4_Observations'!$D$5:$D$304,$A17))) -> 4 | D17: =IF(OR(B17="",C17="",B17<=0),"",(B17-C17)/B17) -> 0.2
A18: =IF('3_Study_Setup'!E10="","",'3_Study_Setup'!E10) -> Print label | B18: =IF(OR($A18="",B$7=""),"",IF(COUNTIFS('4_Observations'!$A$5:$A$304,"Before",'4_Observations'!$D$5:$D$304,$A18)=0,"",SUMIFS('4_Observations'!$E$5:$E$304,'4_Observations'!$A$5:$A$304,"Before",'4_Observations'!$D$5:$D$304,$A18)/COUNTIFS('4_Observations'!$A$5:$A$304,"Before",'4_Observations'!$D$5:$D$304,$A18))) -> 1.32 | C18: =IF(OR($A18="",C$7=""),"",IF(COUNTIFS('4_Observations'!$A$5:$A$304,"After",'4_Observations'!$D$5:$D$304,$A18)=0,"",SUMIFS('4_Observations'!$E$5:$E$304,'4_Observations'!$A$5:$A$304,"After",'4_Observations'!$D$5:$D$304,$A18)/COUNTIFS('4_Observations'!$A$5:$A$304,"After",'4_Observations'!$D$5:$D$304,$A18))) -> 0.5 | D18: =IF(OR(B18="",C18="",B18<=0),"",(B18-C18)/B18) -> 0.62121212
A19: =IF('3_Study_Setup'!E11="","",'3_Study_Setup'!E11) -> Move to dispatch | B19: =IF(OR($A19="",B$7=""),"",IF(COUNTIFS('4_Observations'!$A$5:$A$304,"Before",'4_Observations'!$D$5:$D$304,$A19)=0,"",SUMIFS('4_Observations'!$E$5:$E$304,'4_Observations'!$A$5:$A$304,"Before",'4_Observations'!$D$5:$D$304,$A19)/COUNTIFS('4_Observations'!$A$5:$A$304,"Before",'4_Observations'!$D$5:$D$304,$A19))) -> 1.9 | C19: =IF(OR($A19="",C$7=""),"",IF(COUNTIFS('4_Observations'!$A$5:$A$304,"After",'4_Observations'!$D$5:$D$304,$A19)=0,"",SUMIFS('4_Observations'!$E$5:$E$304,'4_Observations'!$A$5:$A$304,"After",'4_Observations'!$D$5:$D$304,$A19)/COUNTIFS('4_Observations'!$A$5:$A$304,"After",'4_Observations'!$D$5:$D$304,$A19))) -> 1.2 | D19: =IF(OR(B19="",C19="",B19<=0),"",(B19-C19)/B19) -> 0.36842105
A20: =IF('3_Study_Setup'!E12="","",'3_Study_Setup'!E12) | B20: =IF(OR($A20="",B$7=""),"",IF(COUNTIFS('4_Observations'!$A$5:$A$304,"Before",'4_Observations'!$D$5:$D$304,$A20)=0,"",SUMIFS('4_Observations'!$E$5:$E$304,'4_Observations'!$A$5:$A$304,"Before",'4_Observations'!$D$5:$D$304,$A20)/COUNTIFS('4_Observations'!$A$5:$A$304,"Before",'4_Observations'!$D$5:$D$304,$A20))) | C20: =IF(OR($A20="",C$7=""),"",IF(COUNTIFS('4_Observations'!$A$5:$A$304,"After",'4_Observations'!$D$5:$D$304,$A20)=0,"",SUMIFS('4_Observations'!$E$5:$E$304,'4_Observations'!$A$5:$A$304,"After",'4_Observations'!$D$5:$D$304,$A20)/COUNTIFS('4_Observations'!$A$5:$A$304,"After",'4_Observations'!$D$5:$D$304,$A20))) | D20: =IF(OR(B20="",C20="",B20<=0),"",(B20-C20)/B20)
A21: =IF('3_Study_Setup'!E13="","",'3_Study_Setup'!E13) | B21: =IF(OR($A21="",B$7=""),"",IF(COUNTIFS('4_Observations'!$A$5:$A$304,"Before",'4_Observations'!$D$5:$D$304,$A21)=0,"",SUMIFS('4_Observations'!$E$5:$E$304,'4_Observations'!$A$5:$A$304,"Before",'4_Observations'!$D$5:$D$304,$A21)/COUNTIFS('4_Observations'!$A$5:$A$304,"Before",'4_Observations'!$D$5:$D$304,$A21))) | C21: =IF(OR($A21="",C$7=""),"",IF(COUNTIFS('4_Observations'!$A$5:$A$304,"After",'4_Observations'!$D$5:$D$304,$A21)=0,"",SUMIFS('4_Observations'!$E$5:$E$304,'4_Observations'!$A$5:$A$304,"After",'4_Observations'!$D$5:$D$304,$A21)/COUNTIFS('4_Observations'!$A$5:$A$304,"After",'4_Observations'!$D$5:$D$304,$A21))) | D21: =IF(OR(B21="",C21="",B21<=0),"",(B21-C21)/B21)
A22: =IF('3_Study_Setup'!E14="","",'3_Study_Setup'!E14) | B22: =IF(OR($A22="",B$7=""),"",IF(COUNTIFS('4_Observations'!$A$5:$A$304,"Before",'4_Observations'!$D$5:$D$304,$A22)=0,"",SUMIFS('4_Observations'!$E$5:$E$304,'4_Observations'!$A$5:$A$304,"Before",'4_Observations'!$D$5:$D$304,$A22)/COUNTIFS('4_Observations'!$A$5:$A$304,"Before",'4_Observations'!$D$5:$D$304,$A22))) | C22: =IF(OR($A22="",C$7=""),"",IF(COUNTIFS('4_Observations'!$A$5:$A$304,"After",'4_Observations'!$D$5:$D$304,$A22)=0,"",SUMIFS('4_Observations'!$E$5:$E$304,'4_Observations'!$A$5:$A$304,"After",'4_Observations'!$D$5:$D$304,$A22)/COUNTIFS('4_Observations'!$A$5:$A$304,"After",'4_Observations'!$D$5:$D$304,$A22))) | D22: =IF(OR(B22="",C22="",B22<=0),"",(B22-C22)/B22)
A23: =IF('3_Study_Setup'!E15="","",'3_Study_Setup'!E15) | B23: =IF(OR($A23="",B$7=""),"",IF(COUNTIFS('4_Observations'!$A$5:$A$304,"Before",'4_Observations'!$D$5:$D$304,$A23)=0,"",SUMIFS('4_Observations'!$E$5:$E$304,'4_Observations'!$A$5:$A$304,"Before",'4_Observations'!$D$5:$D$304,$A23)/COUNTIFS('4_Observations'!$A$5:$A$304,"Before",'4_Observations'!$D$5:$D$304,$A23))) | C23: =IF(OR($A23="",C$7=""),"",IF(COUNTIFS('4_Observations'!$A$5:$A$304,"After",'4_Observations'!$D$5:$D$304,$A23)=0,"",SUMIFS('4_Observations'!$E$5:$E$304,'4_Observations'!$A$5:$A$304,"After",'4_Observations'!$D$5:$D$304,$A23)/COUNTIFS('4_Observations'!$A$5:$A$304,"After",'4_Observations'!$D$5:$D$304,$A23))) | D23: =IF(OR(B23="",C23="",B23<=0),"",(B23-C23)/B23)
A25: Completion Check
A26: Check | B26: Status
A27: Study Setup | B27: =IF('3_Study_Setup'!$B$17="READY","OK",'3_Study_Setup'!$B$17) -> OK
A28: Before Measurements | B28: =IF(COUNTIF('4_Observations'!$A$5:$A$304,"Before")=0,"MISSING",IF(OR(NOT(('3_Study_Setup'!$B$17="READY")),(COUNTIF('4_Observations'!$K$5:$K$304,"MISSING INFORMATION")+COUNTIF('4_Observations'!$K$5:$K$304,"REVIEW INPUTS")+COUNTIF('4_Observations'!$K$5:$K$304,"DUPLICATE")+COUNTIF('4_Observations'!$K$5:$K$304,"INCOMPLETE CYCLE"))>0),"REVIEW","OK")) -> OK
A29: After Measurements | B29: =IF(COUNTIF('4_Observations'!$A$5:$A$304,"After")=0,"MISSING",IF(OR(NOT(('3_Study_Setup'!$B$17="READY")),(COUNTIF('4_Observations'!$K$5:$K$304,"MISSING INFORMATION")+COUNTIF('4_Observations'!$K$5:$K$304,"REVIEW INPUTS")+COUNTIF('4_Observations'!$K$5:$K$304,"DUPLICATE")+COUNTIF('4_Observations'!$K$5:$K$304,"INCOMPLETE CYCLE"))>0),"REVIEW","OK")) -> OK
A30: Input Integrity | B30: =IF((COUNTIF('4_Observations'!$K$5:$K$304,"MISSING INFORMATION")+COUNTIF('4_Observations'!$K$5:$K$304,"REVIEW INPUTS")+COUNTIF('4_Observations'!$K$5:$K$304,"DUPLICATE")+COUNTIF('4_Observations'!$K$5:$K$304,"INCOMPLETE CYCLE"))=0,"OK","REVIEW") -> OK
A31: Output Quality | B31: =IF(COUNTIF('4_Observations'!$H$5:$H$304,"No")>0,"REVIEW",IF(COUNTIF('4_Observations'!$H$5:$H$304,"Yes")>0,"OK","MISSING")) -> OK
