Workbook

Sheet 01_Instructions
A1: Basic Sales KPI Template
A3: Designed to record monthly sales data and review a practical set of sales KPIs without unnecessary complexity.
A5: Section | B5: Details
A6: What is this template for? | B6: Use it to record monthly commercial results and review Net Sales, Sales Target Attainment, Sales Growth, Average Order Value (AOV), Units per Transaction (UPT), and Return Rate.
A7: What sheet should you fill in? | B7: Enter or replace data only in 03_Monthly_Data. The summary sheets calculate automatically from that base.
A8: Preloaded example | B8: The workbook includes a fictional 4-month retail example so you can see how the complete flow works. Delete the example rows and replace them with your own records when you are ready.
A9: How to enter data | B9: Enter one row per month and per analysis combination. The required fields are Year, Month, Net Sales, Monthly Sales Target, Orders, and Units Sold. Optional fields help you analyze results in more detail.
A10: Optional fields | B10: Channel, City, Store / Location, Category, and Sales Rep are optional. Use only the dimensions that are useful for your business.
A11: Do not change | B11: Do not rename the column headers or the worksheet names. The formulas are connected to these fields and to the capture range through row 600.
A12: How to read the Monthly Summary | B12: In 04_Monthly_Summary, select the Year and Month. The sheet shows the main KPIs for that period and a monthly sales trend for the selected year.
A13: Store and sales rep detail | B13: 05_Store_Summary and 06_Sales_Rep_Summary use the selected period from 04_Monthly_Summary and display the matching source records.
A14: Duplicate detail records | B14: If you enter more than one record for the same store or sales rep in the same month, the detail sheets will show one row for each source record. This basic version does not consolidate duplicate records automatically.
A15: Important limits | B15: The template is designed for monthly management analysis, not accounting, CRM automation, forecasting, cohort analysis, or advanced attribution. Detail sheets display up to 65 matching rows for the selected month.
A16: Currency | B16: The example uses USD. You can change the currency number format if your business operates in another currency, but keep the underlying values numeric.
... A23: Calculation mode | B23: Keep Excel Calculation Options set to Automatic. If Excel is set to Manual calculation, update formulas before relying on the summaries or detail sheets.

Sheet 02_Glossary
A1: Glossary and Quick Data Guide
A4: Term | B4: Simple definition | C4: How it is used in the template
A5: Net Sales | B5: Sales value for the period after basic discounts or reductions included in your internal sales record. | C5: Used to calculate current sales, growth, target attainment, and AOV.
A6: Monthly Sales Target | B6: Expected sales goal for the monthly record. | C6: Compared with Net Sales to calculate Sales Target Attainment.
A7: Orders | B7: Number of completed transactions, purchases, or closed orders in the month. | C7: Used to calculate AOV and UPT.
A8: Units Sold | B8: Total number of units sold in the monthly record. | C8: Used to calculate UPT and Return Rate.
A9: Units Returned | B9: Number of units returned by customers. | C9: Used to calculate Return Rate.
A10: Sales Target Attainment | B10: Percentage of the sales target achieved. | C10: Formula: Net Sales ÷ Monthly Sales Target.
A11: Sales Growth | B11: Change in sales compared with the previous calendar month. | C11: Formula: Current Month Sales ÷ Previous Month Sales − 1.
A12: Average Order Value (AOV) | B12: Average sales value generated by each order. | C12: Formula: Net Sales ÷ Orders.
A13: Units per Transaction (UPT) | B13: Average number of units sold per order. | C13: Formula: Units Sold ÷ Orders.
A14: Return Rate | B14: Share of sold units that were returned. | C14: Formula: Units Returned ÷ Units Sold.
A15: Channel | B15: Sales channel or source. | C15: Optional. Examples: Retail Store, Ecommerce, Marketplace, Wholesale.
... A40: REVIEW DUPLICATE | B40: The same Year, Month, Channel, City, Store / Location, Category, and Sales Rep combination appears more than once. | C40: Excluded from summaries until the duplicate combination is resolved.

Sheet 03_Monthly_Data
A1: Monthly Sales Data
A2: Delete the example records from rows 5–24 and replace them with your own monthly results. Do not change the headers. Capture range is prepared through row 600.
A4: Year | B4: Month | C4: Channel | D4: City | E4: Store / Location | F4: Category | G4: Sales Rep | H4: Net Sales | I4: Monthly Sales Target | J4: Orders | K4: Units Sold | L4: Units Returned | M4: Record Status
A5: 2026 | B5: January | C5: Retail Store | D5: New York | E5: SoHo | F5: General | G5: Olivia Carter | H5: 52000 | I5: 50000 | J5: 1120 | K5: 1780 | L5: 32 | M5: =IF(COUNTA(A5:L5)=0,"",IF(OR(ISBLANK(A5),ISBLANK(B5),ISBLANK(H5),ISBLANK(I5),ISBLANK(J5),ISBLANK(K5)),"MISSING REQUIRED",IF(OR(NOT(ISNUMBER(A5)),A5<2000,A5>2100,ISERROR(MATCH(B5,{"January","February","March","April","May","June","July","August","September","October","November","December"},0)),NOT(ISNUMBER(H5)),H5<0,NOT(ISNUMBER(I5)),I5<=0,NOT(ISNUMBER(J5)),J5<0,J5<>INT(J5),NOT(ISNUMBER(K5)),K5<0,K5<>INT(K5),AND(NOT(ISBLANK(L5)),OR(NOT(ISNUMBER(L5)),L5<0,L5>K5,L5<>INT(L5))),AND(H5>0,J5=0),AND(H5>0,K5=0),AND(K5>0,J5=0)),"REVIEW DATA",IF(COUNTIFS($A$5:$A$600,A5,$B$5:$B$600,B5,$C$5:$C$600,C5,$D$5:$D$600,D5,$E$5:$E$600,E5,$F$5:$F$600,F5,$G$5:$G$600,G5)>1,"REVIEW DUPLICATE",IF(ISBLANK(L5),"OK - NO RETURN DATA","OK"))))) -> OK
A6: 2026 | B6: January | C6: Retail Store | D6: New York | E6: Brooklyn | F6: General | G6: Ethan Miller | H6: 41000 | I6: 40000 | J6: 930 | K6: 1440 | L6: 24 | M6: =IF(COUNTA(A6:L6)=0,"",IF(OR(ISBLANK(A6),ISBLANK(B6),ISBLANK(H6),ISBLANK(I6),ISBLANK(J6),ISBLANK(K6)),"MISSING REQUIRED",IF(OR(NOT(ISNUMBER(A6)),A6<2000,A6>2100,ISERROR(MATCH(B6,{"January","February","March","April","May","June","July","August","September","October","November","December"},0)),NOT(ISNUMBER(H6)),H6<0,NOT(ISNUMBER(I6)),I6<=0,NOT(ISNUMBER(J6)),J6<0,J6<>INT(J6),NOT(ISNUMBER(K6)),K6<0,K6<>INT(K6),AND(NOT(ISBLANK(L6)),OR(NOT(ISNUMBER(L6)),L6<0,L6>K6,L6<>INT(L6))),AND(H6>0,J6=0),AND(H6>0,K6=0),AND(K6>0,J6=0)),"REVIEW DATA",IF(COUNTIFS($A$5:$A$600,A6,$B$5:$B$600,B6,$C$5:$C$600,C6,$D$5:$D$600,D6,$E$5:$E$600,E6,$F$5:$F$600,F6,$G$5:$G$600,G6)>1,"REVIEW DUPLICATE",IF(ISBLANK(L6),"OK - NO RETURN DATA","OK"))))) -> OK
A7: 2026 | B7: January | C7: Retail Store | D7: Chicago | E7: The Loop | F7: General | G7: Mia Johnson | H7: 37000 | I7: 36000 | J7: 840 | K7: 1290 | L7: 23 | M7: =IF(COUNTA(A7:L7)=0,"",IF(OR(ISBLANK(A7),ISBLANK(B7),ISBLANK(H7),ISBLANK(I7),ISBLANK(J7),ISBLANK(K7)),"MISSING REQUIRED",IF(OR(NOT(ISNUMBER(A7)),A7<2000,A7>2100,ISERROR(MATCH(B7,{"January","February","March","April","May","June","July","August","September","October","November","December"},0)),NOT(ISNUMBER(H7)),H7<0,NOT(ISNUMBER(I7)),I7<=0,NOT(ISNUMBER(J7)),J7<0,J7<>INT(J7),NOT(ISNUMBER(K7)),K7<0,K7<>INT(K7),AND(NOT(ISBLANK(L7)),OR(NOT(ISNUMBER(L7)),L7<0,L7>K7,L7<>INT(L7))),AND(H7>0,J7=0),AND(H7>0,K7=0),AND(K7>0,J7=0)),"REVIEW DATA",IF(COUNTIFS($A$5:$A$600,A7,$B$5:$B$600,B7,$C$5:$C$600,C7,$D$5:$D$600,D7,$E$5:$E$600,E7,$F$5:$F$600,F7,$G$5:$G$600,G7)>1,"REVIEW DUPLICATE",IF(ISBLANK(L7),"OK - NO RETURN DATA","OK"))))) -> OK
A8: 2026 | B8: January | C8: Retail Store | D8: Austin | E8: Downtown | F8: General | G8: Noah Davis | H8: 35000 | I8: 34000 | J8: 790 | K8: 1210 | L8: 20 | M8: =IF(COUNTA(A8:L8)=0,"",IF(OR(ISBLANK(A8),ISBLANK(B8),ISBLANK(H8),ISBLANK(I8),ISBLANK(J8),ISBLANK(K8)),"MISSING REQUIRED",IF(OR(NOT(ISNUMBER(A8)),A8<2000,A8>2100,ISERROR(MATCH(B8,{"January","February","March","April","May","June","July","August","September","October","November","December"},0)),NOT(ISNUMBER(H8)),H8<0,NOT(ISNUMBER(I8)),I8<=0,NOT(ISNUMBER(J8)),J8<0,J8<>INT(J8),NOT(ISNUMBER(K8)),K8<0,K8<>INT(K8),AND(NOT(ISBLANK(L8)),OR(NOT(ISNUMBER(L8)),L8<0,L8>K8,L8<>INT(L8))),AND(H8>0,J8=0),AND(H8>0,K8=0),AND(K8>0,J8=0)),"REVIEW DATA",IF(COUNTIFS($A$5:$A$600,A8,$B$5:$B$600,B8,$C$5:$C$600,C8,$D$5:$D$600,D8,$E$5:$E$600,E8,$F$5:$F$600,F8,$G$5:$G$600,G8)>1,"REVIEW DUPLICATE",IF(ISBLANK(L8),"OK - NO RETURN DATA","OK"))))) -> OK
A9: 2026 | B9: January | C9: Retail Store | D9: Seattle | E9: Capitol Hill | F9: General | G9: Emma Wilson | H9: 29000 | I9: 28000 | J9: 680 | K9: 1015 | L9: 18 | M9: =IF(COUNTA(A9:L9)=0,"",IF(OR(ISBLANK(A9),ISBLANK(B9),ISBLANK(H9),ISBLANK(I9),ISBLANK(J9),ISBLANK(K9)),"MISSING REQUIRED",IF(OR(NOT(ISNUMBER(A9)),A9<2000,A9>2100,ISERROR(MATCH(B9,{"January","February","March","April","May","June","July","August","September","October","November","December"},0)),NOT(ISNUMBER(H9)),H9<0,NOT(ISNUMBER(I9)),I9<=0,NOT(ISNUMBER(J9)),J9<0,J9<>INT(J9),NOT(ISNUMBER(K9)),K9<0,K9<>INT(K9),AND(NOT(ISBLANK(L9)),OR(NOT(ISNUMBER(L9)),L9<0,L9>K9,L9<>INT(L9))),AND(H9>0,J9=0),AND(H9>0,K9=0),AND(K9>0,J9=0)),"REVIEW DATA",IF(COUNTIFS($A$5:$A$600,A9,$B$5:$B$600,B9,$C$5:$C$600,C9,$D$5:$D$600,D9,$E$5:$E$600,E9,$F$5:$F$600,F9,$G$5:$G$600,G9)>1,"REVIEW DUPLICATE",IF(ISBLANK(L9),"OK - NO RETURN DATA","OK"))))) -> OK
A10: 2026 | B10: February | C10: Retail Store | D10: New York | E10: SoHo | F10: General | G10: Olivia Carter | H10: 54000 | I10: 53000 | J10: 1140 | K10: 1810 | L10: 34 | M10: =IF(COUNTA(A10:L10)=0,"",IF(OR(ISBLANK(A10),ISBLANK(B10),ISBLANK(H10),ISBLANK(I10),ISBLANK(J10),ISBLANK(K10)),"MISSING REQUIRED",IF(OR(NOT(ISNUMBER(A10)),A10<2000,A10>2100,ISERROR(MATCH(B10,{"January","February","March","April","May","June","July","August","September","October","November","December"},0)),NOT(ISNUMBER(H10)),H10<0,NOT(ISNUMBER(I10)),I10<=0,NOT(ISNUMBER(J10)),J10<0,J10<>INT(J10),NOT(ISNUMBER(K10)),K10<0,K10<>INT(K10),AND(NOT(ISBLANK(L10)),OR(NOT(ISNUMBER(L10)),L10<0,L10>K10,L10<>INT(L10))),AND(H10>0,J10=0),AND(H10>0,K10=0),AND(K10>0,J10=0)),"REVIEW DATA",IF(COUNTIFS($A$5:$A$600,A10,$B$5:$B$600,B10,$C$5:$C$600,C10,$D$5:$D$600,D10,$E$5:$E$600,E10,$F$5:$F$600,F10,$G$5:$G$600,G10)>1,"REVIEW DUPLICATE",IF(ISBLANK(L10),"OK - NO RETURN DATA","OK"))))) -> OK
A11: 2026 | B11: February | C11: Retail Store | D11: New York | E11: Brooklyn | F11: General | G11: Ethan Miller | H11: 42500 | I11: 41000 | J11: 950 | K11: 1475 | L11: 25 | M11: =IF(COUNTA(A11:L11)=0,"",IF(OR(ISBLANK(A11),ISBLANK(B11),ISBLANK(H11),ISBLANK(I11),ISBLANK(J11),ISBLANK(K11)),"MISSING REQUIRED",IF(OR(NOT(ISNUMBER(A11)),A11<2000,A11>2100,ISERROR(MATCH(B11,{"January","February","March","April","May","June","July","August","September","October","November","December"},0)),NOT(ISNUMBER(H11)),H11<0,NOT(ISNUMBER(I11)),I11<=0,NOT(ISNUMBER(J11)),J11<0,J11<>INT(J11),NOT(ISNUMBER(K11)),K11<0,K11<>INT(K11),AND(NOT(ISBLANK(L11)),OR(NOT(ISNUMBER(L11)),L11<0,L11>K11,L11<>INT(L11))),AND(H11>0,J11=0),AND(H11>0,K11=0),AND(K11>0,J11=0)),"REVIEW DATA",IF(COUNTIFS($A$5:$A$600,A11,$B$5:$B$600,B11,$C$5:$C$600,C11,$D$5:$D$600,D11,$E$5:$E$600,E11,$F$5:$F$600,F11,$G$5:$G$600,G11)>1,"REVIEW DUPLICATE",IF(ISBLANK(L11),"OK - NO RETURN DATA","OK"))))) -> OK
A12: 2026 | B12: February | C12: Retail Store | D12: Chicago | E12: The Loop | F12: General | G12: Mia Johnson | H12: 38500 | I12: 38000 | J12: 860 | K12: 1330 | L12: 24 | M12: =IF(COUNTA(A12:L12)=0,"",IF(OR(ISBLANK(A12),ISBLANK(B12),ISBLANK(H12),ISBLANK(I12),ISBLANK(J12),ISBLANK(K12)),"MISSING REQUIRED",IF(OR(NOT(ISNUMBER(A12)),A12<2000,A12>2100,ISERROR(MATCH(B12,{"January","February","March","April","May","June","July","August","September","October","November","December"},0)),NOT(ISNUMBER(H12)),H12<0,NOT(ISNUMBER(I12)),I12<=0,NOT(ISNUMBER(J12)),J12<0,J12<>INT(J12),NOT(ISNUMBER(K12)),K12<0,K12<>INT(K12),AND(NOT(ISBLANK(L12)),OR(NOT(ISNUMBER(L12)),L12<0,L12>K12,L12<>INT(L12))),AND(H12>0,J12=0),AND(H12>0,K12=0),AND(K12>0,J12=0)),"REVIEW DATA",IF(COUNTIFS($A$5:$A$600,A12,$B$5:$B$600,B12,$C$5:$C$600,C12,$D$5:$D$600,D12,$E$5:$E$600,E12,$F$5:$F$600,F12,$G$5:$G$600,G12)>1,"REVIEW DUPLICATE",IF(ISBLANK(L12),"OK - NO RETURN DATA","OK"))))) -> OK
A13: 2026 | B13: February | C13: Retail Store | D13: Austin | E13: Downtown | F13: General | G13: Noah Davis | H13: 36500 | I13: 35000 | J13: 820 | K13: 1260 | L13: 21 | M13: =IF(COUNTA(A13:L13)=0,"",IF(OR(ISBLANK(A13),ISBLANK(B13),ISBLANK(H13),ISBLANK(I13),ISBLANK(J13),ISBLANK(K13)),"MISSING REQUIRED",IF(OR(NOT(ISNUMBER(A13)),A13<2000,A13>2100,ISERROR(MATCH(B13,{"January","February","March","April","May","June","July","August","September","October","November","December"},0)),NOT(ISNUMBER(H13)),H13<0,NOT(ISNUMBER(I13)),I13<=0,NOT(ISNUMBER(J13)),J13<0,J13<>INT(J13),NOT(ISNUMBER(K13)),K13<0,K13<>INT(K13),AND(NOT(ISBLANK(L13)),OR(NOT(ISNUMBER(L13)),L13<0,L13>K13,L13<>INT(L13))),AND(H13>0,J13=0),AND(H13>0,K13=0),AND(K13>0,J13=0)),"REVIEW DATA",IF(COUNTIFS($A$5:$A$600,A13,$B$5:$B$600,B13,$C$5:$C$600,C13,$D$5:$D$600,D13,$E$5:$E$600,E13,$F$5:$F$600,F13,$G$5:$G$600,G13)>1,"REVIEW DUPLICATE",IF(ISBLANK(L13),"OK - NO RETURN DATA","OK"))))) -> OK
A14: 2026 | B14: February | C14: Retail Store | D14: Seattle | E14: Capitol Hill | F14: General | G14: Emma Wilson | H14: 30000 | I14: 29500 | J14: 700 | K14: 1050 | L14: 18 | M14: =IF(COUNTA(A14:L14)=0,"",IF(OR(ISBLANK(A14),ISBLANK(B14),ISBLANK(H14),ISBLANK(I14),ISBLANK(J14),ISBLANK(K14)),"MISSING REQUIRED",IF(OR(NOT(ISNUMBER(A14)),A14<2000,A14>2100,ISERROR(MATCH(B14,{"January","February","March","April","May","June","July","August","September","October","November","December"},0)),NOT(ISNUMBER(H14)),H14<0,NOT(ISNUMBER(I14)),I14<=0,NOT(ISNUMBER(J14)),J14<0,J14<>INT(J14),NOT(ISNUMBER(K14)),K14<0,K14<>INT(K14),AND(NOT(ISBLANK(L14)),OR(NOT(ISNUMBER(L14)),L14<0,L14>K14,L14<>INT(L14))),AND(H14>0,J14=0),AND(H14>0,K14=0),AND(K14>0,J14=0)),"REVIEW DATA",IF(COUNTIFS($A$5:$A$600,A14,$B$5:$B$600,B14,$C$5:$C$600,C14,$D$5:$D$600,D14,$E$5:$E$600,E14,$F$5:$F$600,F14,$G$5:$G$600,G14)>1,"REVIEW DUPLICATE",IF(ISBLANK(L14),"OK - NO RETURN DATA","OK"))))) -> OK
A15: 2026 | B15: March | C15: Retail Store | D15: New York | E15: SoHo | F15: General | G15: Olivia Carter | H15: 57000 | I15: 56000 | J15: 1180 | K15: 1888 | L15: 35 | M15: =IF(COUNTA(A15:L15)=0,"",IF(OR(ISBLANK(A15),ISBLANK(B15),ISBLANK(H15),ISBLANK(I15),ISBLANK(J15),ISBLANK(K15)),"MISSING REQUIRED",IF(OR(NOT(ISNUMBER(A15)),A15<2000,A15>2100,ISERROR(MATCH(B15,{"January","February","March","April","May","June","July","August","September","October","November","December"},0)),NOT(ISNUMBER(H15)),H15<0,NOT(ISNUMBER(I15)),I15<=0,NOT(ISNUMBER(J15)),J15<0,J15<>INT(J15),NOT(ISNUMBER(K15)),K15<0,K15<>INT(K15),AND(NOT(ISBLANK(L15)),OR(NOT(ISNUMBER(L15)),L15<0,L15>K15,L15<>INT(L15))),AND(H15>0,J15=0),AND(H15>0,K15=0),AND(K15>0,J15=0)),"REVIEW DATA",IF(COUNTIFS($A$5:$A$600,A15,$B$5:$B$600,B15,$C$5:$C$600,C15,$D$5:$D$600,D15,$E$5:$E$600,E15,$F$5:$F$600,F15,$G$5:$G$600,G15)>1,"REVIEW DUPLICATE",IF(ISBLANK(L15),"OK - NO RETURN DATA","OK"))))) -> OK
A16: 2026 | B16: March | C16: Retail Store | D16: New York | E16: Brooklyn | F16: General | G16: Ethan Miller | H16: 44000 | I16: 43000 | J16: 980 | K16: 1520 | L16: 27 | M16: =IF(COUNTA(A16:L16)=0,"",IF(OR(ISBLANK(A16),ISBLANK(B16),ISBLANK(H16),ISBLANK(I16),ISBLANK(J16),ISBLANK(K16)),"MISSING REQUIRED",IF(OR(NOT(ISNUMBER(A16)),A16<2000,A16>2100,ISERROR(MATCH(B16,{"January","February","March","April","May","June","July","August","September","October","November","December"},0)),NOT(ISNUMBER(H16)),H16<0,NOT(ISNUMBER(I16)),I16<=0,NOT(ISNUMBER(J16)),J16<0,J16<>INT(J16),NOT(ISNUMBER(K16)),K16<0,K16<>INT(K16),AND(NOT(ISBLANK(L16)),OR(NOT(ISNUMBER(L16)),L16<0,L16>K16,L16<>INT(L16))),AND(H16>0,J16=0),AND(H16>0,K16=0),AND(K16>0,J16=0)),"REVIEW DATA",IF(COUNTIFS($A$5:$A$600,A16,$B$5:$B$600,B16,$C$5:$C$600,C16,$D$5:$D$600,D16,$E$5:$E$600,E16,$F$5:$F$600,F16,$G$5:$G$600,G16)>1,"REVIEW DUPLICATE",IF(ISBLANK(L16),"OK - NO RETURN DATA","OK"))))) -> OK
... A24: 2026 | B24: April | C24: Retail Store | D24: Seattle | E24: Capitol Hill | F24: General | G24: Emma Wilson | H24: 33000 | I24: 32000 | J24: 750 | K24: 1125 | L24: 20 | M24: =IF(COUNTA(A24:L24)=0,"",IF(OR(ISBLANK(A24),ISBLANK(B24),ISBLANK(H24),ISBLANK(I24),ISBLANK(J24),ISBLANK(K24)),"MISSING REQUIRED",IF(OR(NOT(ISNUMBER(A24)),A24<2000,A24>2100,ISERROR(MATCH(B24,{"January","February","March","April","May","June","July","August","September","October","November","December"},0)),NOT(ISNUMBER(H24)),H24<0,NOT(ISNUMBER(I24)),I24<=0,NOT(ISNUMBER(J24)),J24<0,J24<>INT(J24),NOT(ISNUMBER(K24)),K24<0,K24<>INT(K24),AND(NOT(ISBLANK(L24)),OR(NOT(ISNUMBER(L24)),L24<0,L24>K24,L24<>INT(L24))),AND(H24>0,J24=0),AND(H24>0,K24=0),AND(K24>0,J24=0)),"REVIEW DATA",IF(COUNTIFS($A$5:$A$600,A24,$B$5:$B$600,B24,$C$5:$C$600,C24,$D$5:$D$600,D24,$E$5:$E$600,E24,$F$5:$F$600,F24,$G$5:$G$600,G24)>1,"REVIEW DUPLICATE",IF(ISBLANK(L24),"OK - NO RETURN DATA","OK"))))) -> OK
M25: =IF(COUNTA(A25:L25)=0,"",IF(OR(ISBLANK(A25),ISBLANK(B25),ISBLANK(H25),ISBLANK(I25),ISBLANK(J25),ISBLANK(K25)),"MISSING REQUIRED",IF(OR(NOT(ISNUMBER(A25)),A25<2000,A25>2100,ISERROR(MATCH(B25,{"January","February","March","April","May","June","July","August","September","October","November","December"},0)),NOT(ISNUMBER(H25)),H25<0,NOT(ISNUMBER(I25)),I25<=0,NOT(ISNUMBER(J25)),J25<0,J25<>INT(J25),NOT(ISNUMBER(K25)),K25<0,K25<>INT(K25),AND(NOT(ISBLANK(L25)),OR(NOT(ISNUMBER(L25)),L25<0,L25>K25,L25<>INT(L25))),AND(H25>0,J25=0),AND(H25>0,K25=0),AND(K25>0,J25=0)),"REVIEW DATA",IF(COUNTIFS($A$5:$A$600,A25,$B$5:$B$600,B25,$C$5:$C$600,C25,$D$5:$D$600,D25,$E$5:$E$600,E25,$F$5:$F$600,F25,$G$5:$G$600,G25)>1,"REVIEW DUPLICATE",IF(ISBLANK(L25),"OK - NO RETURN DATA","OK")))))
M26: =IF(COUNTA(A26:L26)=0,"",IF(OR(ISBLANK(A26),ISBLANK(B26),ISBLANK(H26),ISBLANK(I26),ISBLANK(J26),ISBLANK(K26)),"MISSING REQUIRED",IF(OR(NOT(ISNUMBER(A26)),A26<2000,A26>2100,ISERROR(MATCH(B26,{"January","February","March","April","May","June","July","August","September","October","November","December"},0)),NOT(ISNUMBER(H26)),H26<0,NOT(ISNUMBER(I26)),I26<=0,NOT(ISNUMBER(J26)),J26<0,J26<>INT(J26),NOT(ISNUMBER(K26)),K26<0,K26<>INT(K26),AND(NOT(ISBLANK(L26)),OR(NOT(ISNUMBER(L26)),L26<0,L26>K26,L26<>INT(L26))),AND(H26>0,J26=0),AND(H26>0,K26=0),AND(K26>0,J26=0)),"REVIEW DATA",IF(COUNTIFS($A$5:$A$600,A26,$B$5:$B$600,B26,$C$5:$C$600,C26,$D$5:$D$600,D26,$E$5:$E$600,E26,$F$5:$F$600,F26,$G$5:$G$600,G26)>1,"REVIEW DUPLICATE",IF(ISBLANK(L26),"OK - NO RETURN DATA","OK")))))
M27: =IF(COUNTA(A27:L27)=0,"",IF(OR(ISBLANK(A27),ISBLANK(B27),ISBLANK(H27),ISBLANK(I27),ISBLANK(J27),ISBLANK(K27)),"MISSING REQUIRED",IF(OR(NOT(ISNUMBER(A27)),A27<2000,A27>2100,ISERROR(MATCH(B27,{"January","February","March","April","May","June","July","August","September","October","November","December"},0)),NOT(ISNUMBER(H27)),H27<0,NOT(ISNUMBER(I27)),I27<=0,NOT(ISNUMBER(J27)),J27<0,J27<>INT(J27),NOT(ISNUMBER(K27)),K27<0,K27<>INT(K27),AND(NOT(ISBLANK(L27)),OR(NOT(ISNUMBER(L27)),L27<0,L27>K27,L27<>INT(L27))),AND(H27>0,J27=0),AND(H27>0,K27=0),AND(K27>0,J27=0)),"REVIEW DATA",IF(COUNTIFS($A$5:$A$600,A27,$B$5:$B$600,B27,$C$5:$C$600,C27,$D$5:$D$600,D27,$E$5:$E$600,E27,$F$5:$F$600,F27,$G$5:$G$600,G27)>1,"REVIEW DUPLICATE",IF(ISBLANK(L27),"OK - NO RETURN DATA","OK")))))
M28: =IF(COUNTA(A28:L28)=0,"",IF(OR(ISBLANK(A28),ISBLANK(B28),ISBLANK(H28),ISBLANK(I28),ISBLANK(J28),ISBLANK(K28)),"MISSING REQUIRED",IF(OR(NOT(ISNUMBER(A28)),A28<2000,A28>2100,ISERROR(MATCH(B28,{"January","February","March","April","May","June","July","August","September","October","November","December"},0)),NOT(ISNUMBER(H28)),H28<0,NOT(ISNUMBER(I28)),I28<=0,NOT(ISNUMBER(J28)),J28<0,J28<>INT(J28),NOT(ISNUMBER(K28)),K28<0,K28<>INT(K28),AND(NOT(ISBLANK(L28)),OR(NOT(ISNUMBER(L28)),L28<0,L28>K28,L28<>INT(L28))),AND(H28>0,J28=0),AND(H28>0,K28=0),AND(K28>0,J28=0)),"REVIEW DATA",IF(COUNTIFS($A$5:$A$600,A28,$B$5:$B$600,B28,$C$5:$C$600,C28,$D$5:$D$600,D28,$E$5:$E$600,E28,$F$5:$F$600,F28,$G$5:$G$600,G28)>1,"REVIEW DUPLICATE",IF(ISBLANK(L28),"OK - NO RETURN DATA","OK")))))
M29: =IF(COUNTA(A29:L29)=0,"",IF(OR(ISBLANK(A29),ISBLANK(B29),ISBLANK(H29),ISBLANK(I29),ISBLANK(J29),ISBLANK(K29)),"MISSING REQUIRED",IF(OR(NOT(ISNUMBER(A29)),A29<2000,A29>2100,ISERROR(MATCH(B29,{"January","February","March","April","May","June","July","August","September","October","November","December"},0)),NOT(ISNUMBER(H29)),H29<0,NOT(ISNUMBER(I29)),I29<=0,NOT(ISNUMBER(J29)),J29<0,J29<>INT(J29),NOT(ISNUMBER(K29)),K29<0,K29<>INT(K29),AND(NOT(ISBLANK(L29)),OR(NOT(ISNUMBER(L29)),L29<0,L29>K29,L29<>INT(L29))),AND(H29>0,J29=0),AND(H29>0,K29=0),AND(K29>0,J29=0)),"REVIEW DATA",IF(COUNTIFS($A$5:$A$600,A29,$B$5:$B$600,B29,$C$5:$C$600,C29,$D$5:$D$600,D29,$E$5:$E$600,E29,$F$5:$F$600,F29,$G$5:$G$600,G29)>1,"REVIEW DUPLICATE",IF(ISBLANK(L29),"OK - NO RETURN DATA","OK")))))
M30: =IF(COUNTA(A30:L30)=0,"",IF(OR(ISBLANK(A30),ISBLANK(B30),ISBLANK(H30),ISBLANK(I30),ISBLANK(J30),ISBLANK(K30)),"MISSING REQUIRED",IF(OR(NOT(ISNUMBER(A30)),A30<2000,A30>2100,ISERROR(MATCH(B30,{"January","February","March","April","May","June","July","August","September","October","November","December"},0)),NOT(ISNUMBER(H30)),H30<0,NOT(ISNUMBER(I30)),I30<=0,NOT(ISNUMBER(J30)),J30<0,J30<>INT(J30),NOT(ISNUMBER(K30)),K30<0,K30<>INT(K30),AND(NOT(ISBLANK(L30)),OR(NOT(ISNUMBER(L30)),L30<0,L30>K30,L30<>INT(L30))),AND(H30>0,J30=0),AND(H30>0,K30=0),AND(K30>0,J30=0)),"REVIEW DATA",IF(COUNTIFS($A$5:$A$600,A30,$B$5:$B$600,B30,$C$5:$C$600,C30,$D$5:$D$600,D30,$E$5:$E$600,E30,$F$5:$F$600,F30,$G$5:$G$600,G30)>1,"REVIEW DUPLICATE",IF(ISBLANK(L30),"OK - NO RETURN DATA","OK")))))
M31: =IF(COUNTA(A31:L31)=0,"",IF(OR(ISBLANK(A31),ISBLANK(B31),ISBLANK(H31),ISBLANK(I31),ISBLANK(J31),ISBLANK(K31)),"MISSING REQUIRED",IF(OR(NOT(ISNUMBER(A31)),A31<2000,A31>2100,ISERROR(MATCH(B31,{"January","February","March","April","May","June","July","August","September","October","November","December"},0)),NOT(ISNUMBER(H31)),H31<0,NOT(ISNUMBER(I31)),I31<=0,NOT(ISNUMBER(J31)),J31<0,J31<>INT(J31),NOT(ISNUMBER(K31)),K31<0,K31<>INT(K31),AND(NOT(ISBLANK(L31)),OR(NOT(ISNUMBER(L31)),L31<0,L31>K31,L31<>INT(L31))),AND(H31>0,J31=0),AND(H31>0,K31=0),AND(K31>0,J31=0)),"REVIEW DATA",IF(COUNTIFS($A$5:$A$600,A31,$B$5:$B$600,B31,$C$5:$C$600,C31,$D$5:$D$600,D31,$E$5:$E$600,E31,$F$5:$F$600,F31,$G$5:$G$600,G31)>1,"REVIEW DUPLICATE",IF(ISBLANK(L31),"OK - NO RETURN DATA","OK")))))
M32: =IF(COUNTA(A32:L32)=0,"",IF(OR(ISBLANK(A32),ISBLANK(B32),ISBLANK(H32),ISBLANK(I32),ISBLANK(J32),ISBLANK(K32)),"MISSING REQUIRED",IF(OR(NOT(ISNUMBER(A32)),A32<2000,A32>2100,ISERROR(MATCH(B32,{"January","February","March","April","May","June","July","August","September","October","November","December"},0)),NOT(ISNUMBER(H32)),H32<0,NOT(ISNUMBER(I32)),I32<=0,NOT(ISNUMBER(J32)),J32<0,J32<>INT(J32),NOT(ISNUMBER(K32)),K32<0,K32<>INT(K32),AND(NOT(ISBLANK(L32)),OR(NOT(ISNUMBER(L32)),L32<0,L32>K32,L32<>INT(L32))),AND(H32>0,J32=0),AND(H32>0,K32=0),AND(K32>0,J32=0)),"REVIEW DATA",IF(COUNTIFS($A$5:$A$600,A32,$B$5:$B$600,B32,$C$5:$C$600,C32,$D$5:$D$600,D32,$E$5:$E$600,E32,$F$5:$F$600,F32,$G$5:$G$600,G32)>1,"REVIEW DUPLICATE",IF(ISBLANK(L32),"OK - NO RETURN DATA","OK")))))
M33: =IF(COUNTA(A33:L33)=0,"",IF(OR(ISBLANK(A33),ISBLANK(B33),ISBLANK(H33),ISBLANK(I33),ISBLANK(J33),ISBLANK(K33)),"MISSING REQUIRED",IF(OR(NOT(ISNUMBER(A33)),A33<2000,A33>2100,ISERROR(MATCH(B33,{"January","February","March","April","May","June","July","August","September","October","November","December"},0)),NOT(ISNUMBER(H33)),H33<0,NOT(ISNUMBER(I33)),I33<=0,NOT(ISNUMBER(J33)),J33<0,J33<>INT(J33),NOT(ISNUMBER(K33)),K33<0,K33<>INT(K33),AND(NOT(ISBLANK(L33)),OR(NOT(ISNUMBER(L33)),L33<0,L33>K33,L33<>INT(L33))),AND(H33>0,J33=0),AND(H33>0,K33=0),AND(K33>0,J33=0)),"REVIEW DATA",IF(COUNTIFS($A$5:$A$600,A33,$B$5:$B$600,B33,$C$5:$C$600,C33,$D$5:$D$600,D33,$E$5:$E$600,E33,$F$5:$F$600,F33,$G$5:$G$600,G33)>1,"REVIEW DUPLICATE",IF(ISBLANK(L33),"OK - NO RETURN DATA","OK")))))
M34: =IF(COUNTA(A34:L34)=0,"",IF(OR(ISBLANK(A34),ISBLANK(B34),ISBLANK(H34),ISBLANK(I34),ISBLANK(J34),ISBLANK(K34)),"MISSING REQUIRED",IF(OR(NOT(ISNUMBER(A34)),A34<2000,A34>2100,ISERROR(MATCH(B34,{"January","February","March","April","May","June","July","August","September","October","November","December"},0)),NOT(ISNUMBER(H34)),H34<0,NOT(ISNUMBER(I34)),I34<=0,NOT(ISNUMBER(J34)),J34<0,J34<>INT(J34),NOT(ISNUMBER(K34)),K34<0,K34<>INT(K34),AND(NOT(ISBLANK(L34)),OR(NOT(ISNUMBER(L34)),L34<0,L34>K34,L34<>INT(L34))),AND(H34>0,J34=0),AND(H34>0,K34=0),AND(K34>0,J34=0)),"REVIEW DATA",IF(COUNTIFS($A$5:$A$600,A34,$B$5:$B$600,B34,$C$5:$C$600,C34,$D$5:$D$600,D34,$E$5:$E$600,E34,$F$5:$F$600,F34,$G$5:$G$600,G34)>1,"REVIEW DUPLICATE",IF(ISBLANK(L34),"OK - NO RETURN DATA","OK")))))
M35: =IF(COUNTA(A35:L35)=0,"",IF(OR(ISBLANK(A35),ISBLANK(B35),ISBLANK(H35),ISBLANK(I35),ISBLANK(J35),ISBLANK(K35)),"MISSING REQUIRED",IF(OR(NOT(ISNUMBER(A35)),A35<2000,A35>2100,ISERROR(MATCH(B35,{"January","February","March","April","May","June","July","August","September","October","November","December"},0)),NOT(ISNUMBER(H35)),H35<0,NOT(ISNUMBER(I35)),I35<=0,NOT(ISNUMBER(J35)),J35<0,J35<>INT(J35),NOT(ISNUMBER(K35)),K35<0,K35<>INT(K35),AND(NOT(ISBLANK(L35)),OR(NOT(ISNUMBER(L35)),L35<0,L35>K35,L35<>INT(L35))),AND(H35>0,J35=0),AND(H35>0,K35=0),AND(K35>0,J35=0)),"REVIEW DATA",IF(COUNTIFS($A$5:$A$600,A35,$B$5:$B$600,B35,$C$5:$C$600,C35,$D$5:$D$600,D35,$E$5:$E$600,E35,$F$5:$F$600,F35,$G$5:$G$600,G35)>1,"REVIEW DUPLICATE",IF(ISBLANK(L35),"OK - NO RETURN DATA","OK")))))
M36: =IF(COUNTA(A36:L36)=0,"",IF(OR(ISBLANK(A36),ISBLANK(B36),ISBLANK(H36),ISBLANK(I36),ISBLANK(J36),ISBLANK(K36)),"MISSING REQUIRED",IF(OR(NOT(ISNUMBER(A36)),A36<2000,A36>2100,ISERROR(MATCH(B36,{"January","February","March","April","May","June","July","August","September","October","November","December"},0)),NOT(ISNUMBER(H36)),H36<0,NOT(ISNUMBER(I36)),I36<=0,NOT(ISNUMBER(J36)),J36<0,J36<>INT(J36),NOT(ISNUMBER(K36)),K36<0,K36<>INT(K36),AND(NOT(ISBLANK(L36)),OR(NOT(ISNUMBER(L36)),L36<0,L36>K36,L36<>INT(L36))),AND(H36>0,J36=0),AND(H36>0,K36=0),AND(K36>0,J36=0)),"REVIEW DATA",IF(COUNTIFS($A$5:$A$600,A36,$B$5:$B$600,B36,$C$5:$C$600,C36,$D$5:$D$600,D36,$E$5:$E$600,E36,$F$5:$F$600,F36,$G$5:$G$600,G36)>1,"REVIEW DUPLICATE",IF(ISBLANK(L36),"OK - NO RETURN DATA","OK")))))
... M600: =IF(COUNTA(A600:L600)=0,"",IF(OR(ISBLANK(A600),ISBLANK(B600),ISBLANK(H600),ISBLANK(I600),ISBLANK(J600),ISBLANK(K600)),"MISSING REQUIRED",IF(OR(NOT(ISNUMBER(A600)),A600<2000,A600>2100,ISERROR(MATCH(B600,{"January","February","March","April","May","June","July","August","September","October","November","December"},0)),NOT(ISNUMBER(H600)),H600<0,NOT(ISNUMBER(I600)),I600<=0,NOT(ISNUMBER(J600)),J600<0,J600<>INT(J600),NOT(ISNUMBER(K600)),K600<0,K600<>INT(K600),AND(NOT(ISBLANK(L600)),OR(NOT(ISNUMBER(L600)),L600<0,L600>K600,L600<>INT(L600))),AND(H600>0,J600=0),AND(H600>0,K600=0),AND(K600>0,J600=0)),"REVIEW DATA",IF(COUNTIFS($A$5:$A$600,A600,$B$5:$B$600,B600,$C$5:$C$600,C600,$D$5:$D$600,D600,$E$5:$E$600,E600,$F$5:$F$600,F600,$G$5:$G$600,G600)>1,"REVIEW DUPLICATE",IF(ISBLANK(L600),"OK - NO RETURN DATA","OK")))))

Sheet 04_Monthly_Summary
A1: Monthly Sales KPI Summary | N1: Month | O1: Total Sales | Q1: All Months | R1: Raw Sales | T1: Helper | U1: Value
A2: Selected Year | B2: 2026 | D2: Selected Month | E2: April | G2: Use B2 and E2 to review the period | N2: {=_xlfn._xlws.FILTER($Q$2:$Q$13,$R$2:$R$13<>"","")} -> January | O2: {=_xlfn._xlws.FILTER($R$2:$R$13,$R$2:$R$13<>"","")} -> 194000 | Q2: January | R2: =IF((COUNTIFS('03_Monthly_Data'!$A$5:$A$600,$B$2,'03_Monthly_Data'!$B$5:$B$600,Q2,'03_Monthly_Data'!$M$5:$M$600,"OK")+COUNTIFS('03_Monthly_Data'!$A$5:$A$600,$B$2,'03_Monthly_Data'!$B$5:$B$600,Q2,'03_Monthly_Data'!$M$5:$M$600,"OK - NO RETURN DATA"))=0,"",SUMIFS('03_Monthly_Data'!$H$5:$H$600,'03_Monthly_Data'!$A$5:$A$600,$B$2,'03_Monthly_Data'!$B$5:$B$600,Q2,'03_Monthly_Data'!$M$5:$M$600,"OK")+SUMIFS('03_Monthly_Data'!$H$5:$H$600,'03_Monthly_Data'!$A$5:$A$600,$B$2,'03_Monthly_Data'!$B$5:$B$600,Q2,'03_Monthly_Data'!$M$5:$M$600,"OK - NO RETURN DATA")) -> 194000 | T2: Month Index | U2: =MATCH($E$2,$Q$2:$Q$13,0) -> 4
N3: February | O3: 201500 | Q3: February | R3: =IF((COUNTIFS('03_Monthly_Data'!$A$5:$A$600,$B$2,'03_Monthly_Data'!$B$5:$B$600,Q3,'03_Monthly_Data'!$M$5:$M$600,"OK")+COUNTIFS('03_Monthly_Data'!$A$5:$A$600,$B$2,'03_Monthly_Data'!$B$5:$B$600,Q3,'03_Monthly_Data'!$M$5:$M$600,"OK - NO RETURN DATA"))=0,"",SUMIFS('03_Monthly_Data'!$H$5:$H$600,'03_Monthly_Data'!$A$5:$A$600,$B$2,'03_Monthly_Data'!$B$5:$B$600,Q3,'03_Monthly_Data'!$M$5:$M$600,"OK")+SUMIFS('03_Monthly_Data'!$H$5:$H$600,'03_Monthly_Data'!$A$5:$A$600,$B$2,'03_Monthly_Data'!$B$5:$B$600,Q3,'03_Monthly_Data'!$M$5:$M$600,"OK - NO RETURN DATA")) -> 201500 | T3: Previous-period Year | U3: =IF(U2=1,$B$2-1,$B$2) -> 2026
A4: Net Sales | C4: Monthly Sales Target | E4: Sales Target Attainment | G4: Sales Growth | N4: March | O4: 210000 | Q4: March | R4: =IF((COUNTIFS('03_Monthly_Data'!$A$5:$A$600,$B$2,'03_Monthly_Data'!$B$5:$B$600,Q4,'03_Monthly_Data'!$M$5:$M$600,"OK")+COUNTIFS('03_Monthly_Data'!$A$5:$A$600,$B$2,'03_Monthly_Data'!$B$5:$B$600,Q4,'03_Monthly_Data'!$M$5:$M$600,"OK - NO RETURN DATA"))=0,"",SUMIFS('03_Monthly_Data'!$H$5:$H$600,'03_Monthly_Data'!$A$5:$A$600,$B$2,'03_Monthly_Data'!$B$5:$B$600,Q4,'03_Monthly_Data'!$M$5:$M$600,"OK")+SUMIFS('03_Monthly_Data'!$H$5:$H$600,'03_Monthly_Data'!$A$5:$A$600,$B$2,'03_Monthly_Data'!$B$5:$B$600,Q4,'03_Monthly_Data'!$M$5:$M$600,"OK - NO RETURN DATA")) -> 210000 | T4: Previous-period Month | U4: =INDEX($Q$2:$Q$13,IF(U2=1,12,U2-1)) -> March
A5: =IF((COUNTIFS('03_Monthly_Data'!$A$5:$A$600,$B$2,'03_Monthly_Data'!$B$5:$B$600,$E$2,'03_Monthly_Data'!$M$5:$M$600,"OK")+COUNTIFS('03_Monthly_Data'!$A$5:$A$600,$B$2,'03_Monthly_Data'!$B$5:$B$600,$E$2,'03_Monthly_Data'!$M$5:$M$600,"OK - NO RETURN DATA"))=0,"",SUMIFS('03_Monthly_Data'!$H$5:$H$600,'03_Monthly_Data'!$A$5:$A$600,$B$2,'03_Monthly_Data'!$B$5:$B$600,$E$2,'03_Monthly_Data'!$M$5:$M$600,"OK")+SUMIFS('03_Monthly_Data'!$H$5:$H$600,'03_Monthly_Data'!$A$5:$A$600,$B$2,'03_Monthly_Data'!$B$5:$B$600,$E$2,'03_Monthly_Data'!$M$5:$M$600,"OK - NO RETURN DATA")) -> 219500 | C5: =IF((COUNTIFS('03_Monthly_Data'!$A$5:$A$600,$B$2,'03_Monthly_Data'!$B$5:$B$600,$E$2,'03_Monthly_Data'!$M$5:$M$600,"OK")+COUNTIFS('03_Monthly_Data'!$A$5:$A$600,$B$2,'03_Monthly_Data'!$B$5:$B$600,$E$2,'03_Monthly_Data'!$M$5:$M$600,"OK - NO RETURN DATA"))=0,"",SUMIFS('03_Monthly_Data'!$I$5:$I$600,'03_Monthly_Data'!$A$5:$A$600,$B$2,'03_Monthly_Data'!$B$5:$B$600,$E$2,'03_Monthly_Data'!$M$5:$M$600,"OK")+SUMIFS('03_Monthly_Data'!$I$5:$I$600,'03_Monthly_Data'!$A$5:$A$600,$B$2,'03_Monthly_Data'!$B$5:$B$600,$E$2,'03_Monthly_Data'!$M$5:$M$600,"OK - NO RETURN DATA")) -> 214000 | E5: =IF(OR(A5="",C5="",C5=0),"",A5/C5) -> 1.0257009 | G5: =IF(OR(A5="",(SUMIFS('03_Monthly_Data'!$H$5:$H$600,'03_Monthly_Data'!$A$5:$A$600,$U$3,'03_Monthly_Data'!$B$5:$B$600,$U$4,'03_Monthly_Data'!$M$5:$M$600,"OK")+SUMIFS('03_Monthly_Data'!$H$5:$H$600,'03_Monthly_Data'!$A$5:$A$600,$U$3,'03_Monthly_Data'!$B$5:$B$600,$U$4,'03_Monthly_Data'!$M$5:$M$600,"OK - NO RETURN DATA"))=0),"",A5/(SUMIFS('03_Monthly_Data'!$H$5:$H$600,'03_Monthly_Data'!$A$5:$A$600,$U$3,'03_Monthly_Data'!$B$5:$B$600,$U$4,'03_Monthly_Data'!$M$5:$M$600,"OK")+SUMIFS('03_Monthly_Data'!$H$5:$H$600,'03_Monthly_Data'!$A$5:$A$600,$U$3,'03_Monthly_Data'!$B$5:$B$600,$U$4,'03_Monthly_Data'!$M$5:$M$600,"OK - NO RETURN DATA"))-1) -> 0.045238095 | N5: April | O5: 219500 | Q5: April | R5: =IF((COUNTIFS('03_Monthly_Data'!$A$5:$A$600,$B$2,'03_Monthly_Data'!$B$5:$B$600,Q5,'03_Monthly_Data'!$M$5:$M$600,"OK")+COUNTIFS('03_Monthly_Data'!$A$5:$A$600,$B$2,'03_Monthly_Data'!$B$5:$B$600,Q5,'03_Monthly_Data'!$M$5:$M$600,"OK - NO RETURN DATA"))=0,"",SUMIFS('03_Monthly_Data'!$H$5:$H$600,'03_Monthly_Data'!$A$5:$A$600,$B$2,'03_Monthly_Data'!$B$5:$B$600,Q5,'03_Monthly_Data'!$M$5:$M$600,"OK")+SUMIFS('03_Monthly_Data'!$H$5:$H$600,'03_Monthly_Data'!$A$5:$A$600,$B$2,'03_Monthly_Data'!$B$5:$B$600,Q5,'03_Monthly_Data'!$M$5:$M$600,"OK - NO RETURN DATA")) -> 219500
Q6: May | R6: =IF((COUNTIFS('03_Monthly_Data'!$A$5:$A$600,$B$2,'03_Monthly_Data'!$B$5:$B$600,Q6,'03_Monthly_Data'!$M$5:$M$600,"OK")+COUNTIFS('03_Monthly_Data'!$A$5:$A$600,$B$2,'03_Monthly_Data'!$B$5:$B$600,Q6,'03_Monthly_Data'!$M$5:$M$600,"OK - NO RETURN DATA"))=0,"",SUMIFS('03_Monthly_Data'!$H$5:$H$600,'03_Monthly_Data'!$A$5:$A$600,$B$2,'03_Monthly_Data'!$B$5:$B$600,Q6,'03_Monthly_Data'!$M$5:$M$600,"OK")+SUMIFS('03_Monthly_Data'!$H$5:$H$600,'03_Monthly_Data'!$A$5:$A$600,$B$2,'03_Monthly_Data'!$B$5:$B$600,Q6,'03_Monthly_Data'!$M$5:$M$600,"OK - NO RETURN DATA"))
Q7: June | R7: =IF((COUNTIFS('03_Monthly_Data'!$A$5:$A$600,$B$2,'03_Monthly_Data'!$B$5:$B$600,Q7,'03_Monthly_Data'!$M$5:$M$600,"OK")+COUNTIFS('03_Monthly_Data'!$A$5:$A$600,$B$2,'03_Monthly_Data'!$B$5:$B$600,Q7,'03_Monthly_Data'!$M$5:$M$600,"OK - NO RETURN DATA"))=0,"",SUMIFS('03_Monthly_Data'!$H$5:$H$600,'03_Monthly_Data'!$A$5:$A$600,$B$2,'03_Monthly_Data'!$B$5:$B$600,Q7,'03_Monthly_Data'!$M$5:$M$600,"OK")+SUMIFS('03_Monthly_Data'!$H$5:$H$600,'03_Monthly_Data'!$A$5:$A$600,$B$2,'03_Monthly_Data'!$B$5:$B$600,Q7,'03_Monthly_Data'!$M$5:$M$600,"OK - NO RETURN DATA"))
A8: Average Order Value (AOV) | C8: Units per Transaction (UPT) | E8: Return Rate | G8: Data Quality | Q8: July | R8: =IF((COUNTIFS('03_Monthly_Data'!$A$5:$A$600,$B$2,'03_Monthly_Data'!$B$5:$B$600,Q8,'03_Monthly_Data'!$M$5:$M$600,"OK")+COUNTIFS('03_Monthly_Data'!$A$5:$A$600,$B$2,'03_Monthly_Data'!$B$5:$B$600,Q8,'03_Monthly_Data'!$M$5:$M$600,"OK - NO RETURN DATA"))=0,"",SUMIFS('03_Monthly_Data'!$H$5:$H$600,'03_Monthly_Data'!$A$5:$A$600,$B$2,'03_Monthly_Data'!$B$5:$B$600,Q8,'03_Monthly_Data'!$M$5:$M$600,"OK")+SUMIFS('03_Monthly_Data'!$H$5:$H$600,'03_Monthly_Data'!$A$5:$A$600,$B$2,'03_Monthly_Data'!$B$5:$B$600,Q8,'03_Monthly_Data'!$M$5:$M$600,"OK - NO RETURN DATA"))
A9: =IF((SUMIFS('03_Monthly_Data'!$J$5:$J$600,'03_Monthly_Data'!$A$5:$A$600,$B$2,'03_Monthly_Data'!$B$5:$B$600,$E$2,'03_Monthly_Data'!$M$5:$M$600,"OK")+SUMIFS('03_Monthly_Data'!$J$5:$J$600,'03_Monthly_Data'!$A$5:$A$600,$B$2,'03_Monthly_Data'!$B$5:$B$600,$E$2,'03_Monthly_Data'!$M$5:$M$600,"OK - NO RETURN DATA"))=0,"",A5/(SUMIFS('03_Monthly_Data'!$J$5:$J$600,'03_Monthly_Data'!$A$5:$A$600,$B$2,'03_Monthly_Data'!$B$5:$B$600,$E$2,'03_Monthly_Data'!$M$5:$M$600,"OK")+SUMIFS('03_Monthly_Data'!$J$5:$J$600,'03_Monthly_Data'!$A$5:$A$600,$B$2,'03_Monthly_Data'!$B$5:$B$600,$E$2,'03_Monthly_Data'!$M$5:$M$600,"OK - NO RETURN DATA"))) -> 46.308017 | C9: =IF((SUMIFS('03_Monthly_Data'!$J$5:$J$600,'03_Monthly_Data'!$A$5:$A$600,$B$2,'03_Monthly_Data'!$B$5:$B$600,$E$2,'03_Monthly_Data'!$M$5:$M$600,"OK")+SUMIFS('03_Monthly_Data'!$J$5:$J$600,'03_Monthly_Data'!$A$5:$A$600,$B$2,'03_Monthly_Data'!$B$5:$B$600,$E$2,'03_Monthly_Data'!$M$5:$M$600,"OK - NO RETURN DATA"))=0,"",(SUMIFS('03_Monthly_Data'!$K$5:$K$600,'03_Monthly_Data'!$A$5:$A$600,$B$2,'03_Monthly_Data'!$B$5:$B$600,$E$2,'03_Monthly_Data'!$M$5:$M$600,"OK")+SUMIFS('03_Monthly_Data'!$K$5:$K$600,'03_Monthly_Data'!$A$5:$A$600,$B$2,'03_Monthly_Data'!$B$5:$B$600,$E$2,'03_Monthly_Data'!$M$5:$M$600,"OK - NO RETURN DATA"))/(SUMIFS('03_Monthly_Data'!$J$5:$J$600,'03_Monthly_Data'!$A$5:$A$600,$B$2,'03_Monthly_Data'!$B$5:$B$600,$E$2,'03_Monthly_Data'!$M$5:$M$600,"OK")+SUMIFS('03_Monthly_Data'!$J$5:$J$600,'03_Monthly_Data'!$A$5:$A$600,$B$2,'03_Monthly_Data'!$B$5:$B$600,$E$2,'03_Monthly_Data'!$M$5:$M$600,"OK - NO RETURN DATA"))) -> 1.5506329 | E9: =IF(OR((COUNTIFS('03_Monthly_Data'!$A$5:$A$600,$B$2,'03_Monthly_Data'!$B$5:$B$600,$E$2,'03_Monthly_Data'!$M$5:$M$600,"OK")+COUNTIFS('03_Monthly_Data'!$A$5:$A$600,$B$2,'03_Monthly_Data'!$B$5:$B$600,$E$2,'03_Monthly_Data'!$M$5:$M$600,"OK - NO RETURN DATA"))=0,COUNTIFS('03_Monthly_Data'!$A$5:$A$600,$B$2,'03_Monthly_Data'!$B$5:$B$600,$E$2,'03_Monthly_Data'!$M$5:$M$600,"OK - NO RETURN DATA")>0,(SUMIFS('03_Monthly_Data'!$K$5:$K$600,'03_Monthly_Data'!$A$5:$A$600,$B$2,'03_Monthly_Data'!$B$5:$B$600,$E$2,'03_Monthly_Data'!$M$5:$M$600,"OK")+SUMIFS('03_Monthly_Data'!$K$5:$K$600,'03_Monthly_Data'!$A$5:$A$600,$B$2,'03_Monthly_Data'!$B$5:$B$600,$E$2,'03_Monthly_Data'!$M$5:$M$600,"OK - NO RETURN DATA"))=0),"",(SUMIFS('03_Monthly_Data'!$L$5:$L$600,'03_Monthly_Data'!$A$5:$A$600,$B$2,'03_Monthly_Data'!$B$5:$B$600,$E$2,'03_Monthly_Data'!$M$5:$M$600,"OK")+SUMIFS('03_Monthly_Data'!$L$5:$L$600,'03_Monthly_Data'!$A$5:$A$600,$B$2,'03_Monthly_Data'!$B$5:$B$600,$E$2,'03_Monthly_Data'!$M$5:$M$600,"OK - NO RETURN DATA"))/(SUMIFS('03_Monthly_Data'!$K$5:$K$600,'03_Monthly_Data'!$A$5:$A$600,$B$2,'03_Monthly_Data'!$B$5:$B$600,$E$2,'03_Monthly_Data'!$M$5:$M$600,"OK")+SUMIFS('03_Monthly_Data'!$K$5:$K$600,'03_Monthly_Data'!$A$5:$A$600,$B$2,'03_Monthly_Data'!$B$5:$B$600,$E$2,'03_Monthly_Data'!$M$5:$M$600,"OK - NO RETURN DATA"))) -> 0.018095238 | G9: =IF((COUNTIFS('03_Monthly_Data'!$A$5:$A$600,$B$2,'03_Monthly_Data'!$B$5:$B$600,$E$2,'03_Monthly_Data'!$M$5:$M$600,"MISSING REQUIRED")+COUNTIFS('03_Monthly_Data'!$A$5:$A$600,$B$2,'03_Monthly_Data'!$B$5:$B$600,$E$2,'03_Monthly_Data'!$M$5:$M$600,"REVIEW DATA")+COUNTIFS('03_Monthly_Data'!$A$5:$A$600,$B$2,'03_Monthly_Data'!$B$5:$B$600,$E$2,'03_Monthly_Data'!$M$5:$M$600,"REVIEW DUPLICATE"))>0,"REVIEW "&(COUNTIFS('03_Monthly_Data'!$A$5:$A$600,$B$2,'03_Monthly_Data'!$B$5:$B$600,$E$2,'03_Monthly_Data'!$M$5:$M$600,"MISSING REQUIRED")+COUNTIFS('03_Monthly_Data'!$A$5:$A$600,$B$2,'03_Monthly_Data'!$B$5:$B$600,$E$2,'03_Monthly_Data'!$M$5:$M$600,"REVIEW DATA")+COUNTIFS('03_Monthly_Data'!$A$5:$A$600,$B$2,'03_Monthly_Data'!$B$5:$B$600,$E$2,'03_Monthly_Data'!$M$5:$M$600,"REVIEW DUPLICATE"))&" ROW(S) IN MONTHLY DATA",IF((COUNTIFS('03_Monthly_Data'!$A$5:$A$600,$B$2,'03_Monthly_Data'!$B$5:$B$600,$E$2,'03_Monthly_Data'!$M$5:$M$600,"OK")+COUNTIFS('03_Monthly_Data'!$A$5:$A$600,$B$2,'03_Monthly_Data'!$B$5:$B$600,$E$2,'03_Monthly_Data'!$M$5:$M$600,"OK - NO RETURN DATA"))=0,"NO VALID DATA FOR SELECTED PERIOD",IF(COUNTIFS('03_Monthly_Data'!$A$5:$A$600,$B$2,'03_Monthly_Data'!$B$5:$B$600,$E$2,'03_Monthly_Data'!$M$5:$M$600,"OK - NO RETURN DATA")>0,"RETURN RATE INCOMPLETE - ADD UNITS RETURNED","OK"))) -> OK | Q9: August | R9: =IF((COUNTIFS('03_Monthly_Data'!$A$5:$A$600,$B$2,'03_Monthly_Data'!$B$5:$B$600,Q9,'03_Monthly_Data'!$M$5:$M$600,"OK")+COUNTIFS('03_Monthly_Data'!$A$5:$A$600,$B$2,'03_Monthly_Data'!$B$5:$B$600,Q9,'03_Monthly_Data'!$M$5:$M$600,"OK - NO RETURN DATA"))=0,"",SUMIFS('03_Monthly_Data'!$H$5:$H$600,'03_Monthly_Data'!$A$5:$A$600,$B$2,'03_Monthly_Data'!$B$5:$B$600,Q9,'03_Monthly_Data'!$M$5:$M$600,"OK")+SUMIFS('03_Monthly_Data'!$H$5:$H$600,'03_Monthly_Data'!$A$5:$A$600,$B$2,'03_Monthly_Data'!$B$5:$B$600,Q9,'03_Monthly_Data'!$M$5:$M$600,"OK - NO RETURN DATA"))
Q10: September | R10: =IF((COUNTIFS('03_Monthly_Data'!$A$5:$A$600,$B$2,'03_Monthly_Data'!$B$5:$B$600,Q10,'03_Monthly_Data'!$M$5:$M$600,"OK")+COUNTIFS('03_Monthly_Data'!$A$5:$A$600,$B$2,'03_Monthly_Data'!$B$5:$B$600,Q10,'03_Monthly_Data'!$M$5:$M$600,"OK - NO RETURN DATA"))=0,"",SUMIFS('03_Monthly_Data'!$H$5:$H$600,'03_Monthly_Data'!$A$5:$A$600,$B$2,'03_Monthly_Data'!$B$5:$B$600,Q10,'03_Monthly_Data'!$M$5:$M$600,"OK")+SUMIFS('03_Monthly_Data'!$H$5:$H$600,'03_Monthly_Data'!$A$5:$A$600,$B$2,'03_Monthly_Data'!$B$5:$B$600,Q10,'03_Monthly_Data'!$M$5:$M$600,"OK - NO RETURN DATA"))
A11: Monthly Sales Trend — only valid records are included; blank months mean no valid data. | Q11: October | R11: =IF((COUNTIFS('03_Monthly_Data'!$A$5:$A$600,$B$2,'03_Monthly_Data'!$B$5:$B$600,Q11,'03_Monthly_Data'!$M$5:$M$600,"OK")+COUNTIFS('03_Monthly_Data'!$A$5:$A$600,$B$2,'03_Monthly_Data'!$B$5:$B$600,Q11,'03_Monthly_Data'!$M$5:$M$600,"OK - NO RETURN DATA"))=0,"",SUMIFS('03_Monthly_Data'!$H$5:$H$600,'03_Monthly_Data'!$A$5:$A$600,$B$2,'03_Monthly_Data'!$B$5:$B$600,Q11,'03_Monthly_Data'!$M$5:$M$600,"OK")+SUMIFS('03_Monthly_Data'!$H$5:$H$600,'03_Monthly_Data'!$A$5:$A$600,$B$2,'03_Monthly_Data'!$B$5:$B$600,Q11,'03_Monthly_Data'!$M$5:$M$600,"OK - NO RETURN DATA"))
A12: Monthly Sales Trend | Q12: November | R12: =IF((COUNTIFS('03_Monthly_Data'!$A$5:$A$600,$B$2,'03_Monthly_Data'!$B$5:$B$600,Q12,'03_Monthly_Data'!$M$5:$M$600,"OK")+COUNTIFS('03_Monthly_Data'!$A$5:$A$600,$B$2,'03_Monthly_Data'!$B$5:$B$600,Q12,'03_Monthly_Data'!$M$5:$M$600,"OK - NO RETURN DATA"))=0,"",SUMIFS('03_Monthly_Data'!$H$5:$H$600,'03_Monthly_Data'!$A$5:$A$600,$B$2,'03_Monthly_Data'!$B$5:$B$600,Q12,'03_Monthly_Data'!$M$5:$M$600,"OK")+SUMIFS('03_Monthly_Data'!$H$5:$H$600,'03_Monthly_Data'!$A$5:$A$600,$B$2,'03_Monthly_Data'!$B$5:$B$600,Q12,'03_Monthly_Data'!$M$5:$M$600,"OK - NO RETURN DATA"))
Q13: December | R13: =IF((COUNTIFS('03_Monthly_Data'!$A$5:$A$600,$B$2,'03_Monthly_Data'!$B$5:$B$600,Q13,'03_Monthly_Data'!$M$5:$M$600,"OK")+COUNTIFS('03_Monthly_Data'!$A$5:$A$600,$B$2,'03_Monthly_Data'!$B$5:$B$600,Q13,'03_Monthly_Data'!$M$5:$M$600,"OK - NO RETURN DATA"))=0,"",SUMIFS('03_Monthly_Data'!$H$5:$H$600,'03_Monthly_Data'!$A$5:$A$600,$B$2,'03_Monthly_Data'!$B$5:$B$600,Q13,'03_Monthly_Data'!$M$5:$M$600,"OK")+SUMIFS('03_Monthly_Data'!$H$5:$H$600,'03_Monthly_Data'!$A$5:$A$600,$B$2,'03_Monthly_Data'!$B$5:$B$600,Q13,'03_Monthly_Data'!$M$5:$M$600,"OK - NO RETURN DATA"))

Sheet 05_Store_Summary
A1: Monthly Detail by Store / Location
A2: Selected Year | B2: ='04_Monthly_Summary'!B2 -> 2026 | D2: Selected Month | E2: ='04_Monthly_Summary'!E2 -> April | G2: Period comes from 04_Monthly_Summary. Only valid rows are shown. This basic detail view displays up to 65 matching records; duplicate source combinations must be corrected in 03_Monthly_Data.
A4: Channel | B4: City | C4: Store / Location | D4: Net Sales | E4: Monthly Sales Target | F4: Sales Target Attainment | G4: Orders | H4: Average Order Value (AOV) | I4: Units Sold | J4: UPT | K4: Units Returned | L4: Return Rate
A5: {=_xlfn._xlws.FILTER('03_Monthly_Data'!C$5:C$600,(('03_Monthly_Data'!$A$5:$A$600=$B$2)*('03_Monthly_Data'!$B$5:$B$600=$E$2)*(('03_Monthly_Data'!$M$5:$M$600="OK")+('03_Monthly_Data'!$M$5:$M$600="OK - NO RETURN DATA"))),"")} -> Retail Store | B5: {=_xlfn._xlws.FILTER('03_Monthly_Data'!D$5:D$600,(('03_Monthly_Data'!$A$5:$A$600=$B$2)*('03_Monthly_Data'!$B$5:$B$600=$E$2)*(('03_Monthly_Data'!$M$5:$M$600="OK")+('03_Monthly_Data'!$M$5:$M$600="OK - NO RETURN DATA"))),"")} -> New York | C5: {=_xlfn._xlws.FILTER('03_Monthly_Data'!E$5:E$600,(('03_Monthly_Data'!$A$5:$A$600=$B$2)*('03_Monthly_Data'!$B$5:$B$600=$E$2)*(('03_Monthly_Data'!$M$5:$M$600="OK")+('03_Monthly_Data'!$M$5:$M$600="OK - NO RETURN DATA"))),"")} -> SoHo | D5: {=_xlfn._xlws.FILTER('03_Monthly_Data'!H$5:H$600,(('03_Monthly_Data'!$A$5:$A$600=$B$2)*('03_Monthly_Data'!$B$5:$B$600=$E$2)*(('03_Monthly_Data'!$M$5:$M$600="OK")+('03_Monthly_Data'!$M$5:$M$600="OK - NO RETURN DATA"))),"")} -> 60000 | E5: {=_xlfn._xlws.FILTER('03_Monthly_Data'!I$5:I$600,(('03_Monthly_Data'!$A$5:$A$600=$B$2)*('03_Monthly_Data'!$B$5:$B$600=$E$2)*(('03_Monthly_Data'!$M$5:$M$600="OK")+('03_Monthly_Data'!$M$5:$M$600="OK - NO RETURN DATA"))),"")} -> 58000 | F5: =IF(OR(D5="",E5="",E5=0),"",D5/E5) -> 1.0344828 | G5: {=_xlfn._xlws.FILTER('03_Monthly_Data'!J$5:J$600,(('03_Monthly_Data'!$A$5:$A$600=$B$2)*('03_Monthly_Data'!$B$5:$B$600=$E$2)*(('03_Monthly_Data'!$M$5:$M$600="OK")+('03_Monthly_Data'!$M$5:$M$600="OK - NO RETURN DATA"))),"")} -> 1220 | H5: =IF(OR(D5="",G5="",G5=0),"",D5/G5) -> 49.180328 | I5: {=_xlfn._xlws.FILTER('03_Monthly_Data'!K$5:K$600,(('03_Monthly_Data'!$A$5:$A$600=$B$2)*('03_Monthly_Data'!$B$5:$B$600=$E$2)*(('03_Monthly_Data'!$M$5:$M$600="OK")+('03_Monthly_Data'!$M$5:$M$600="OK - NO RETURN DATA"))),"")} -> 1950 | J5: =IF(OR(I5="",G5="",G5=0),"",I5/G5) -> 1.5983607 | K5: {=_xlfn._xlws.FILTER('03_Monthly_Data'!L$5:L$600,(('03_Monthly_Data'!$A$5:$A$600=$B$2)*('03_Monthly_Data'!$B$5:$B$600=$E$2)*(('03_Monthly_Data'!$M$5:$M$600="OK")+('03_Monthly_Data'!$M$5:$M$600="OK - NO RETURN DATA"))),"")} -> 37 | L5: =IF(OR(K5="",I5="",I5=0),"",K5/I5) -> 0.018974359
A6: Retail Store | B6: New York | C6: Brooklyn | D6: 46000 | E6: 45000 | F6: =IF(OR(D6="",E6="",E6=0),"",D6/E6) -> 1.0222222 | G6: 1000 | H6: =IF(OR(D6="",G6="",G6=0),"",D6/G6) -> 46 | I6: 1555 | J6: =IF(OR(I6="",G6="",G6=0),"",I6/G6) -> 1.555 | K6: 29 | L6: =IF(OR(K6="",I6="",I6=0),"",K6/I6) -> 0.018649518
A7: Retail Store | B7: Chicago | C7: The Loop | D7: 41500 | E7: 41000 | F7: =IF(OR(D7="",E7="",E7=0),"",D7/E7) -> 1.0121951 | G7: 910 | H7: =IF(OR(D7="",G7="",G7=0),"",D7/G7) -> 45.604396 | I7: 1400 | J7: =IF(OR(I7="",G7="",G7=0),"",I7/G7) -> 1.5384615 | K7: 25 | L7: =IF(OR(K7="",I7="",I7=0),"",K7/I7) -> 0.017857143
A8: Retail Store | B8: Austin | C8: Downtown | D8: 39000 | E8: 38000 | F8: =IF(OR(D8="",E8="",E8=0),"",D8/E8) -> 1.0263158 | G8: 860 | H8: =IF(OR(D8="",G8="",G8=0),"",D8/G8) -> 45.348837 | I8: 1320 | J8: =IF(OR(I8="",G8="",G8=0),"",I8/G8) -> 1.5348837 | K8: 22 | L8: =IF(OR(K8="",I8="",I8=0),"",K8/I8) -> 0.016666667
A9: Retail Store | B9: Seattle | C9: Capitol Hill | D9: 33000 | E9: 32000 | F9: =IF(OR(D9="",E9="",E9=0),"",D9/E9) -> 1.03125 | G9: 750 | H9: =IF(OR(D9="",G9="",G9=0),"",D9/G9) -> 44 | I9: 1125 | J9: =IF(OR(I9="",G9="",G9=0),"",I9/G9) -> 1.5 | K9: 20 | L9: =IF(OR(K9="",I9="",I9=0),"",K9/I9) -> 0.017777778
F10: =IF(OR(D10="",E10="",E10=0),"",D10/E10) | H10: =IF(OR(D10="",G10="",G10=0),"",D10/G10) | J10: =IF(OR(I10="",G10="",G10=0),"",I10/G10) | L10: =IF(OR(K10="",I10="",I10=0),"",K10/I10)
F11: =IF(OR(D11="",E11="",E11=0),"",D11/E11) | H11: =IF(OR(D11="",G11="",G11=0),"",D11/G11) | J11: =IF(OR(I11="",G11="",G11=0),"",I11/G11) | L11: =IF(OR(K11="",I11="",I11=0),"",K11/I11)
F12: =IF(OR(D12="",E12="",E12=0),"",D12/E12) | H12: =IF(OR(D12="",G12="",G12=0),"",D12/G12) | J12: =IF(OR(I12="",G12="",G12=0),"",I12/G12) | L12: =IF(OR(K12="",I12="",I12=0),"",K12/I12)
F13: =IF(OR(D13="",E13="",E13=0),"",D13/E13) | H13: =IF(OR(D13="",G13="",G13=0),"",D13/G13) | J13: =IF(OR(I13="",G13="",G13=0),"",I13/G13) | L13: =IF(OR(K13="",I13="",I13=0),"",K13/I13)
F14: =IF(OR(D14="",E14="",E14=0),"",D14/E14) | H14: =IF(OR(D14="",G14="",G14=0),"",D14/G14) | J14: =IF(OR(I14="",G14="",G14=0),"",I14/G14) | L14: =IF(OR(K14="",I14="",I14=0),"",K14/I14)
F15: =IF(OR(D15="",E15="",E15=0),"",D15/E15) | H15: =IF(OR(D15="",G15="",G15=0),"",D15/G15) | J15: =IF(OR(I15="",G15="",G15=0),"",I15/G15) | L15: =IF(OR(K15="",I15="",I15=0),"",K15/I15)
F16: =IF(OR(D16="",E16="",E16=0),"",D16/E16) | H16: =IF(OR(D16="",G16="",G16=0),"",D16/G16) | J16: =IF(OR(I16="",G16="",G16=0),"",I16/G16) | L16: =IF(OR(K16="",I16="",I16=0),"",K16/I16)
F17: =IF(OR(D17="",E17="",E17=0),"",D17/E17) | H17: =IF(OR(D17="",G17="",G17=0),"",D17/G17) | J17: =IF(OR(I17="",G17="",G17=0),"",I17/G17) | L17: =IF(OR(K17="",I17="",I17=0),"",K17/I17)
F18: =IF(OR(D18="",E18="",E18=0),"",D18/E18) | H18: =IF(OR(D18="",G18="",G18=0),"",D18/G18) | J18: =IF(OR(I18="",G18="",G18=0),"",I18/G18) | L18: =IF(OR(K18="",I18="",I18=0),"",K18/I18)
F19: =IF(OR(D19="",E19="",E19=0),"",D19/E19) | H19: =IF(OR(D19="",G19="",G19=0),"",D19/G19) | J19: =IF(OR(I19="",G19="",G19=0),"",I19/G19) | L19: =IF(OR(K19="",I19="",I19=0),"",K19/I19)
F20: =IF(OR(D20="",E20="",E20=0),"",D20/E20) | H20: =IF(OR(D20="",G20="",G20=0),"",D20/G20) | J20: =IF(OR(I20="",G20="",G20=0),"",I20/G20) | L20: =IF(OR(K20="",I20="",I20=0),"",K20/I20)
F21: =IF(OR(D21="",E21="",E21=0),"",D21/E21) | H21: =IF(OR(D21="",G21="",G21=0),"",D21/G21) | J21: =IF(OR(I21="",G21="",G21=0),"",I21/G21) | L21: =IF(OR(K21="",I21="",I21=0),"",K21/I21)
... F69: =IF(OR(D69="",E69="",E69=0),"",D69/E69) | H69: =IF(OR(D69="",G69="",G69=0),"",D69/G69) | J69: =IF(OR(I69="",G69="",G69=0),"",I69/G69) | L69: =IF(OR(K69="",I69="",I69=0),"",K69/I69)

Sheet 06_Sales_Rep_Summary
A1: Monthly Detail by Sales Rep
A2: Selected Year | B2: ='04_Monthly_Summary'!B2 -> 2026 | D2: Selected Month | E2: ='04_Monthly_Summary'!E2 -> April | G2: Period comes from 04_Monthly_Summary. Only valid rows are shown. This basic detail view displays up to 65 matching records; duplicate source combinations must be corrected in 03_Monthly_Data.
A4: Channel | B4: City | C4: Sales Rep | D4: Net Sales | E4: Monthly Sales Target | F4: Sales Target Attainment | G4: Orders | H4: Average Order Value (AOV) | I4: Units Sold | J4: UPT | K4: Units Returned | L4: Return Rate
A5: {=_xlfn._xlws.FILTER('03_Monthly_Data'!C$5:C$600,(('03_Monthly_Data'!$A$5:$A$600=$B$2)*('03_Monthly_Data'!$B$5:$B$600=$E$2)*(('03_Monthly_Data'!$M$5:$M$600="OK")+('03_Monthly_Data'!$M$5:$M$600="OK - NO RETURN DATA"))),"")} -> Retail Store | B5: {=_xlfn._xlws.FILTER('03_Monthly_Data'!D$5:D$600,(('03_Monthly_Data'!$A$5:$A$600=$B$2)*('03_Monthly_Data'!$B$5:$B$600=$E$2)*(('03_Monthly_Data'!$M$5:$M$600="OK")+('03_Monthly_Data'!$M$5:$M$600="OK - NO RETURN DATA"))),"")} -> New York | C5: {=_xlfn._xlws.FILTER('03_Monthly_Data'!G$5:G$600,(('03_Monthly_Data'!$A$5:$A$600=$B$2)*('03_Monthly_Data'!$B$5:$B$600=$E$2)*(('03_Monthly_Data'!$M$5:$M$600="OK")+('03_Monthly_Data'!$M$5:$M$600="OK - NO RETURN DATA"))),"")} -> Olivia Carter | D5: {=_xlfn._xlws.FILTER('03_Monthly_Data'!H$5:H$600,(('03_Monthly_Data'!$A$5:$A$600=$B$2)*('03_Monthly_Data'!$B$5:$B$600=$E$2)*(('03_Monthly_Data'!$M$5:$M$600="OK")+('03_Monthly_Data'!$M$5:$M$600="OK - NO RETURN DATA"))),"")} -> 60000 | E5: {=_xlfn._xlws.FILTER('03_Monthly_Data'!I$5:I$600,(('03_Monthly_Data'!$A$5:$A$600=$B$2)*('03_Monthly_Data'!$B$5:$B$600=$E$2)*(('03_Monthly_Data'!$M$5:$M$600="OK")+('03_Monthly_Data'!$M$5:$M$600="OK - NO RETURN DATA"))),"")} -> 58000 | F5: =IF(OR(D5="",E5="",E5=0),"",D5/E5) -> 1.0344828 | G5: {=_xlfn._xlws.FILTER('03_Monthly_Data'!J$5:J$600,(('03_Monthly_Data'!$A$5:$A$600=$B$2)*('03_Monthly_Data'!$B$5:$B$600=$E$2)*(('03_Monthly_Data'!$M$5:$M$600="OK")+('03_Monthly_Data'!$M$5:$M$600="OK - NO RETURN DATA"))),"")} -> 1220 | H5: =IF(OR(D5="",G5="",G5=0),"",D5/G5) -> 49.180328 | I5: {=_xlfn._xlws.FILTER('03_Monthly_Data'!K$5:K$600,(('03_Monthly_Data'!$A$5:$A$600=$B$2)*('03_Monthly_Data'!$B$5:$B$600=$E$2)*(('03_Monthly_Data'!$M$5:$M$600="OK")+('03_Monthly_Data'!$M$5:$M$600="OK - NO RETURN DATA"))),"")} -> 1950 | J5: =IF(OR(I5="",G5="",G5=0),"",I5/G5) -> 1.5983607 | K5: {=_xlfn._xlws.FILTER('03_Monthly_Data'!L$5:L$600,(('03_Monthly_Data'!$A$5:$A$600=$B$2)*('03_Monthly_Data'!$B$5:$B$600=$E$2)*(('03_Monthly_Data'!$M$5:$M$600="OK")+('03_Monthly_Data'!$M$5:$M$600="OK - NO RETURN DATA"))),"")} -> 37 | L5: =IF(OR(K5="",I5="",I5=0),"",K5/I5) -> 0.018974359
A6: Retail Store | B6: New York | C6: Ethan Miller | D6: 46000 | E6: 45000 | F6: =IF(OR(D6="",E6="",E6=0),"",D6/E6) -> 1.0222222 | G6: 1000 | H6: =IF(OR(D6="",G6="",G6=0),"",D6/G6) -> 46 | I6: 1555 | J6: =IF(OR(I6="",G6="",G6=0),"",I6/G6) -> 1.555 | K6: 29 | L6: =IF(OR(K6="",I6="",I6=0),"",K6/I6) -> 0.018649518
A7: Retail Store | B7: Chicago | C7: Mia Johnson | D7: 41500 | E7: 41000 | F7: =IF(OR(D7="",E7="",E7=0),"",D7/E7) -> 1.0121951 | G7: 910 | H7: =IF(OR(D7="",G7="",G7=0),"",D7/G7) -> 45.604396 | I7: 1400 | J7: =IF(OR(I7="",G7="",G7=0),"",I7/G7) -> 1.5384615 | K7: 25 | L7: =IF(OR(K7="",I7="",I7=0),"",K7/I7) -> 0.017857143
A8: Retail Store | B8: Austin | C8: Noah Davis | D8: 39000 | E8: 38000 | F8: =IF(OR(D8="",E8="",E8=0),"",D8/E8) -> 1.0263158 | G8: 860 | H8: =IF(OR(D8="",G8="",G8=0),"",D8/G8) -> 45.348837 | I8: 1320 | J8: =IF(OR(I8="",G8="",G8=0),"",I8/G8) -> 1.5348837 | K8: 22 | L8: =IF(OR(K8="",I8="",I8=0),"",K8/I8) -> 0.016666667
A9: Retail Store | B9: Seattle | C9: Emma Wilson | D9: 33000 | E9: 32000 | F9: =IF(OR(D9="",E9="",E9=0),"",D9/E9) -> 1.03125 | G9: 750 | H9: =IF(OR(D9="",G9="",G9=0),"",D9/G9) -> 44 | I9: 1125 | J9: =IF(OR(I9="",G9="",G9=0),"",I9/G9) -> 1.5 | K9: 20 | L9: =IF(OR(K9="",I9="",I9=0),"",K9/I9) -> 0.017777778
F10: =IF(OR(D10="",E10="",E10=0),"",D10/E10) | H10: =IF(OR(D10="",G10="",G10=0),"",D10/G10) | J10: =IF(OR(I10="",G10="",G10=0),"",I10/G10) | L10: =IF(OR(K10="",I10="",I10=0),"",K10/I10)
F11: =IF(OR(D11="",E11="",E11=0),"",D11/E11) | H11: =IF(OR(D11="",G11="",G11=0),"",D11/G11) | J11: =IF(OR(I11="",G11="",G11=0),"",I11/G11) | L11: =IF(OR(K11="",I11="",I11=0),"",K11/I11)
F12: =IF(OR(D12="",E12="",E12=0),"",D12/E12) | H12: =IF(OR(D12="",G12="",G12=0),"",D12/G12) | J12: =IF(OR(I12="",G12="",G12=0),"",I12/G12) | L12: =IF(OR(K12="",I12="",I12=0),"",K12/I12)
F13: =IF(OR(D13="",E13="",E13=0),"",D13/E13) | H13: =IF(OR(D13="",G13="",G13=0),"",D13/G13) | J13: =IF(OR(I13="",G13="",G13=0),"",I13/G13) | L13: =IF(OR(K13="",I13="",I13=0),"",K13/I13)
F14: =IF(OR(D14="",E14="",E14=0),"",D14/E14) | H14: =IF(OR(D14="",G14="",G14=0),"",D14/G14) | J14: =IF(OR(I14="",G14="",G14=0),"",I14/G14) | L14: =IF(OR(K14="",I14="",I14=0),"",K14/I14)
F15: =IF(OR(D15="",E15="",E15=0),"",D15/E15) | H15: =IF(OR(D15="",G15="",G15=0),"",D15/G15) | J15: =IF(OR(I15="",G15="",G15=0),"",I15/G15) | L15: =IF(OR(K15="",I15="",I15=0),"",K15/I15)
F16: =IF(OR(D16="",E16="",E16=0),"",D16/E16) | H16: =IF(OR(D16="",G16="",G16=0),"",D16/G16) | J16: =IF(OR(I16="",G16="",G16=0),"",I16/G16) | L16: =IF(OR(K16="",I16="",I16=0),"",K16/I16)
F17: =IF(OR(D17="",E17="",E17=0),"",D17/E17) | H17: =IF(OR(D17="",G17="",G17=0),"",D17/G17) | J17: =IF(OR(I17="",G17="",G17=0),"",I17/G17) | L17: =IF(OR(K17="",I17="",I17=0),"",K17/I17)
F18: =IF(OR(D18="",E18="",E18=0),"",D18/E18) | H18: =IF(OR(D18="",G18="",G18=0),"",D18/G18) | J18: =IF(OR(I18="",G18="",G18=0),"",I18/G18) | L18: =IF(OR(K18="",I18="",I18=0),"",K18/I18)
F19: =IF(OR(D19="",E19="",E19=0),"",D19/E19) | H19: =IF(OR(D19="",G19="",G19=0),"",D19/G19) | J19: =IF(OR(I19="",G19="",G19=0),"",I19/G19) | L19: =IF(OR(K19="",I19="",I19=0),"",K19/I19)
F20: =IF(OR(D20="",E20="",E20=0),"",D20/E20) | H20: =IF(OR(D20="",G20="",G20=0),"",D20/G20) | J20: =IF(OR(I20="",G20="",G20=0),"",I20/G20) | L20: =IF(OR(K20="",I20="",I20=0),"",K20/I20)
F21: =IF(OR(D21="",E21="",E21=0),"",D21/E21) | H21: =IF(OR(D21="",G21="",G21=0),"",D21/G21) | J21: =IF(OR(I21="",G21="",G21=0),"",I21/G21) | L21: =IF(OR(K21="",I21="",I21=0),"",K21/I21)
... F69: =IF(OR(D69="",E69="",E69=0),"",D69/E69) | H69: =IF(OR(D69="",G69="",G69=0),"",D69/G69) | J69: =IF(OR(I69="",G69="",G69=0),"",I69/G69) | L69: =IF(OR(K69="",I69="",I69=0),"",K69/I69)
